BEGIN:VCALENDAR
VERSION:2.0
PRODID:-//Town North Presbyterian Church - ECPv6.15.20//NONSGML v1.0//EN
CALSCALE:GREGORIAN
METHOD:PUBLISH
X-ORIGINAL-URL:https://www.tnpc.org
X-WR-CALDESC:Events for Town North Presbyterian Church
REFRESH-INTERVAL;VALUE=DURATION:PT1H
X-Robots-Tag:noindex
X-PUBLISHED-TTL:PT1H
BEGIN:VTIMEZONE
TZID:America/Chicago
BEGIN:DAYLIGHT
TZOFFSETFROM:-0600
TZOFFSETTO:-0500
TZNAME:CDT
DTSTART:20250309T080000
END:DAYLIGHT
BEGIN:STANDARD
TZOFFSETFROM:-0500
TZOFFSETTO:-0600
TZNAME:CST
DTSTART:20251102T070000
END:STANDARD
BEGIN:DAYLIGHT
TZOFFSETFROM:-0600
TZOFFSETTO:-0500
TZNAME:CDT
DTSTART:20260308T080000
END:DAYLIGHT
BEGIN:STANDARD
TZOFFSETFROM:-0500
TZOFFSETTO:-0600
TZNAME:CST
DTSTART:20261101T070000
END:STANDARD
BEGIN:DAYLIGHT
TZOFFSETFROM:-0600
TZOFFSETTO:-0500
TZNAME:CDT
DTSTART:20270314T080000
END:DAYLIGHT
BEGIN:STANDARD
TZOFFSETFROM:-0500
TZOFFSETTO:-0600
TZNAME:CST
DTSTART:20271107T070000
END:STANDARD
END:VTIMEZONE
BEGIN:VEVENT
DTSTART;TZID=America/Chicago:20261004T120000
DTEND;TZID=America/Chicago:20261004T133000
DTSTAMP:20260425T095637
CREATED:20260113T202158Z
LAST-MODIFIED:20260113T202158Z
UID:31613-1791115200-1791120600@www.tnpc.org
SUMMARY:Visitor Lunch
DESCRIPTION:Visitors are very welcome!
URL:https://www.tnpc.org/event/visitor-lunch-13/
LOCATION:Fellowship Hall & Kitchen
CATEGORIES:Visitor Lunch
END:VEVENT
BEGIN:VEVENT
DTSTART;VALUE=DATE:20261011
DTEND;VALUE=DATE:20261012
DTSTAMP:20260425T095637
CREATED:20260128T155320Z
LAST-MODIFIED:20260128T155320Z
UID:31704-1791676800-1791763199@www.tnpc.org
SUMMARY:Communion
DESCRIPTION:Typically served on the second and fourth Sundays of the month.
URL:https://www.tnpc.org/event/communion-19/
LOCATION:Worship Center
END:VEVENT
BEGIN:VEVENT
DTSTART;VALUE=DATE:20261025
DTEND;VALUE=DATE:20261026
DTSTAMP:20260425T095637
CREATED:20260128T155331Z
LAST-MODIFIED:20260128T155331Z
UID:31706-1792886400-1792972799@www.tnpc.org
SUMMARY:Communion
DESCRIPTION:Typically served on the second and fourth Sundays of the month.
URL:https://www.tnpc.org/event/communion-20/
LOCATION:Worship Center
END:VEVENT
END:VCALENDAR