BEGIN:VCALENDAR
VERSION:2.0
PRODID:-//Town North Presbyterian Church - ECPv6.15.20//NONSGML v1.0//EN
CALSCALE:GREGORIAN
METHOD:PUBLISH
X-WR-CALNAME:Town North Presbyterian Church
X-ORIGINAL-URL:https://www.tnpc.org
X-WR-CALDESC:Events for Town North Presbyterian Church
REFRESH-INTERVAL;VALUE=DURATION:PT1H
X-Robots-Tag:noindex
X-PUBLISHED-TTL:PT1H
BEGIN:VTIMEZONE
TZID:UTC
BEGIN:STANDARD
TZOFFSETFROM:+0000
TZOFFSETTO:+0000
TZNAME:UTC
DTSTART:20240101T000000
END:STANDARD
END:VTIMEZONE
BEGIN:VTIMEZONE
TZID:America/Chicago
BEGIN:DAYLIGHT
TZOFFSETFROM:-0600
TZOFFSETTO:-0500
TZNAME:CDT
DTSTART:20240310T080000
END:DAYLIGHT
BEGIN:STANDARD
TZOFFSETFROM:-0500
TZOFFSETTO:-0600
TZNAME:CST
DTSTART:20241103T070000
END:STANDARD
BEGIN:DAYLIGHT
TZOFFSETFROM:-0600
TZOFFSETTO:-0500
TZNAME:CDT
DTSTART:20250309T080000
END:DAYLIGHT
BEGIN:STANDARD
TZOFFSETFROM:-0500
TZOFFSETTO:-0600
TZNAME:CST
DTSTART:20251102T070000
END:STANDARD
BEGIN:DAYLIGHT
TZOFFSETFROM:-0600
TZOFFSETTO:-0500
TZNAME:CDT
DTSTART:20260308T080000
END:DAYLIGHT
BEGIN:STANDARD
TZOFFSETFROM:-0500
TZOFFSETTO:-0600
TZNAME:CST
DTSTART:20261101T070000
END:STANDARD
END:VTIMEZONE
BEGIN:VEVENT
DTSTART;TZID=UTC:20250903T190000
DTEND;TZID=UTC:20250903T200000
DTSTAMP:20260423T180627
CREATED:20250828T170824Z
LAST-MODIFIED:20250828T170824Z
UID:30841-1756926000-1756929600@www.tnpc.org
SUMMARY:Wednesday Night Prayer
DESCRIPTION:Why do we pray? — We respond to God sending his Son to redeem and adopt us. What a privilege and joy to be regarded as sons and daughters of God and called to praise and worship him\, to confess to him\, to bring our needs\, sorrows\, and griefs to him! We meet in the CE Building\, Room 202 from 7:00-8:00pm. Please join us on any Wednesday night! \n 
URL:https://www.tnpc.org/event/wednesday-night-prayer-9/
LOCATION:CE Room 202
CATEGORIES:Prayer
END:VEVENT
BEGIN:VEVENT
DTSTART;TZID=America/Chicago:20250904T190000
DTEND;TZID=America/Chicago:20250904T200000
DTSTAMP:20260423T180627
CREATED:20250731T171140Z
LAST-MODIFIED:20250731T171140Z
UID:30687-1757012400-1757016000@www.tnpc.org
SUMMARY:Men's Bible Study
DESCRIPTION:
URL:https://www.tnpc.org/event/mens-bible-study-51/
LOCATION:CE Room 202
CATEGORIES:Men's
END:VEVENT
BEGIN:VEVENT
DTSTART;TZID=America/Chicago:20250907T090000
DTEND;TZID=America/Chicago:20250907T100000
DTSTAMP:20260423T180627
CREATED:20250730T155557Z
LAST-MODIFIED:20250730T155557Z
UID:30647-1757235600-1757239200@www.tnpc.org
SUMMARY:Sunday School
DESCRIPTION:For all ages! \nin the CE Building
URL:https://www.tnpc.org/event/sunday-school-7/
LOCATION:CE Bldg
CATEGORIES:Sunday School
END:VEVENT
BEGIN:VEVENT
DTSTART;TZID=America/Chicago:20250907T103000
DTEND;TZID=America/Chicago:20250907T120000
DTSTAMP:20260423T180627
CREATED:20250522T165544Z
LAST-MODIFIED:20250522T165544Z
UID:30454-1757241000-1757246400@www.tnpc.org
SUMMARY:Worship Service
DESCRIPTION:
URL:https://www.tnpc.org/event/worship-service-9/
LOCATION:Worship Center
CATEGORIES:Service
END:VEVENT
BEGIN:VEVENT
DTSTART;TZID=America/Chicago:20250907T120000
DTEND;TZID=America/Chicago:20250907T133000
DTSTAMP:20260423T180627
CREATED:20250103T172204Z
LAST-MODIFIED:20250103T172204Z
UID:30106-1757246400-1757251800@www.tnpc.org
SUMMARY:Visitor Lunch
DESCRIPTION:
URL:https://www.tnpc.org/event/visitor-lunch-14/
LOCATION:Fellowship Hall & Kitchen
CATEGORIES:Fellowship Meal
END:VEVENT
BEGIN:VEVENT
DTSTART;TZID=America/Chicago:20250907T163000
DTEND;TZID=America/Chicago:20250907T183000
DTSTAMP:20260423T180627
CREATED:20250828T165339Z
LAST-MODIFIED:20250828T165339Z
UID:30815-1757262600-1757269800@www.tnpc.org
SUMMARY:Youth Group Meeting
DESCRIPTION:
URL:https://www.tnpc.org/event/youth-group-meeting-5/
LOCATION:CE Bldg Rm 200 & 201
CATEGORIES:Youth Ministry
END:VEVENT
BEGIN:VEVENT
DTSTART;TZID=America/Chicago:20250909T093000
DTEND;TZID=America/Chicago:20250909T230000
DTSTAMP:20260423T180627
CREATED:20250827T193811Z
LAST-MODIFIED:20250827T193811Z
UID:30773-1757410200-1757458800@www.tnpc.org
SUMMARY:Ladies' Fall Bible Study - Morning
DESCRIPTION:Judges: The Path from Chaos to Kingship by Lydia Brownback \n 
URL:https://www.tnpc.org/event/ladies-fall-bible-study-morning/
LOCATION:CE Building\, Rm 204
CATEGORIES:Bible Study,Women's Ministry
END:VEVENT
BEGIN:VEVENT
DTSTART;TZID=America/Chicago:20250909T183000
DTEND;TZID=America/Chicago:20250909T200000
DTSTAMP:20260423T180627
CREATED:20250827T193722Z
LAST-MODIFIED:20250827T193722Z
UID:30770-1757442600-1757448000@www.tnpc.org
SUMMARY:Ladies' Fall Bible Study - Evening
DESCRIPTION:Judges: The Path from Chaos to Kingship by Lydia Brownback \n 
URL:https://www.tnpc.org/event/ladies-fall-bible-study-evening/
LOCATION:CE Building\, Rm 204
CATEGORIES:Bible Study,Women's Ministry
END:VEVENT
BEGIN:VEVENT
DTSTART;TZID=UTC:20250910T190000
DTEND;TZID=UTC:20250910T200000
DTSTAMP:20260423T180627
CREATED:20250828T170842Z
LAST-MODIFIED:20250828T170842Z
UID:30843-1757530800-1757534400@www.tnpc.org
SUMMARY:Wednesday Night Prayer
DESCRIPTION:Why do we pray? — We respond to God sending his Son to redeem and adopt us. What a privilege and joy to be regarded as sons and daughters of God and called to praise and worship him\, to confess to him\, to bring our needs\, sorrows\, and griefs to him! We meet in the CE Building\, Room 202 from 7:00-8:00pm. Please join us on any Wednesday night! \n 
URL:https://www.tnpc.org/event/wednesday-night-prayer-10/
LOCATION:CE Room 202
CATEGORIES:Prayer
END:VEVENT
BEGIN:VEVENT
DTSTART;TZID=America/Chicago:20250911T190000
DTEND;TZID=America/Chicago:20250911T200000
DTSTAMP:20260423T180627
CREATED:20250731T171204Z
LAST-MODIFIED:20250731T171204Z
UID:30689-1757617200-1757620800@www.tnpc.org
SUMMARY:Men's Bible Study
DESCRIPTION:
URL:https://www.tnpc.org/event/mens-bible-study-52/
LOCATION:CE Room 202
CATEGORIES:Men's
END:VEVENT
BEGIN:VEVENT
DTSTART;TZID=America/Chicago:20250914T081500
DTEND;TZID=America/Chicago:20250914T084500
DTSTAMP:20260423T180627
CREATED:20250828T171959Z
LAST-MODIFIED:20250828T172008Z
UID:30871-1757837700-1757839500@www.tnpc.org
SUMMARY:Prayer for Worship
DESCRIPTION:Please join us to call on the Lord together asking Him to work powerfully among us in worship by His Spirit.
URL:https://www.tnpc.org/event/prayer-for-worship-19/
LOCATION:Worship Center
CATEGORIES:Prayer
END:VEVENT
BEGIN:VEVENT
DTSTART;TZID=America/Chicago:20250914T090000
DTEND;TZID=America/Chicago:20250914T100000
DTSTAMP:20260423T180627
CREATED:20250730T155620Z
LAST-MODIFIED:20250730T155620Z
UID:30649-1757840400-1757844000@www.tnpc.org
SUMMARY:Sunday School
DESCRIPTION:For all ages! \nin the CE Building
URL:https://www.tnpc.org/event/sunday-school-8/
LOCATION:CE Bldg
CATEGORIES:Sunday School
END:VEVENT
BEGIN:VEVENT
DTSTART;TZID=America/Chicago:20250914T103000
DTEND;TZID=America/Chicago:20250914T120000
DTSTAMP:20260423T180627
CREATED:20250522T165558Z
LAST-MODIFIED:20250522T165558Z
UID:30456-1757845800-1757851200@www.tnpc.org
SUMMARY:Worship Service
DESCRIPTION:
URL:https://www.tnpc.org/event/worship-service-10/
LOCATION:Worship Center
CATEGORIES:Service
END:VEVENT
BEGIN:VEVENT
DTSTART;TZID=America/Chicago:20250914T163000
DTEND;TZID=America/Chicago:20250914T180000
DTSTAMP:20260423T180627
CREATED:20250827T191941Z
LAST-MODIFIED:20250827T191941Z
UID:30750-1757867400-1757872800@www.tnpc.org
SUMMARY:Covenant Clubhouse
DESCRIPTION:Join us for catechism\, singing\, and prayer. \nFor children ages 4 – 6th grade
URL:https://www.tnpc.org/event/covenant-clubhouse-2/
LOCATION:Fellowship Hall
CATEGORIES:Children's Ministry
END:VEVENT
BEGIN:VEVENT
DTSTART;TZID=America/Chicago:20250914T163000
DTEND;TZID=America/Chicago:20250914T183000
DTSTAMP:20260423T180627
CREATED:20250828T165356Z
LAST-MODIFIED:20250828T165356Z
UID:30817-1757867400-1757874600@www.tnpc.org
SUMMARY:Youth Group Meeting
DESCRIPTION:
URL:https://www.tnpc.org/event/youth-group-meeting-6/
LOCATION:CE Bldg Rm 200 & 201
CATEGORIES:Youth Ministry
END:VEVENT
BEGIN:VEVENT
DTSTART;TZID=America/Chicago:20250916T093000
DTEND;TZID=America/Chicago:20250916T230000
DTSTAMP:20260423T180627
CREATED:20250827T193857Z
LAST-MODIFIED:20250827T193857Z
UID:30775-1758015000-1758063600@www.tnpc.org
SUMMARY:Ladies' Fall Bible Study - Morning
DESCRIPTION:Judges: The Path from Chaos to Kingship by Lydia Brownback \nCarelessness and Compromise \nJudges 1:1-3:6 \n 
URL:https://www.tnpc.org/event/ladies-fall-bible-study-morning-2/
LOCATION:CE Building\, Rm 204
CATEGORIES:Bible Study,Women's Ministry
END:VEVENT
BEGIN:VEVENT
DTSTART;TZID=America/Chicago:20250916T183000
DTEND;TZID=America/Chicago:20250916T200000
DTSTAMP:20260423T180627
CREATED:20250827T193920Z
LAST-MODIFIED:20250827T193920Z
UID:30777-1758047400-1758052800@www.tnpc.org
SUMMARY:Ladies' Fall Bible Study - Evening
DESCRIPTION:Judges: The Path from Chaos to Kingship by Lydia Brownback \nCarelessness and Compromise \nJudges 1:1-3:6 \n 
URL:https://www.tnpc.org/event/ladies-fall-bible-study-evening-2/
LOCATION:CE Building\, Rm 204
CATEGORIES:Bible Study,Women's Ministry
END:VEVENT
BEGIN:VEVENT
DTSTART;TZID=UTC:20250917T190000
DTEND;TZID=UTC:20250917T200000
DTSTAMP:20260423T180627
CREATED:20250828T170945Z
LAST-MODIFIED:20250828T170945Z
UID:30845-1758135600-1758139200@www.tnpc.org
SUMMARY:Wednesday Night Prayer
DESCRIPTION:Why do we pray? — We respond to God sending his Son to redeem and adopt us. What a privilege and joy to be regarded as sons and daughters of God and called to praise and worship him\, to confess to him\, to bring our needs\, sorrows\, and griefs to him! We meet in the CE Building\, Room 202 from 7:00-8:00pm. Please join us on any Wednesday night! \n 
URL:https://www.tnpc.org/event/wednesday-night-prayer-11/
LOCATION:CE Room 202
CATEGORIES:Prayer
END:VEVENT
BEGIN:VEVENT
DTSTART;TZID=America/Chicago:20250918T190000
DTEND;TZID=America/Chicago:20250918T200000
DTSTAMP:20260423T180627
CREATED:20250731T171230Z
LAST-MODIFIED:20250731T171230Z
UID:30691-1758222000-1758225600@www.tnpc.org
SUMMARY:Men's Bible Study
DESCRIPTION:
URL:https://www.tnpc.org/event/mens-bible-study-53/
LOCATION:CE Room 202
CATEGORIES:Men's
END:VEVENT
BEGIN:VEVENT
DTSTART;TZID=America/Chicago:20250920T080000
DTEND;TZID=America/Chicago:20250920T100000
DTSTAMP:20260423T180627
CREATED:20250828T172603Z
LAST-MODIFIED:20250828T172603Z
UID:30904-1758355200-1758362400@www.tnpc.org
SUMMARY:Men's Fellowship Breakfast
DESCRIPTION:
URL:https://www.tnpc.org/event/mens-fellowship-breakfast/
LOCATION:Fellowship Hall & Kitchen
CATEGORIES:Men's Event
END:VEVENT
BEGIN:VEVENT
DTSTART;TZID=America/Chicago:20250921T081500
DTEND;TZID=America/Chicago:20250921T084500
DTSTAMP:20260423T180627
CREATED:20250828T172017Z
LAST-MODIFIED:20250828T172017Z
UID:30874-1758442500-1758444300@www.tnpc.org
SUMMARY:Prayer for Worship
DESCRIPTION:Please join us to call on the Lord together asking Him to work powerfully among us in worship by His Spirit.
URL:https://www.tnpc.org/event/prayer-for-worship-20/
LOCATION:Worship Center
CATEGORIES:Prayer
END:VEVENT
BEGIN:VEVENT
DTSTART;TZID=America/Chicago:20250921T090000
DTEND;TZID=America/Chicago:20250921T100000
DTSTAMP:20260423T180627
CREATED:20250730T155634Z
LAST-MODIFIED:20250730T155634Z
UID:30651-1758445200-1758448800@www.tnpc.org
SUMMARY:Sunday School
DESCRIPTION:For all ages! \nin the CE Building
URL:https://www.tnpc.org/event/sunday-school-9/
LOCATION:CE Bldg
CATEGORIES:Sunday School
END:VEVENT
BEGIN:VEVENT
DTSTART;TZID=America/Chicago:20250921T103000
DTEND;TZID=America/Chicago:20250921T120000
DTSTAMP:20260423T180627
CREATED:20250522T165612Z
LAST-MODIFIED:20250522T165612Z
UID:30458-1758450600-1758456000@www.tnpc.org
SUMMARY:Worship Service
DESCRIPTION:
URL:https://www.tnpc.org/event/worship-service-11/
LOCATION:Worship Center
CATEGORIES:Service
END:VEVENT
BEGIN:VEVENT
DTSTART;TZID=America/Chicago:20250921T163000
DTEND;TZID=America/Chicago:20250921T180000
DTSTAMP:20260423T180627
CREATED:20250827T192001Z
LAST-MODIFIED:20250827T192001Z
UID:30752-1758472200-1758477600@www.tnpc.org
SUMMARY:Covenant Clubhouse
DESCRIPTION:Join us for catechism\, singing\, and prayer. \nFor children ages 4 – 6th grade
URL:https://www.tnpc.org/event/covenant-clubhouse-3/
LOCATION:Fellowship Hall
CATEGORIES:Children's Ministry
END:VEVENT
BEGIN:VEVENT
DTSTART;TZID=America/Chicago:20250921T163000
DTEND;TZID=America/Chicago:20250921T183000
DTSTAMP:20260423T180627
CREATED:20250828T165407Z
LAST-MODIFIED:20250828T165407Z
UID:30819-1758472200-1758479400@www.tnpc.org
SUMMARY:Youth Group Meeting
DESCRIPTION:
URL:https://www.tnpc.org/event/youth-group-meeting-7/
LOCATION:CE Bldg Rm 200 & 201
CATEGORIES:Youth Ministry
END:VEVENT
BEGIN:VEVENT
DTSTART;TZID=America/Chicago:20250923T093000
DTEND;TZID=America/Chicago:20250923T230000
DTSTAMP:20260423T180627
CREATED:20250827T194029Z
LAST-MODIFIED:20250827T194029Z
UID:30781-1758619800-1758668400@www.tnpc.org
SUMMARY:Ladies' Fall Bible Study - Morning
DESCRIPTION:Judges: The Path from Chaos to Kingship by Lydia Brownback \nGoing Down \nJudges 3:7-31
URL:https://www.tnpc.org/event/ladies-fall-bible-study-morning-3/
LOCATION:CE Building\, Rm 204
CATEGORIES:Bible Study,Women's Ministry
END:VEVENT
BEGIN:VEVENT
DTSTART;TZID=America/Chicago:20250923T183000
DTEND;TZID=America/Chicago:20250923T200000
DTSTAMP:20260423T180627
CREATED:20250827T193953Z
LAST-MODIFIED:20250827T193953Z
UID:30779-1758652200-1758657600@www.tnpc.org
SUMMARY:Ladies' Fall Bible Study - Evening
DESCRIPTION:Judges: The Path from Chaos to Kingship by Lydia Brownback \nGoing Down \nJudges 3:7-31
URL:https://www.tnpc.org/event/ladies-fall-bible-study-evening-3/
LOCATION:CE Building\, Rm 204
CATEGORIES:Bible Study,Women's Ministry
END:VEVENT
BEGIN:VEVENT
DTSTART;TZID=UTC:20250924T190000
DTEND;TZID=UTC:20250924T200000
DTSTAMP:20260423T180627
CREATED:20250828T171006Z
LAST-MODIFIED:20250828T171006Z
UID:30847-1758740400-1758744000@www.tnpc.org
SUMMARY:Wednesday Night Prayer
DESCRIPTION:Why do we pray? — We respond to God sending his Son to redeem and adopt us. What a privilege and joy to be regarded as sons and daughters of God and called to praise and worship him\, to confess to him\, to bring our needs\, sorrows\, and griefs to him! We meet in the CE Building\, Room 202 from 7:00-8:00pm. Please join us on any Wednesday night! \n 
URL:https://www.tnpc.org/event/wednesday-night-prayer-12/
LOCATION:CE Room 202
CATEGORIES:Prayer
END:VEVENT
BEGIN:VEVENT
DTSTART;TZID=America/Chicago:20250925T190000
DTEND;TZID=America/Chicago:20250925T200000
DTSTAMP:20260423T180627
CREATED:20250731T171251Z
LAST-MODIFIED:20250731T171251Z
UID:30693-1758826800-1758830400@www.tnpc.org
SUMMARY:Men's Bible Study
DESCRIPTION:
URL:https://www.tnpc.org/event/mens-bible-study-54/
LOCATION:CE Room 202
CATEGORIES:Men's
END:VEVENT
BEGIN:VEVENT
DTSTART;TZID=America/Chicago:20250928T081500
DTEND;TZID=America/Chicago:20250928T084500
DTSTAMP:20260423T180627
CREATED:20250828T172038Z
LAST-MODIFIED:20250828T172038Z
UID:30876-1759047300-1759049100@www.tnpc.org
SUMMARY:Prayer for Worship
DESCRIPTION:Please join us to call on the Lord together asking Him to work powerfully among us in worship by His Spirit.
URL:https://www.tnpc.org/event/prayer-for-worship-21/
LOCATION:Worship Center
CATEGORIES:Prayer
END:VEVENT
END:VCALENDAR