BEGIN:VCALENDAR
VERSION:2.0
PRODID:-//Town North Presbyterian Church - ECPv6.15.20//NONSGML v1.0//EN
CALSCALE:GREGORIAN
METHOD:PUBLISH
X-WR-CALNAME:Town North Presbyterian Church
X-ORIGINAL-URL:https://www.tnpc.org
X-WR-CALDESC:Events for Town North Presbyterian Church
REFRESH-INTERVAL;VALUE=DURATION:PT1H
X-Robots-Tag:noindex
X-PUBLISHED-TTL:PT1H
BEGIN:VTIMEZONE
TZID:America/Chicago
BEGIN:DAYLIGHT
TZOFFSETFROM:-0600
TZOFFSETTO:-0500
TZNAME:CDT
DTSTART:20240310T080000
END:DAYLIGHT
BEGIN:STANDARD
TZOFFSETFROM:-0500
TZOFFSETTO:-0600
TZNAME:CST
DTSTART:20241103T070000
END:STANDARD
BEGIN:DAYLIGHT
TZOFFSETFROM:-0600
TZOFFSETTO:-0500
TZNAME:CDT
DTSTART:20250309T080000
END:DAYLIGHT
BEGIN:STANDARD
TZOFFSETFROM:-0500
TZOFFSETTO:-0600
TZNAME:CST
DTSTART:20251102T070000
END:STANDARD
BEGIN:DAYLIGHT
TZOFFSETFROM:-0600
TZOFFSETTO:-0500
TZNAME:CDT
DTSTART:20260308T080000
END:DAYLIGHT
BEGIN:STANDARD
TZOFFSETFROM:-0500
TZOFFSETTO:-0600
TZNAME:CST
DTSTART:20261101T070000
END:STANDARD
END:VTIMEZONE
BEGIN:VTIMEZONE
TZID:UTC
BEGIN:STANDARD
TZOFFSETFROM:+0000
TZOFFSETTO:+0000
TZNAME:UTC
DTSTART:20240101T000000
END:STANDARD
END:VTIMEZONE
BEGIN:VEVENT
DTSTART;TZID=America/Chicago:20251016T190000
DTEND;TZID=America/Chicago:20251016T200000
DTSTAMP:20260423T172443
CREATED:20250731T171402Z
LAST-MODIFIED:20250731T171402Z
UID:30699-1760641200-1760644800@www.tnpc.org
SUMMARY:Men's Bible Study
DESCRIPTION:
URL:https://www.tnpc.org/event/mens-bible-study-57/
LOCATION:CE Room 202
CATEGORIES:Men's
END:VEVENT
BEGIN:VEVENT
DTSTART;TZID=UTC:20251015T190000
DTEND;TZID=UTC:20251015T200000
DTSTAMP:20260423T172443
CREATED:20250828T171102Z
LAST-MODIFIED:20250828T171102Z
UID:30853-1760554800-1760558400@www.tnpc.org
SUMMARY:Wednesday Night Prayer
DESCRIPTION:Why do we pray? — We respond to God sending his Son to redeem and adopt us. What a privilege and joy to be regarded as sons and daughters of God and called to praise and worship him\, to confess to him\, to bring our needs\, sorrows\, and griefs to him! We meet in the CE Building\, Room 202 from 7:00-8:00pm. Please join us on any Wednesday night! \n 
URL:https://www.tnpc.org/event/wednesday-night-prayer-15/
LOCATION:CE Room 202
CATEGORIES:Prayer
END:VEVENT
BEGIN:VEVENT
DTSTART;TZID=America/Chicago:20251014T183000
DTEND;TZID=America/Chicago:20251014T200000
DTSTAMP:20260423T172443
CREATED:20250827T194428Z
LAST-MODIFIED:20250827T194428Z
UID:30793-1760466600-1760472000@www.tnpc.org
SUMMARY:Ladies' Fall Bible Study - Evening
DESCRIPTION:Judges: The Path from Chaos to Kingship by Lydia Brownback \nJudges 9:1-10:5 \nA Very Bad Man (and Two Little-Known Judges)
URL:https://www.tnpc.org/event/ladies-fall-bible-study-evening-6/
LOCATION:CE Building\, Rm 204
CATEGORIES:Bible Study,Women's Ministry
END:VEVENT
BEGIN:VEVENT
DTSTART;TZID=America/Chicago:20251014T093000
DTEND;TZID=America/Chicago:20251014T110000
DTSTAMP:20260423T172443
CREATED:20250827T194403Z
LAST-MODIFIED:20250827T194404Z
UID:30791-1760434200-1760439600@www.tnpc.org
SUMMARY:Ladies' Fall Bible Study - Morning
DESCRIPTION:Judges: The Path from Chaos to Kingship by Lydia Brownback \nJudges 9:1-10:5 \nA Very Bad Man (and Two Little-Known Judges)
URL:https://www.tnpc.org/event/ladies-fall-bible-study-morning-6/
LOCATION:CE Building\, Rm 204
CATEGORIES:Bible Study,Women's Ministry
END:VEVENT
BEGIN:VEVENT
DTSTART;TZID=America/Chicago:20251012T163000
DTEND;TZID=America/Chicago:20251012T183000
DTSTAMP:20260423T172443
CREATED:20250828T165531Z
LAST-MODIFIED:20250828T165531Z
UID:30825-1760286600-1760293800@www.tnpc.org
SUMMARY:Youth Group Meeting
DESCRIPTION:
URL:https://www.tnpc.org/event/youth-group-meeting-10/
LOCATION:CE Bldg Rm 200 & 201
CATEGORIES:Youth Ministry
END:VEVENT
BEGIN:VEVENT
DTSTART;TZID=America/Chicago:20251012T103000
DTEND;TZID=America/Chicago:20251012T120000
DTSTAMP:20260423T172443
CREATED:20250522T165654Z
LAST-MODIFIED:20250522T165654Z
UID:30464-1760265000-1760270400@www.tnpc.org
SUMMARY:Worship Service
DESCRIPTION:
URL:https://www.tnpc.org/event/worship-service-14/
LOCATION:Worship Center
CATEGORIES:Service
END:VEVENT
BEGIN:VEVENT
DTSTART;TZID=America/Chicago:20251012T090000
DTEND;TZID=America/Chicago:20251012T100000
DTSTAMP:20260423T172443
CREATED:20250730T155717Z
LAST-MODIFIED:20250730T155717Z
UID:30657-1760259600-1760263200@www.tnpc.org
SUMMARY:Sunday School
DESCRIPTION:For all ages! \nin the CE Building
URL:https://www.tnpc.org/event/sunday-school-12/
LOCATION:CE Bldg
CATEGORIES:Sunday School
END:VEVENT
BEGIN:VEVENT
DTSTART;TZID=America/Chicago:20251012T081500
DTEND;TZID=America/Chicago:20251012T084500
DTSTAMP:20260423T172443
CREATED:20250828T172109Z
LAST-MODIFIED:20250828T172109Z
UID:30880-1760256900-1760258700@www.tnpc.org
SUMMARY:Prayer for Worship
DESCRIPTION:Please join us to call on the Lord together asking Him to work powerfully among us in worship by His Spirit.
URL:https://www.tnpc.org/event/prayer-for-worship-23/
LOCATION:Worship Center
CATEGORIES:Prayer
END:VEVENT
BEGIN:VEVENT
DTSTART;TZID=America/Chicago:20251009T190000
DTEND;TZID=America/Chicago:20251009T200000
DTSTAMP:20260423T172443
CREATED:20250731T171343Z
LAST-MODIFIED:20250731T171343Z
UID:30697-1760036400-1760040000@www.tnpc.org
SUMMARY:Men's Bible Study
DESCRIPTION:
URL:https://www.tnpc.org/event/mens-bible-study-56/
LOCATION:CE Room 202
CATEGORIES:Men's
END:VEVENT
BEGIN:VEVENT
DTSTART;TZID=UTC:20251008T190000
DTEND;TZID=UTC:20251008T200000
DTSTAMP:20260423T172443
CREATED:20250828T171046Z
LAST-MODIFIED:20250828T171046Z
UID:30851-1759950000-1759953600@www.tnpc.org
SUMMARY:Wednesday Night Prayer
DESCRIPTION:Why do we pray? — We respond to God sending his Son to redeem and adopt us. What a privilege and joy to be regarded as sons and daughters of God and called to praise and worship him\, to confess to him\, to bring our needs\, sorrows\, and griefs to him! We meet in the CE Building\, Room 202 from 7:00-8:00pm. Please join us on any Wednesday night! \n 
URL:https://www.tnpc.org/event/wednesday-night-prayer-14/
LOCATION:CE Room 202
CATEGORIES:Prayer
END:VEVENT
BEGIN:VEVENT
DTSTART;TZID=America/Chicago:20251007T183000
DTEND;TZID=America/Chicago:20251007T200000
DTSTAMP:20260423T172443
CREATED:20250827T194248Z
LAST-MODIFIED:20250827T194248Z
UID:30787-1759861800-1759867200@www.tnpc.org
SUMMARY:Ladies' Fall Bible Study - Evening
DESCRIPTION:Judges: The Path from Chaos to Kingship by Lydia Brownback \nJudges 6:1-8:35 \nWeak People\, Strong God
URL:https://www.tnpc.org/event/ladies-fall-bible-study-evening-5/
LOCATION:CE Building\, Rm 204
CATEGORIES:Bible Study,Women's Ministry
END:VEVENT
BEGIN:VEVENT
DTSTART;TZID=America/Chicago:20251007T180000
DTEND;TZID=America/Chicago:20251007T210000
DTSTAMP:20260423T172443
CREATED:20250917T190913Z
LAST-MODIFIED:20250917T190913Z
UID:30939-1759860000-1759870800@www.tnpc.org
SUMMARY:Session Meeting
DESCRIPTION:
URL:https://www.tnpc.org/event/session-meeting/
CATEGORIES:Session Meeting
END:VEVENT
BEGIN:VEVENT
DTSTART;TZID=America/Chicago:20251007T093000
DTEND;TZID=America/Chicago:20251007T110000
DTSTAMP:20260423T172443
CREATED:20250827T194319Z
LAST-MODIFIED:20250827T194319Z
UID:30789-1759829400-1759834800@www.tnpc.org
SUMMARY:Ladies' Fall Bible Study - Morning
DESCRIPTION:Judges: The Path from Chaos to Kingship by Lydia Brownback \nJudges 6:1-8:35 \nWeak People\, Strong God
URL:https://www.tnpc.org/event/ladies-fall-bible-study-morning-5/
LOCATION:CE Building\, Rm 204
CATEGORIES:Bible Study,Women's Ministry
END:VEVENT
BEGIN:VEVENT
DTSTART;TZID=America/Chicago:20251005T163000
DTEND;TZID=America/Chicago:20251005T183000
DTSTAMP:20260423T172443
CREATED:20250828T165449Z
LAST-MODIFIED:20250828T165449Z
UID:30823-1759681800-1759689000@www.tnpc.org
SUMMARY:Youth Group Meeting
DESCRIPTION:
URL:https://www.tnpc.org/event/youth-group-meeting-9/
LOCATION:CE Bldg Rm 200 & 201
CATEGORIES:Youth Ministry
END:VEVENT
BEGIN:VEVENT
DTSTART;TZID=America/Chicago:20251005T163000
DTEND;TZID=America/Chicago:20251005T180000
DTSTAMP:20260423T172443
CREATED:20250827T192031Z
LAST-MODIFIED:20250827T192031Z
UID:30756-1759681800-1759687200@www.tnpc.org
SUMMARY:Covenant Clubhouse
DESCRIPTION:Join us for catechism\, singing\, and prayer. \nFor children ages 4 – 6th grade
URL:https://www.tnpc.org/event/covenant-clubhouse-6/
LOCATION:Fellowship Hall
CATEGORIES:Children's Ministry
END:VEVENT
BEGIN:VEVENT
DTSTART;TZID=America/Chicago:20251005T120000
DTEND;TZID=America/Chicago:20251005T133000
DTSTAMP:20260423T172443
CREATED:20250103T172216Z
LAST-MODIFIED:20250103T172216Z
UID:30108-1759665600-1759671000@www.tnpc.org
SUMMARY:Visitor Lunch
DESCRIPTION:
URL:https://www.tnpc.org/event/visitor-lunch-15/
LOCATION:Fellowship Hall & Kitchen
CATEGORIES:Fellowship Meal
END:VEVENT
BEGIN:VEVENT
DTSTART;TZID=America/Chicago:20251005T103000
DTEND;TZID=America/Chicago:20251005T120000
DTSTAMP:20260423T172443
CREATED:20250522T165639Z
LAST-MODIFIED:20250522T165639Z
UID:30462-1759660200-1759665600@www.tnpc.org
SUMMARY:Worship Service
DESCRIPTION:
URL:https://www.tnpc.org/event/worship-service-13/
LOCATION:Worship Center
CATEGORIES:Service
END:VEVENT
BEGIN:VEVENT
DTSTART;TZID=America/Chicago:20251005T090000
DTEND;TZID=America/Chicago:20251005T100000
DTSTAMP:20260423T172443
CREATED:20250730T155702Z
LAST-MODIFIED:20250730T155702Z
UID:30655-1759654800-1759658400@www.tnpc.org
SUMMARY:Sunday School
DESCRIPTION:For all ages! \nin the CE Building
URL:https://www.tnpc.org/event/sunday-school-11/
LOCATION:CE Bldg
CATEGORIES:Sunday School
END:VEVENT
BEGIN:VEVENT
DTSTART;TZID=America/Chicago:20251005T081500
DTEND;TZID=America/Chicago:20251005T084500
DTSTAMP:20260423T172443
CREATED:20250828T172052Z
LAST-MODIFIED:20250828T172052Z
UID:30878-1759652100-1759653900@www.tnpc.org
SUMMARY:Prayer for Worship
DESCRIPTION:Please join us to call on the Lord together asking Him to work powerfully among us in worship by His Spirit.
URL:https://www.tnpc.org/event/prayer-for-worship-22/
LOCATION:Worship Center
CATEGORIES:Prayer
END:VEVENT
BEGIN:VEVENT
DTSTART;TZID=America/Chicago:20251004T100000
DTEND;TZID=America/Chicago:20251004T120000
DTSTAMP:20260423T172443
CREATED:20250905T190645Z
LAST-MODIFIED:20250905T190645Z
UID:30922-1759572000-1759579200@www.tnpc.org
SUMMARY:Creating Community - Watercolor
DESCRIPTION:
URL:https://www.tnpc.org/event/creating-community-watercolor/
LOCATION:Fellowship Hall & Kitchen
CATEGORIES:Women's Ministry
END:VEVENT
BEGIN:VEVENT
DTSTART;TZID=America/Chicago:20251002T190000
DTEND;TZID=America/Chicago:20251002T200000
DTSTAMP:20260423T172443
CREATED:20250731T171318Z
LAST-MODIFIED:20250731T171318Z
UID:30695-1759431600-1759435200@www.tnpc.org
SUMMARY:Men's Bible Study
DESCRIPTION:
URL:https://www.tnpc.org/event/mens-bible-study-55/
LOCATION:CE Room 202
CATEGORIES:Men's
END:VEVENT
BEGIN:VEVENT
DTSTART;TZID=UTC:20251001T190000
DTEND;TZID=UTC:20251001T200000
DTSTAMP:20260423T172443
CREATED:20250828T171025Z
LAST-MODIFIED:20250828T171025Z
UID:30849-1759345200-1759348800@www.tnpc.org
SUMMARY:Wednesday Night Prayer
DESCRIPTION:Why do we pray? — We respond to God sending his Son to redeem and adopt us. What a privilege and joy to be regarded as sons and daughters of God and called to praise and worship him\, to confess to him\, to bring our needs\, sorrows\, and griefs to him! We meet in the CE Building\, Room 202 from 7:00-8:00pm. Please join us on any Wednesday night! \n 
URL:https://www.tnpc.org/event/wednesday-night-prayer-13/
LOCATION:CE Room 202
CATEGORIES:Prayer
END:VEVENT
BEGIN:VEVENT
DTSTART;TZID=America/Chicago:20250930T183000
DTEND;TZID=America/Chicago:20250930T200000
DTSTAMP:20260423T172443
CREATED:20250827T194133Z
LAST-MODIFIED:20250827T194133Z
UID:30785-1759257000-1759262400@www.tnpc.org
SUMMARY:Ladies' Fall Bible Study - Evening
DESCRIPTION:Judges: The Path from Chaos to Kingship by Lydia Brownback \nJudges 4:1-5:31 \nA Tale of Two Women
URL:https://www.tnpc.org/event/ladies-fall-bible-study-evening-4/
LOCATION:CE Building\, Rm 204
CATEGORIES:Bible Study,Women's Ministry
END:VEVENT
BEGIN:VEVENT
DTSTART;TZID=America/Chicago:20250930T093000
DTEND;TZID=America/Chicago:20250930T230000
DTSTAMP:20260423T172443
CREATED:20250827T194110Z
LAST-MODIFIED:20250827T194110Z
UID:30783-1759224600-1759273200@www.tnpc.org
SUMMARY:Ladies' Fall Bible Study - Morning
DESCRIPTION:Judges: The Path from Chaos to Kingship by Lydia Brownback \nJudges 4:1-5:31 \nA Tale of Two Women
URL:https://www.tnpc.org/event/ladies-fall-bible-study-morning-4/
LOCATION:CE Building\, Rm 204
CATEGORIES:Bible Study,Women's Ministry
END:VEVENT
BEGIN:VEVENT
DTSTART;TZID=America/Chicago:20250928T163000
DTEND;TZID=America/Chicago:20250928T183000
DTSTAMP:20260423T172443
CREATED:20250828T165418Z
LAST-MODIFIED:20250828T165418Z
UID:30821-1759077000-1759084200@www.tnpc.org
SUMMARY:Youth Group Meeting
DESCRIPTION:
URL:https://www.tnpc.org/event/youth-group-meeting-8/
LOCATION:CE Bldg Rm 200 & 201
CATEGORIES:Youth Ministry
END:VEVENT
BEGIN:VEVENT
DTSTART;TZID=America/Chicago:20250928T163000
DTEND;TZID=America/Chicago:20250928T180000
DTSTAMP:20260423T172443
CREATED:20250827T192013Z
LAST-MODIFIED:20250827T192013Z
UID:30754-1759077000-1759082400@www.tnpc.org
SUMMARY:Covenant Clubhouse
DESCRIPTION:Join us for catechism\, singing\, and prayer. \nFor children ages 4 – 6th grade
URL:https://www.tnpc.org/event/covenant-clubhouse-5/
LOCATION:Fellowship Hall
CATEGORIES:Children's Ministry
END:VEVENT
BEGIN:VEVENT
DTSTART;TZID=America/Chicago:20250928T103000
DTEND;TZID=America/Chicago:20250928T120000
DTSTAMP:20260423T172443
CREATED:20250522T165625Z
LAST-MODIFIED:20250522T165625Z
UID:30460-1759055400-1759060800@www.tnpc.org
SUMMARY:Worship Service
DESCRIPTION:
URL:https://www.tnpc.org/event/worship-service-12/
LOCATION:Worship Center
CATEGORIES:Service
END:VEVENT
BEGIN:VEVENT
DTSTART;TZID=America/Chicago:20250928T090000
DTEND;TZID=America/Chicago:20250928T100000
DTSTAMP:20260423T172443
CREATED:20250730T155647Z
LAST-MODIFIED:20250730T155647Z
UID:30653-1759050000-1759053600@www.tnpc.org
SUMMARY:Sunday School
DESCRIPTION:For all ages! \nin the CE Building
URL:https://www.tnpc.org/event/sunday-school-10/
LOCATION:CE Bldg
CATEGORIES:Sunday School
END:VEVENT
BEGIN:VEVENT
DTSTART;TZID=America/Chicago:20250928T081500
DTEND;TZID=America/Chicago:20250928T084500
DTSTAMP:20260423T172443
CREATED:20250828T172038Z
LAST-MODIFIED:20250828T172038Z
UID:30876-1759047300-1759049100@www.tnpc.org
SUMMARY:Prayer for Worship
DESCRIPTION:Please join us to call on the Lord together asking Him to work powerfully among us in worship by His Spirit.
URL:https://www.tnpc.org/event/prayer-for-worship-21/
LOCATION:Worship Center
CATEGORIES:Prayer
END:VEVENT
BEGIN:VEVENT
DTSTART;TZID=America/Chicago:20250925T190000
DTEND;TZID=America/Chicago:20250925T200000
DTSTAMP:20260423T172443
CREATED:20250731T171251Z
LAST-MODIFIED:20250731T171251Z
UID:30693-1758826800-1758830400@www.tnpc.org
SUMMARY:Men's Bible Study
DESCRIPTION:
URL:https://www.tnpc.org/event/mens-bible-study-54/
LOCATION:CE Room 202
CATEGORIES:Men's
END:VEVENT
END:VCALENDAR