BEGIN:VCALENDAR
VERSION:2.0
PRODID:-//Town North Presbyterian Church - ECPv6.15.20//NONSGML v1.0//EN
CALSCALE:GREGORIAN
METHOD:PUBLISH
X-ORIGINAL-URL:https://www.tnpc.org
X-WR-CALDESC:Events for Town North Presbyterian Church
REFRESH-INTERVAL;VALUE=DURATION:PT1H
X-Robots-Tag:noindex
X-PUBLISHED-TTL:PT1H
BEGIN:VTIMEZONE
TZID:America/Chicago
BEGIN:DAYLIGHT
TZOFFSETFROM:-0600
TZOFFSETTO:-0500
TZNAME:CDT
DTSTART:20250309T080000
END:DAYLIGHT
BEGIN:STANDARD
TZOFFSETFROM:-0500
TZOFFSETTO:-0600
TZNAME:CST
DTSTART:20251102T070000
END:STANDARD
BEGIN:DAYLIGHT
TZOFFSETFROM:-0600
TZOFFSETTO:-0500
TZNAME:CDT
DTSTART:20260308T080000
END:DAYLIGHT
BEGIN:STANDARD
TZOFFSETFROM:-0500
TZOFFSETTO:-0600
TZNAME:CST
DTSTART:20261101T070000
END:STANDARD
BEGIN:DAYLIGHT
TZOFFSETFROM:-0600
TZOFFSETTO:-0500
TZNAME:CDT
DTSTART:20270314T080000
END:DAYLIGHT
BEGIN:STANDARD
TZOFFSETFROM:-0500
TZOFFSETTO:-0600
TZNAME:CST
DTSTART:20271107T070000
END:STANDARD
END:VTIMEZONE
BEGIN:VTIMEZONE
TZID:UTC
BEGIN:STANDARD
TZOFFSETFROM:+0000
TZOFFSETTO:+0000
TZNAME:UTC
DTSTART:20250101T000000
END:STANDARD
END:VTIMEZONE
BEGIN:VEVENT
DTSTART;TZID=America/Chicago:20260412T163000
DTEND;TZID=America/Chicago:20260412T180000
DTSTAMP:20260423T170709
CREATED:20260312T153644Z
LAST-MODIFIED:20260312T153644Z
UID:31813-1776011400-1776016800@www.tnpc.org
SUMMARY:Covenant Clubhouse
DESCRIPTION:Join us for catechism\, singing\, and prayer. \nFor children ages 4 – 6th grade
URL:https://www.tnpc.org/event/covenant-clubhouse-16/
LOCATION:Fellowship Hall
CATEGORIES:Children's Ministry
END:VEVENT
BEGIN:VEVENT
DTSTART;TZID=America/Chicago:20260412T163000
DTEND;TZID=America/Chicago:20260412T183000
DTSTAMP:20260423T170709
CREATED:20260120T182351Z
LAST-MODIFIED:20260120T182351Z
UID:31643-1776011400-1776018600@www.tnpc.org
SUMMARY:Youth Group Meeting
DESCRIPTION:
URL:https://www.tnpc.org/event/youth-group-meeting-26/
LOCATION:CE Bldg Rm 200 & 201
CATEGORIES:Youth Ministry
END:VEVENT
BEGIN:VEVENT
DTSTART;TZID=UTC:20260415T190000
DTEND;TZID=UTC:20260415T200000
DTSTAMP:20260423T170709
CREATED:20260318T185659Z
LAST-MODIFIED:20260318T185659Z
UID:31843-1776279600-1776283200@www.tnpc.org
SUMMARY:Wednesday Night Prayer
DESCRIPTION:Why do we pray? — We respond to God sending his Son to redeem and adopt us. What a privilege and joy to be regarded as sons and daughters of God and called to praise and worship him\, to confess to him\, to bring our needs\, sorrows\, and griefs to him! We meet in the CE Building\, Room 202 from 7:00-8:00pm. Please join us Wednesday nights! \n 
URL:https://www.tnpc.org/event/wednesday-night-prayer-36/
LOCATION:CE Room 202
CATEGORIES:Prayer
END:VEVENT
BEGIN:VEVENT
DTSTART;TZID=America/Chicago:20260416T190000
DTEND;TZID=America/Chicago:20260416T200000
DTSTAMP:20260423T170709
CREATED:20260108T194116Z
LAST-MODIFIED:20260108T194116Z
UID:31592-1776366000-1776369600@www.tnpc.org
SUMMARY:Men's Bible Study
DESCRIPTION:
URL:https://www.tnpc.org/event/mens-bible-study-15/
LOCATION:CE Room 202
CATEGORIES:Men's
END:VEVENT
BEGIN:VEVENT
DTSTART;TZID=America/Chicago:20260418T110000
DTEND;TZID=America/Chicago:20260418T130000
DTSTAMP:20260423T170709
CREATED:20260319T153811Z
LAST-MODIFIED:20260408T171023Z
UID:31889-1776510000-1776517200@www.tnpc.org
SUMMARY:Women's Spring Luncheon
DESCRIPTION:Guest Speaker: Debbie Gibson
URL:https://www.tnpc.org/event/womens-spring-luncheon/
LOCATION:Fellowship Hall
CATEGORIES:Special Event,Women's Ministry
END:VEVENT
BEGIN:VEVENT
DTSTART;TZID=America/Chicago:20260419T090000
DTEND;TZID=America/Chicago:20260419T100000
DTSTAMP:20260423T170709
CREATED:20260303T204747Z
LAST-MODIFIED:20260303T204747Z
UID:31772-1776589200-1776592800@www.tnpc.org
SUMMARY:Sunday School
DESCRIPTION:For all ages! \nin the CE Building
URL:https://www.tnpc.org/event/sunday-school-34/
LOCATION:CE Bldg
CATEGORIES:Sunday School
END:VEVENT
BEGIN:VEVENT
DTSTART;TZID=America/Chicago:20260419T100500
DTEND;TZID=America/Chicago:20260419T102000
DTSTAMP:20260423T170709
CREATED:20260217T182200Z
LAST-MODIFIED:20260217T182200Z
UID:31745-1776593100-1776594000@www.tnpc.org
SUMMARY:Prayer for Worship
DESCRIPTION:Please join us to call on the Lord together asking Him to work powerfully among us in worship by His Spirit.
URL:https://www.tnpc.org/event/prayer-for-worship-48/
LOCATION:CE Room 202
CATEGORIES:Prayer
END:VEVENT
BEGIN:VEVENT
DTSTART;TZID=America/Chicago:20260419T103000
DTEND;TZID=America/Chicago:20260419T120000
DTSTAMP:20260423T170709
CREATED:20251203T205645Z
LAST-MODIFIED:20251203T205645Z
UID:31133-1776594600-1776600000@www.tnpc.org
SUMMARY:Worship Service
DESCRIPTION:
URL:https://www.tnpc.org/event/worship-service-41/
LOCATION:Worship Center
CATEGORIES:Service
END:VEVENT
BEGIN:VEVENT
DTSTART;TZID=America/Chicago:20260419T163000
DTEND;TZID=America/Chicago:20260419T180000
DTSTAMP:20260423T170709
CREATED:20260312T153701Z
LAST-MODIFIED:20260312T153701Z
UID:31815-1776616200-1776621600@www.tnpc.org
SUMMARY:Covenant Clubhouse
DESCRIPTION:Join us for catechism\, singing\, and prayer. \nFor children ages 4 – 6th grade
URL:https://www.tnpc.org/event/covenant-clubhouse-17/
LOCATION:Fellowship Hall
CATEGORIES:Children's Ministry
END:VEVENT
BEGIN:VEVENT
DTSTART;TZID=America/Chicago:20260419T163000
DTEND;TZID=America/Chicago:20260419T183000
DTSTAMP:20260423T170709
CREATED:20260120T182402Z
LAST-MODIFIED:20260120T182402Z
UID:31645-1776616200-1776623400@www.tnpc.org
SUMMARY:Youth Group Meeting
DESCRIPTION:
URL:https://www.tnpc.org/event/youth-group-meeting-27/
LOCATION:CE Bldg Rm 200 & 201
CATEGORIES:Youth Ministry
END:VEVENT
BEGIN:VEVENT
DTSTART;TZID=UTC:20260422T190000
DTEND;TZID=UTC:20260422T200000
DTSTAMP:20260423T170709
CREATED:20260318T185716Z
LAST-MODIFIED:20260318T185716Z
UID:31845-1776884400-1776888000@www.tnpc.org
SUMMARY:Wednesday Night Prayer
DESCRIPTION:Why do we pray? — We respond to God sending his Son to redeem and adopt us. What a privilege and joy to be regarded as sons and daughters of God and called to praise and worship him\, to confess to him\, to bring our needs\, sorrows\, and griefs to him! We meet in the CE Building\, Room 202 from 7:00-8:00pm. Please join us Wednesday nights! \n 
URL:https://www.tnpc.org/event/wednesday-night-prayer-37/
LOCATION:CE Room 202
CATEGORIES:Prayer
END:VEVENT
BEGIN:VEVENT
DTSTART;TZID=America/Chicago:20260423T190000
DTEND;TZID=America/Chicago:20260423T200000
DTSTAMP:20260423T170709
CREATED:20260108T194129Z
LAST-MODIFIED:20260108T194129Z
UID:31594-1776970800-1776974400@www.tnpc.org
SUMMARY:Men's Bible Study
DESCRIPTION:
URL:https://www.tnpc.org/event/mens-bible-study-16/
LOCATION:CE Room 202
CATEGORIES:Men's
END:VEVENT
BEGIN:VEVENT
DTSTART;TZID=America/Chicago:20260425T113000
DTEND;TZID=America/Chicago:20260425T133000
DTSTAMP:20260423T170709
CREATED:20260120T183555Z
LAST-MODIFIED:20260312T153208Z
UID:31651-1777116600-1777123800@www.tnpc.org
SUMMARY:Youth - Master Chef Cookoff
DESCRIPTION:
URL:https://www.tnpc.org/event/youth-master-chef-cookoff/
LOCATION:Fellowship Hall & Kitchen
CATEGORIES:Youth Ministry
END:VEVENT
BEGIN:VEVENT
DTSTART;VALUE=DATE:20260426
DTEND;VALUE=DATE:20260427
DTSTAMP:20260423T170709
CREATED:20260128T155044Z
LAST-MODIFIED:20260128T155044Z
UID:31682-1777161600-1777247999@www.tnpc.org
SUMMARY:Communion
DESCRIPTION:Typically served on the second and fourth Sundays of the month.
URL:https://www.tnpc.org/event/communion-8/
LOCATION:Worship Center
END:VEVENT
BEGIN:VEVENT
DTSTART;TZID=America/Chicago:20260426T090000
DTEND;TZID=America/Chicago:20260426T100000
DTSTAMP:20260423T170709
CREATED:20260303T204806Z
LAST-MODIFIED:20260303T204806Z
UID:31774-1777194000-1777197600@www.tnpc.org
SUMMARY:Sunday School
DESCRIPTION:For all ages! \nin the CE Building
URL:https://www.tnpc.org/event/sunday-school-35/
LOCATION:CE Bldg
CATEGORIES:Sunday School
END:VEVENT
BEGIN:VEVENT
DTSTART;TZID=America/Chicago:20260426T100500
DTEND;TZID=America/Chicago:20260426T102000
DTSTAMP:20260423T170709
CREATED:20260217T182213Z
LAST-MODIFIED:20260217T182213Z
UID:31747-1777197900-1777198800@www.tnpc.org
SUMMARY:Prayer for Worship
DESCRIPTION:Please join us to call on the Lord together asking Him to work powerfully among us in worship by His Spirit.
URL:https://www.tnpc.org/event/prayer-for-worship-58/
LOCATION:CE Room 202
CATEGORIES:Prayer
END:VEVENT
BEGIN:VEVENT
DTSTART;TZID=America/Chicago:20260426T103000
DTEND;TZID=America/Chicago:20260426T120000
DTSTAMP:20260423T170709
CREATED:20251203T205704Z
LAST-MODIFIED:20251203T205704Z
UID:31135-1777199400-1777204800@www.tnpc.org
SUMMARY:Worship Service
DESCRIPTION:
URL:https://www.tnpc.org/event/worship-service-42/
LOCATION:Worship Center
CATEGORIES:Service
END:VEVENT
BEGIN:VEVENT
DTSTART;TZID=America/Chicago:20260426T163000
DTEND;TZID=America/Chicago:20260426T180000
DTSTAMP:20260423T170709
CREATED:20260312T153719Z
LAST-MODIFIED:20260312T153719Z
UID:31817-1777221000-1777226400@www.tnpc.org
SUMMARY:Covenant Clubhouse
DESCRIPTION:Join us for catechism\, singing\, and prayer. \nFor children ages 4 – 6th grade
URL:https://www.tnpc.org/event/covenant-clubhouse-18/
LOCATION:Fellowship Hall
CATEGORIES:Children's Ministry
END:VEVENT
BEGIN:VEVENT
DTSTART;TZID=America/Chicago:20260426T163000
DTEND;TZID=America/Chicago:20260426T183000
DTSTAMP:20260423T170709
CREATED:20260120T182413Z
LAST-MODIFIED:20260120T182413Z
UID:31647-1777221000-1777228200@www.tnpc.org
SUMMARY:Youth Group Meeting
DESCRIPTION:
URL:https://www.tnpc.org/event/youth-group-meeting-28/
LOCATION:CE Bldg Rm 200 & 201
CATEGORIES:Youth Ministry
END:VEVENT
BEGIN:VEVENT
DTSTART;TZID=UTC:20260429T190000
DTEND;TZID=UTC:20260429T200000
DTSTAMP:20260423T170709
CREATED:20260318T185731Z
LAST-MODIFIED:20260318T185731Z
UID:31847-1777489200-1777492800@www.tnpc.org
SUMMARY:Wednesday Night Prayer
DESCRIPTION:Why do we pray? — We respond to God sending his Son to redeem and adopt us. What a privilege and joy to be regarded as sons and daughters of God and called to praise and worship him\, to confess to him\, to bring our needs\, sorrows\, and griefs to him! We meet in the CE Building\, Room 202 from 7:00-8:00pm. Please join us Wednesday nights! \n 
URL:https://www.tnpc.org/event/wednesday-night-prayer-38/
LOCATION:CE Room 202
CATEGORIES:Prayer
END:VEVENT
BEGIN:VEVENT
DTSTART;TZID=America/Chicago:20260430T190000
DTEND;TZID=America/Chicago:20260430T200000
DTSTAMP:20260423T170709
CREATED:20260108T194142Z
LAST-MODIFIED:20260108T194142Z
UID:31596-1777575600-1777579200@www.tnpc.org
SUMMARY:Men's Bible Study
DESCRIPTION:
URL:https://www.tnpc.org/event/mens-bible-study-18/
LOCATION:CE Room 202
CATEGORIES:Men's
END:VEVENT
BEGIN:VEVENT
DTSTART;TZID=America/Chicago:20260503T090000
DTEND;TZID=America/Chicago:20260503T100000
DTSTAMP:20260423T170709
CREATED:20260303T204820Z
LAST-MODIFIED:20260303T204820Z
UID:31776-1777798800-1777802400@www.tnpc.org
SUMMARY:Sunday School
DESCRIPTION:For all ages! \nin the CE Building
URL:https://www.tnpc.org/event/sunday-school-37/
LOCATION:CE Bldg
CATEGORIES:Sunday School
END:VEVENT
BEGIN:VEVENT
DTSTART;TZID=America/Chicago:20260503T100500
DTEND;TZID=America/Chicago:20260503T102000
DTSTAMP:20260423T170709
CREATED:20260303T205006Z
LAST-MODIFIED:20260303T205006Z
UID:31786-1777802700-1777803600@www.tnpc.org
SUMMARY:Prayer for Worship
DESCRIPTION:Please join us to call on the Lord together asking Him to work powerfully among us in worship by His Spirit.
URL:https://www.tnpc.org/event/prayer-for-worship-59/
LOCATION:CE Room 202
CATEGORIES:Prayer
END:VEVENT
BEGIN:VEVENT
DTSTART;TZID=America/Chicago:20260503T103000
DTEND;TZID=America/Chicago:20260503T120000
DTSTAMP:20260423T170709
CREATED:20251203T205723Z
LAST-MODIFIED:20251203T205723Z
UID:31137-1777804200-1777809600@www.tnpc.org
SUMMARY:Worship Service
DESCRIPTION:
URL:https://www.tnpc.org/event/worship-service-43/
LOCATION:Worship Center
CATEGORIES:Service
END:VEVENT
BEGIN:VEVENT
DTSTART;TZID=America/Chicago:20260503T120000
DTEND;TZID=America/Chicago:20260503T133000
DTSTAMP:20260423T170709
CREATED:20260102T162855Z
LAST-MODIFIED:20260102T162855Z
UID:31552-1777809600-1777815000@www.tnpc.org
SUMMARY:Visitor Lunch
DESCRIPTION:Visitors are very welcome!
URL:https://www.tnpc.org/event/visitor-lunch-9/
LOCATION:Fellowship Hall & Kitchen
CATEGORIES:Visitor Lunch
END:VEVENT
BEGIN:VEVENT
DTSTART;TZID=America/Chicago:20260503T163000
DTEND;TZID=America/Chicago:20260503T180000
DTSTAMP:20260423T170709
CREATED:20260312T153736Z
LAST-MODIFIED:20260312T153736Z
UID:31819-1777825800-1777831200@www.tnpc.org
SUMMARY:Covenant Clubhouse
DESCRIPTION:Join us for catechism\, singing\, and prayer. \nFor children ages 4 – 6th grade
URL:https://www.tnpc.org/event/covenant-clubhouse-19/
LOCATION:Fellowship Hall
CATEGORIES:Children's Ministry
END:VEVENT
BEGIN:VEVENT
DTSTART;TZID=America/Chicago:20260503T163000
DTEND;TZID=America/Chicago:20260503T183000
DTSTAMP:20260423T170709
CREATED:20260120T183706Z
LAST-MODIFIED:20260120T183706Z
UID:31653-1777825800-1777833000@www.tnpc.org
SUMMARY:Youth - End of Year Party
DESCRIPTION:
URL:https://www.tnpc.org/event/youth-end-of-year-party/
LOCATION:CE Bldg Rm 200 & 201
CATEGORIES:Youth Ministry
END:VEVENT
BEGIN:VEVENT
DTSTART;TZID=America/Chicago:20260505T180000
DTEND;TZID=America/Chicago:20260505T210000
DTSTAMP:20260423T170709
CREATED:20250917T191630Z
LAST-MODIFIED:20250917T191630Z
UID:30953-1778004000-1778014800@www.tnpc.org
SUMMARY:Session Meeting
DESCRIPTION:
URL:https://www.tnpc.org/event/session-meeting-11/
CATEGORIES:Session Meeting
END:VEVENT
BEGIN:VEVENT
DTSTART;TZID=UTC:20260506T190000
DTEND;TZID=UTC:20260506T200000
DTSTAMP:20260423T170709
CREATED:20260318T185749Z
LAST-MODIFIED:20260318T185749Z
UID:31849-1778094000-1778097600@www.tnpc.org
SUMMARY:Wednesday Night Prayer
DESCRIPTION:Why do we pray? — We respond to God sending his Son to redeem and adopt us. What a privilege and joy to be regarded as sons and daughters of God and called to praise and worship him\, to confess to him\, to bring our needs\, sorrows\, and griefs to him! We meet in the CE Building\, Room 202 from 7:00-8:00pm. Please join us Wednesday nights! \n 
URL:https://www.tnpc.org/event/wednesday-night-prayer-39/
LOCATION:CE Room 202
CATEGORIES:Prayer
END:VEVENT
BEGIN:VEVENT
DTSTART;TZID=America/Chicago:20260507T190000
DTEND;TZID=America/Chicago:20260507T200000
DTSTAMP:20260423T170709
CREATED:20260108T194155Z
LAST-MODIFIED:20260108T194155Z
UID:31598-1778180400-1778184000@www.tnpc.org
SUMMARY:Men's Bible Study
DESCRIPTION:
URL:https://www.tnpc.org/event/mens-bible-study-19/
LOCATION:CE Room 202
CATEGORIES:Men's
END:VEVENT
END:VCALENDAR