BEGIN:VCALENDAR
VERSION:2.0
PRODID:-//Town North Presbyterian Church - ECPv6.15.20//NONSGML v1.0//EN
CALSCALE:GREGORIAN
METHOD:PUBLISH
X-WR-CALNAME:Town North Presbyterian Church
X-ORIGINAL-URL:https://www.tnpc.org
X-WR-CALDESC:Events for Town North Presbyterian Church
REFRESH-INTERVAL;VALUE=DURATION:PT1H
X-Robots-Tag:noindex
X-PUBLISHED-TTL:PT1H
BEGIN:VTIMEZONE
TZID:UTC
BEGIN:STANDARD
TZOFFSETFROM:+0000
TZOFFSETTO:+0000
TZNAME:UTC
DTSTART:20240101T000000
END:STANDARD
END:VTIMEZONE
BEGIN:VTIMEZONE
TZID:America/Chicago
BEGIN:DAYLIGHT
TZOFFSETFROM:-0600
TZOFFSETTO:-0500
TZNAME:CDT
DTSTART:20240310T080000
END:DAYLIGHT
BEGIN:STANDARD
TZOFFSETFROM:-0500
TZOFFSETTO:-0600
TZNAME:CST
DTSTART:20241103T070000
END:STANDARD
BEGIN:DAYLIGHT
TZOFFSETFROM:-0600
TZOFFSETTO:-0500
TZNAME:CDT
DTSTART:20250309T080000
END:DAYLIGHT
BEGIN:STANDARD
TZOFFSETFROM:-0500
TZOFFSETTO:-0600
TZNAME:CST
DTSTART:20251102T070000
END:STANDARD
BEGIN:DAYLIGHT
TZOFFSETFROM:-0600
TZOFFSETTO:-0500
TZNAME:CDT
DTSTART:20260308T080000
END:DAYLIGHT
BEGIN:STANDARD
TZOFFSETFROM:-0500
TZOFFSETTO:-0600
TZNAME:CST
DTSTART:20261101T070000
END:STANDARD
END:VTIMEZONE
BEGIN:VEVENT
DTSTART;TZID=UTC:20251112T190000
DTEND;TZID=UTC:20251112T200000
DTSTAMP:20260423T182907
CREATED:20250828T171211Z
LAST-MODIFIED:20250828T171211Z
UID:30861-1762974000-1762977600@www.tnpc.org
SUMMARY:Wednesday Night Prayer
DESCRIPTION:Why do we pray? — We respond to God sending his Son to redeem and adopt us. What a privilege and joy to be regarded as sons and daughters of God and called to praise and worship him\, to confess to him\, to bring our needs\, sorrows\, and griefs to him! We meet in the CE Building\, Room 202 from 7:00-8:00pm. Please join us on any Wednesday night! \n 
URL:https://www.tnpc.org/event/wednesday-night-prayer-19/
LOCATION:CE Room 202
CATEGORIES:Prayer
END:VEVENT
BEGIN:VEVENT
DTSTART;TZID=America/Chicago:20251111T183000
DTEND;TZID=America/Chicago:20251111T200000
DTSTAMP:20260423T182907
CREATED:20250827T194919Z
LAST-MODIFIED:20250827T194919Z
UID:30809-1762885800-1762891200@www.tnpc.org
SUMMARY:Ladies' Fall Bible Study - Evening
DESCRIPTION:Judges: The Path from Chaos to Kingship by Lydia Brownback \nJudges 19:1-20:48 \nCrash & Burn
URL:https://www.tnpc.org/event/ladies-fall-bible-study-evening-10/
LOCATION:CE Building\, Rm 204
CATEGORIES:Bible Study,Women's Ministry
END:VEVENT
BEGIN:VEVENT
DTSTART;TZID=America/Chicago:20251111T093000
DTEND;TZID=America/Chicago:20251111T110000
DTSTAMP:20260423T182907
CREATED:20250827T194857Z
LAST-MODIFIED:20250827T194857Z
UID:30807-1762853400-1762858800@www.tnpc.org
SUMMARY:Ladies' Fall Bible Study - Morning
DESCRIPTION:Judges: The Path from Chaos to Kingship by Lydia Brownback \nJudges 19:1-20:48 \nCrash & Burn
URL:https://www.tnpc.org/event/ladies-fall-bible-study-morning-10/
LOCATION:CE Building\, Rm 204
CATEGORIES:Bible Study,Women's Ministry
END:VEVENT
BEGIN:VEVENT
DTSTART;TZID=America/Chicago:20251109T163000
DTEND;TZID=America/Chicago:20251109T183000
DTSTAMP:20260423T182907
CREATED:20250828T165619Z
LAST-MODIFIED:20250828T165619Z
UID:30831-1762705800-1762713000@www.tnpc.org
SUMMARY:Youth Group Meeting
DESCRIPTION:
URL:https://www.tnpc.org/event/youth-group-meeting-13/
LOCATION:CE Bldg Rm 200 & 201
CATEGORIES:Youth Ministry
END:VEVENT
BEGIN:VEVENT
DTSTART;TZID=America/Chicago:20251109T163000
DTEND;TZID=America/Chicago:20251109T180000
DTSTAMP:20260423T182907
CREATED:20250827T192121Z
LAST-MODIFIED:20250827T192121Z
UID:30764-1762705800-1762711200@www.tnpc.org
SUMMARY:Covenant Clubhouse
DESCRIPTION:Join us for catechism\, singing\, and prayer. \nFor children ages 4 – 6th grade
URL:https://www.tnpc.org/event/covenant-clubhouse-10/
LOCATION:Fellowship Hall
CATEGORIES:Children's Ministry
END:VEVENT
BEGIN:VEVENT
DTSTART;TZID=America/Chicago:20251109T120000
DTEND;TZID=America/Chicago:20251109T133000
DTSTAMP:20260423T182907
CREATED:20250103T172227Z
LAST-MODIFIED:20251017T183145Z
UID:30110-1762689600-1762695000@www.tnpc.org
SUMMARY:Visitor Lunch
DESCRIPTION:
URL:https://www.tnpc.org/event/visitor-lunch-16/
LOCATION:Fellowship Hall & Kitchen
CATEGORIES:Fellowship Meal
END:VEVENT
BEGIN:VEVENT
DTSTART;TZID=America/Chicago:20251109T103000
DTEND;TZID=America/Chicago:20251109T120000
DTSTAMP:20260423T182907
CREATED:20250522T165750Z
LAST-MODIFIED:20250522T165750Z
UID:30472-1762684200-1762689600@www.tnpc.org
SUMMARY:Worship Service
DESCRIPTION:
URL:https://www.tnpc.org/event/worship-service-18/
LOCATION:Worship Center
CATEGORIES:Service
END:VEVENT
BEGIN:VEVENT
DTSTART;TZID=America/Chicago:20251109T090000
DTEND;TZID=America/Chicago:20251109T100000
DTSTAMP:20260423T182907
CREATED:20250730T155821Z
LAST-MODIFIED:20250730T155821Z
UID:30665-1762678800-1762682400@www.tnpc.org
SUMMARY:Sunday School
DESCRIPTION:For all ages! \nin the CE Building
URL:https://www.tnpc.org/event/sunday-school-17/
LOCATION:CE Bldg
CATEGORIES:Sunday School
END:VEVENT
BEGIN:VEVENT
DTSTART;TZID=America/Chicago:20251109T081500
DTEND;TZID=America/Chicago:20251109T084500
DTSTAMP:20260423T182907
CREATED:20250828T172226Z
LAST-MODIFIED:20250828T172226Z
UID:30888-1762676100-1762677900@www.tnpc.org
SUMMARY:Prayer for Worship
DESCRIPTION:Please join us to call on the Lord together asking Him to work powerfully among us in worship by His Spirit.
URL:https://www.tnpc.org/event/prayer-for-worship-27/
LOCATION:Worship Center
CATEGORIES:Prayer
END:VEVENT
BEGIN:VEVENT
DTSTART;TZID=America/Chicago:20251106T190000
DTEND;TZID=America/Chicago:20251106T200000
DTSTAMP:20260423T182907
CREATED:20250731T171518Z
LAST-MODIFIED:20250731T171518Z
UID:30705-1762455600-1762459200@www.tnpc.org
SUMMARY:Men's Bible Study
DESCRIPTION:
URL:https://www.tnpc.org/event/mens-bible-study-60/
LOCATION:CE Room 202
CATEGORIES:Men's
END:VEVENT
BEGIN:VEVENT
DTSTART;TZID=UTC:20251105T190000
DTEND;TZID=UTC:20251105T200000
DTSTAMP:20260423T182907
CREATED:20250828T171154Z
LAST-MODIFIED:20250828T171154Z
UID:30859-1762369200-1762372800@www.tnpc.org
SUMMARY:Wednesday Night Prayer
DESCRIPTION:Why do we pray? — We respond to God sending his Son to redeem and adopt us. What a privilege and joy to be regarded as sons and daughters of God and called to praise and worship him\, to confess to him\, to bring our needs\, sorrows\, and griefs to him! We meet in the CE Building\, Room 202 from 7:00-8:00pm. Please join us on any Wednesday night! \n 
URL:https://www.tnpc.org/event/wednesday-night-prayer-18/
LOCATION:CE Room 202
CATEGORIES:Prayer
END:VEVENT
BEGIN:VEVENT
DTSTART;TZID=America/Chicago:20251104T183000
DTEND;TZID=America/Chicago:20251104T200000
DTSTAMP:20260423T182907
CREATED:20250827T194720Z
LAST-MODIFIED:20250827T194720Z
UID:30803-1762281000-1762286400@www.tnpc.org
SUMMARY:Ladies' Fall Bible Study - Evening
DESCRIPTION:Judges: The Path from Chaos to Kingship by Lydia Brownback \nJudges 17:1-18:31 \nNo King
URL:https://www.tnpc.org/event/ladies-fall-bible-study-evening-9/
LOCATION:CE Building\, Rm 204
CATEGORIES:Bible Study,Women's Ministry
END:VEVENT
BEGIN:VEVENT
DTSTART;TZID=America/Chicago:20251104T180000
DTEND;TZID=America/Chicago:20251104T210000
DTSTAMP:20260423T182907
CREATED:20250917T191313Z
LAST-MODIFIED:20250917T191313Z
UID:30941-1762279200-1762290000@www.tnpc.org
SUMMARY:Session Meeting
DESCRIPTION:
URL:https://www.tnpc.org/event/session-meeting-5/
CATEGORIES:Session Meeting
END:VEVENT
BEGIN:VEVENT
DTSTART;TZID=America/Chicago:20251104T093000
DTEND;TZID=America/Chicago:20251104T110000
DTSTAMP:20260423T182907
CREATED:20250827T194745Z
LAST-MODIFIED:20250827T194745Z
UID:30805-1762248600-1762254000@www.tnpc.org
SUMMARY:Ladies' Fall Bible Study - Morning
DESCRIPTION:Judges: The Path from Chaos to Kingship by Lydia Brownback \nJudges 17:1-18:31 \nNo King
URL:https://www.tnpc.org/event/ladies-fall-bible-study-morning-9/
LOCATION:CE Building\, Rm 204
CATEGORIES:Bible Study,Women's Ministry
END:VEVENT
BEGIN:VEVENT
DTSTART;TZID=America/Chicago:20251102T163000
DTEND;TZID=America/Chicago:20251102T183000
DTSTAMP:20260423T182907
CREATED:20250828T165604Z
LAST-MODIFIED:20250828T165604Z
UID:30829-1762101000-1762108200@www.tnpc.org
SUMMARY:Youth Group Meeting
DESCRIPTION:
URL:https://www.tnpc.org/event/youth-group-meeting-12/
LOCATION:CE Bldg Rm 200 & 201
CATEGORIES:Youth Ministry
END:VEVENT
BEGIN:VEVENT
DTSTART;TZID=America/Chicago:20251102T163000
DTEND;TZID=America/Chicago:20251102T180000
DTSTAMP:20260423T182907
CREATED:20250827T192107Z
LAST-MODIFIED:20250827T192107Z
UID:30762-1762101000-1762106400@www.tnpc.org
SUMMARY:Covenant Clubhouse
DESCRIPTION:Join us for catechism\, singing\, and prayer. \nFor children ages 4 – 6th grade
URL:https://www.tnpc.org/event/covenant-clubhouse-9/
LOCATION:Fellowship Hall
CATEGORIES:Children's Ministry
END:VEVENT
BEGIN:VEVENT
DTSTART;TZID=America/Chicago:20251102T103000
DTEND;TZID=America/Chicago:20251102T120000
DTSTAMP:20260423T182907
CREATED:20250522T165735Z
LAST-MODIFIED:20250522T165735Z
UID:30470-1762079400-1762084800@www.tnpc.org
SUMMARY:Worship Service
DESCRIPTION:
URL:https://www.tnpc.org/event/worship-service-17/
LOCATION:Worship Center
CATEGORIES:Service
END:VEVENT
BEGIN:VEVENT
DTSTART;TZID=America/Chicago:20251102T090000
DTEND;TZID=America/Chicago:20251102T100000
DTSTAMP:20260423T182907
CREATED:20250730T155804Z
LAST-MODIFIED:20250730T155804Z
UID:30663-1762074000-1762077600@www.tnpc.org
SUMMARY:Sunday School
DESCRIPTION:For all ages! \nin the CE Building
URL:https://www.tnpc.org/event/sunday-school-16/
LOCATION:CE Bldg
CATEGORIES:Sunday School
END:VEVENT
BEGIN:VEVENT
DTSTART;TZID=America/Chicago:20251102T081500
DTEND;TZID=America/Chicago:20251102T084500
DTSTAMP:20260423T182907
CREATED:20250828T172207Z
LAST-MODIFIED:20250828T172207Z
UID:30886-1762071300-1762073100@www.tnpc.org
SUMMARY:Prayer for Worship
DESCRIPTION:Please join us to call on the Lord together asking Him to work powerfully among us in worship by His Spirit.
URL:https://www.tnpc.org/event/prayer-for-worship-26/
LOCATION:Worship Center
CATEGORIES:Prayer
END:VEVENT
BEGIN:VEVENT
DTSTART;TZID=America/Chicago:20251030T190000
DTEND;TZID=America/Chicago:20251030T200000
DTSTAMP:20260423T182907
CREATED:20250731T171500Z
LAST-MODIFIED:20251024T170003Z
UID:30703-1761850800-1761854400@www.tnpc.org
SUMMARY:Men's Bible Study - Cancelled for this week
DESCRIPTION:
URL:https://www.tnpc.org/event/mens-bible-study-59/
LOCATION:CE Room 202
CATEGORIES:Men's
END:VEVENT
BEGIN:VEVENT
DTSTART;TZID=UTC:20251029T190000
DTEND;TZID=UTC:20251029T200000
DTSTAMP:20260423T182907
CREATED:20250828T171137Z
LAST-MODIFIED:20250828T171137Z
UID:30857-1761764400-1761768000@www.tnpc.org
SUMMARY:Wednesday Night Prayer
DESCRIPTION:Why do we pray? — We respond to God sending his Son to redeem and adopt us. What a privilege and joy to be regarded as sons and daughters of God and called to praise and worship him\, to confess to him\, to bring our needs\, sorrows\, and griefs to him! We meet in the CE Building\, Room 202 from 7:00-8:00pm. Please join us on any Wednesday night! \n 
URL:https://www.tnpc.org/event/wednesday-night-prayer-17/
LOCATION:CE Room 202
CATEGORIES:Prayer
END:VEVENT
BEGIN:VEVENT
DTSTART;TZID=America/Chicago:20251028T183000
DTEND;TZID=America/Chicago:20251028T200000
DTSTAMP:20260423T182907
CREATED:20250827T194634Z
LAST-MODIFIED:20250827T194634Z
UID:30801-1761676200-1761681600@www.tnpc.org
SUMMARY:Ladies' Fall Bible Study - Evening
DESCRIPTION:Judges: The Path from Chaos to Kingship by Lydia Brownback \nJudges 13:1-16:31 \nPhysically Strong but Morally Weak
URL:https://www.tnpc.org/event/ladies-fall-bible-study-evening-8/
LOCATION:CE Building\, Rm 204
CATEGORIES:Bible Study,Women's Ministry
END:VEVENT
BEGIN:VEVENT
DTSTART;TZID=America/Chicago:20251028T093000
DTEND;TZID=America/Chicago:20251028T110000
DTSTAMP:20260423T182907
CREATED:20250827T194610Z
LAST-MODIFIED:20250827T194610Z
UID:30799-1761643800-1761649200@www.tnpc.org
SUMMARY:Ladies' Fall Bible Study - Morning
DESCRIPTION:Judges: The Path from Chaos to Kingship by Lydia Brownback \nJudges 13:1-16:31 \nPhysically Strong but Morally Weak
URL:https://www.tnpc.org/event/ladies-fall-bible-study-morning-8/
LOCATION:CE Building\, Rm 204
CATEGORIES:Bible Study,Women's Ministry
END:VEVENT
BEGIN:VEVENT
DTSTART;TZID=America/Chicago:20251026T163000
DTEND;TZID=America/Chicago:20251026T183000
DTSTAMP:20260423T182907
CREATED:20250828T165543Z
LAST-MODIFIED:20250828T165543Z
UID:30827-1761496200-1761503400@www.tnpc.org
SUMMARY:Youth Group Meeting
DESCRIPTION:
URL:https://www.tnpc.org/event/youth-group-meeting-11/
LOCATION:CE Bldg Rm 200 & 201
CATEGORIES:Youth Ministry
END:VEVENT
BEGIN:VEVENT
DTSTART;TZID=America/Chicago:20251026T163000
DTEND;TZID=America/Chicago:20251026T180000
DTSTAMP:20260423T182907
CREATED:20250827T192055Z
LAST-MODIFIED:20250827T192055Z
UID:30760-1761496200-1761501600@www.tnpc.org
SUMMARY:Covenant Clubhouse
DESCRIPTION:Join us for catechism\, singing\, and prayer. \nFor children ages 4 – 6th grade
URL:https://www.tnpc.org/event/covenant-clubhouse-8/
LOCATION:Fellowship Hall
CATEGORIES:Children's Ministry
END:VEVENT
BEGIN:VEVENT
DTSTART;TZID=America/Chicago:20251026T103000
DTEND;TZID=America/Chicago:20251026T120000
DTSTAMP:20260423T182907
CREATED:20250522T165721Z
LAST-MODIFIED:20250522T165721Z
UID:30468-1761474600-1761480000@www.tnpc.org
SUMMARY:Worship Service
DESCRIPTION:
URL:https://www.tnpc.org/event/worship-service-16/
LOCATION:Worship Center
CATEGORIES:Service
END:VEVENT
BEGIN:VEVENT
DTSTART;TZID=America/Chicago:20251026T090000
DTEND;TZID=America/Chicago:20251026T100000
DTSTAMP:20260423T182907
CREATED:20250730T155744Z
LAST-MODIFIED:20250730T155744Z
UID:30661-1761469200-1761472800@www.tnpc.org
SUMMARY:Sunday School
DESCRIPTION:For all ages! \nin the CE Building
URL:https://www.tnpc.org/event/sunday-school-15/
LOCATION:CE Bldg
CATEGORIES:Sunday School
END:VEVENT
BEGIN:VEVENT
DTSTART;TZID=America/Chicago:20251026T081500
DTEND;TZID=America/Chicago:20251026T084500
DTSTAMP:20260423T182907
CREATED:20250828T172152Z
LAST-MODIFIED:20250828T172152Z
UID:30884-1761466500-1761468300@www.tnpc.org
SUMMARY:Prayer for Worship
DESCRIPTION:Please join us to call on the Lord together asking Him to work powerfully among us in worship by His Spirit.
URL:https://www.tnpc.org/event/prayer-for-worship-25/
LOCATION:Worship Center
CATEGORIES:Prayer
END:VEVENT
BEGIN:VEVENT
DTSTART;TZID=America/Chicago:20251023T190000
DTEND;TZID=America/Chicago:20251023T200000
DTSTAMP:20260423T182907
CREATED:20250731T171445Z
LAST-MODIFIED:20250731T171445Z
UID:30701-1761246000-1761249600@www.tnpc.org
SUMMARY:Men's Bible Study
DESCRIPTION:
URL:https://www.tnpc.org/event/mens-bible-study-58/
LOCATION:CE Room 202
CATEGORIES:Men's
END:VEVENT
BEGIN:VEVENT
DTSTART;TZID=UTC:20251022T190000
DTEND;TZID=UTC:20251022T200000
DTSTAMP:20260423T182907
CREATED:20250828T171117Z
LAST-MODIFIED:20250828T171117Z
UID:30855-1761159600-1761163200@www.tnpc.org
SUMMARY:Wednesday Night Prayer
DESCRIPTION:Why do we pray? — We respond to God sending his Son to redeem and adopt us. What a privilege and joy to be regarded as sons and daughters of God and called to praise and worship him\, to confess to him\, to bring our needs\, sorrows\, and griefs to him! We meet in the CE Building\, Room 202 from 7:00-8:00pm. Please join us on any Wednesday night! \n 
URL:https://www.tnpc.org/event/wednesday-night-prayer-16/
LOCATION:CE Room 202
CATEGORIES:Prayer
END:VEVENT
END:VCALENDAR