BEGIN:VCALENDAR
VERSION:2.0
PRODID:-//Town North Presbyterian Church - ECPv6.15.20//NONSGML v1.0//EN
CALSCALE:GREGORIAN
METHOD:PUBLISH
X-WR-CALNAME:Town North Presbyterian Church
X-ORIGINAL-URL:https://www.tnpc.org
X-WR-CALDESC:Events for Town North Presbyterian Church
REFRESH-INTERVAL;VALUE=DURATION:PT1H
X-Robots-Tag:noindex
X-PUBLISHED-TTL:PT1H
BEGIN:VTIMEZONE
TZID:America/Chicago
BEGIN:DAYLIGHT
TZOFFSETFROM:-0600
TZOFFSETTO:-0500
TZNAME:CDT
DTSTART:20250309T080000
END:DAYLIGHT
BEGIN:STANDARD
TZOFFSETFROM:-0500
TZOFFSETTO:-0600
TZNAME:CST
DTSTART:20251102T070000
END:STANDARD
BEGIN:DAYLIGHT
TZOFFSETFROM:-0600
TZOFFSETTO:-0500
TZNAME:CDT
DTSTART:20260308T080000
END:DAYLIGHT
BEGIN:STANDARD
TZOFFSETFROM:-0500
TZOFFSETTO:-0600
TZNAME:CST
DTSTART:20261101T070000
END:STANDARD
BEGIN:DAYLIGHT
TZOFFSETFROM:-0600
TZOFFSETTO:-0500
TZNAME:CDT
DTSTART:20270314T080000
END:DAYLIGHT
BEGIN:STANDARD
TZOFFSETFROM:-0500
TZOFFSETTO:-0600
TZNAME:CST
DTSTART:20271107T070000
END:STANDARD
END:VTIMEZONE
BEGIN:VTIMEZONE
TZID:UTC
BEGIN:STANDARD
TZOFFSETFROM:+0000
TZOFFSETTO:+0000
TZNAME:UTC
DTSTART:20250101T000000
END:STANDARD
END:VTIMEZONE
BEGIN:VEVENT
DTSTART;TZID=America/Chicago:20260409T190000
DTEND;TZID=America/Chicago:20260409T200000
DTSTAMP:20260423T142956
CREATED:20260108T194104Z
LAST-MODIFIED:20260108T194104Z
UID:31590-1775761200-1775764800@www.tnpc.org
SUMMARY:Men's Bible Study
DESCRIPTION:
URL:https://www.tnpc.org/event/mens-bible-study-14/
LOCATION:CE Room 202
CATEGORIES:Men's
END:VEVENT
BEGIN:VEVENT
DTSTART;TZID=UTC:20260408T190000
DTEND;TZID=UTC:20260408T200000
DTSTAMP:20260423T142956
CREATED:20260318T185640Z
LAST-MODIFIED:20260318T185640Z
UID:31841-1775674800-1775678400@www.tnpc.org
SUMMARY:Wednesday Night Prayer
DESCRIPTION:Why do we pray? — We respond to God sending his Son to redeem and adopt us. What a privilege and joy to be regarded as sons and daughters of God and called to praise and worship him\, to confess to him\, to bring our needs\, sorrows\, and griefs to him! We meet in the CE Building\, Room 202 from 7:00-8:00pm. Please join us Wednesday nights! \n 
URL:https://www.tnpc.org/event/wednesday-night-prayer-35/
LOCATION:CE Room 202
CATEGORIES:Prayer
END:VEVENT
BEGIN:VEVENT
DTSTART;TZID=America/Chicago:20260407T180000
DTEND;TZID=America/Chicago:20260407T210000
DTSTAMP:20260423T142956
CREATED:20250917T191604Z
LAST-MODIFIED:20250917T191604Z
UID:30951-1775584800-1775595600@www.tnpc.org
SUMMARY:Session Meeting
DESCRIPTION:
URL:https://www.tnpc.org/event/session-meeting-10/
CATEGORIES:Session Meeting
END:VEVENT
BEGIN:VEVENT
DTSTART;TZID=America/Chicago:20260405T103000
DTEND;TZID=America/Chicago:20260405T120000
DTSTAMP:20260423T142956
CREATED:20251203T205555Z
LAST-MODIFIED:20260303T204621Z
UID:31129-1775385000-1775390400@www.tnpc.org
SUMMARY:Resurrection Sunday Worship
DESCRIPTION:He is risen!
URL:https://www.tnpc.org/event/worship-service-39/
LOCATION:Worship Center
CATEGORIES:Service
END:VEVENT
BEGIN:VEVENT
DTSTART;TZID=America/Chicago:20260405T100500
DTEND;TZID=America/Chicago:20260405T102000
DTSTAMP:20260423T142956
CREATED:20260303T205906Z
LAST-MODIFIED:20260303T205906Z
UID:31797-1775383500-1775384400@www.tnpc.org
SUMMARY:Prayer for Worship
DESCRIPTION:Please join us to call on the Lord together asking Him to work powerfully among us in worship by His Spirit.
URL:https://www.tnpc.org/event/prayer-for-worship-64/
LOCATION:CE Room 202
CATEGORIES:Prayer
END:VEVENT
BEGIN:VEVENT
DTSTART;TZID=America/Chicago:20260405T090000
DTEND;TZID=America/Chicago:20260405T220000
DTSTAMP:20260423T142956
CREATED:20260303T204326Z
LAST-MODIFIED:20260303T204326Z
UID:31766-1775379600-1775426400@www.tnpc.org
SUMMARY:Easter Fellowship
DESCRIPTION:Please bring a brunch-type food to share!
URL:https://www.tnpc.org/event/easter-fellowship/
LOCATION:Fellowship Hall & Kitchen
CATEGORIES:Holiday,Special Event
END:VEVENT
BEGIN:VEVENT
DTSTART;VALUE=DATE:20260405
DTEND;VALUE=DATE:20260406
DTSTAMP:20260423T142956
CREATED:20260219T194121Z
LAST-MODIFIED:20260219T194121Z
UID:31758-1775347200-1775433599@www.tnpc.org
SUMMARY:EASTER
DESCRIPTION:He Is Risen! He Is Risen\, Indeed!
URL:https://www.tnpc.org/event/easter/
END:VEVENT
BEGIN:VEVENT
DTSTART;TZID=America/Chicago:20260403T180000
DTEND;TZID=America/Chicago:20260403T190000
DTSTAMP:20260423T142956
CREATED:20260303T204157Z
LAST-MODIFIED:20260320T171654Z
UID:31764-1775239200-1775242800@www.tnpc.org
SUMMARY:Good Friday Worship
DESCRIPTION:
URL:https://www.tnpc.org/event/good-friday-worship/
LOCATION:Worship Center
CATEGORIES:Holiday,Special Event
END:VEVENT
BEGIN:VEVENT
DTSTART;TZID=America/Chicago:20260402T190000
DTEND;TZID=America/Chicago:20260402T200000
DTSTAMP:20260423T142956
CREATED:20260108T194051Z
LAST-MODIFIED:20260108T194051Z
UID:31588-1775156400-1775160000@www.tnpc.org
SUMMARY:Men's Bible Study
DESCRIPTION:
URL:https://www.tnpc.org/event/mens-bible-study-13/
LOCATION:CE Room 202
CATEGORIES:Men's
END:VEVENT
BEGIN:VEVENT
DTSTART;TZID=UTC:20260401T190000
DTEND;TZID=UTC:20260401T200000
DTSTAMP:20260423T142956
CREATED:20260318T185624Z
LAST-MODIFIED:20260318T185624Z
UID:31839-1775070000-1775073600@www.tnpc.org
SUMMARY:Wednesday Night Prayer
DESCRIPTION:Why do we pray? — We respond to God sending his Son to redeem and adopt us. What a privilege and joy to be regarded as sons and daughters of God and called to praise and worship him\, to confess to him\, to bring our needs\, sorrows\, and griefs to him! We meet in the CE Building\, Room 202 from 7:00-8:00pm. Please join us Wednesday nights! \n 
URL:https://www.tnpc.org/event/wednesday-night-prayer-34/
LOCATION:CE Room 202
CATEGORIES:Prayer
END:VEVENT
BEGIN:VEVENT
DTSTART;TZID=America/Chicago:20260331T183000
DTEND;TZID=America/Chicago:20260331T200000
DTSTAMP:20260423T142956
CREATED:20251205T201728Z
LAST-MODIFIED:20251205T201728Z
UID:31226-1774981800-1774987200@www.tnpc.org
SUMMARY:Ladies' Spring Bible Study - Evening
DESCRIPTION:Philippians: Living for Christ (Flourish Bible Study)
URL:https://www.tnpc.org/event/ladies-spring-bible-study-evening-12/
LOCATION:CE Building\, Rm 204
CATEGORIES:Bible Study,Women's Ministry
END:VEVENT
BEGIN:VEVENT
DTSTART;TZID=America/Chicago:20260331T093000
DTEND;TZID=America/Chicago:20260331T110000
DTSTAMP:20260423T142956
CREATED:20251205T201050Z
LAST-MODIFIED:20251205T201050Z
UID:31202-1774949400-1774954800@www.tnpc.org
SUMMARY:Ladies' Spring Bible Study - Morning
DESCRIPTION:Philippians: Living for Christ (Flourish Bible Study)
URL:https://www.tnpc.org/event/ladies-spring-bible-study-morning-12/
LOCATION:CE Building\, Rm 204
CATEGORIES:Bible Study,Women's Ministry
END:VEVENT
BEGIN:VEVENT
DTSTART;TZID=America/Chicago:20260329T163000
DTEND;TZID=America/Chicago:20260329T183000
DTSTAMP:20260423T142956
CREATED:20260120T182334Z
LAST-MODIFIED:20260120T182334Z
UID:31641-1774801800-1774809000@www.tnpc.org
SUMMARY:Youth Group Meeting
DESCRIPTION:
URL:https://www.tnpc.org/event/youth-group-meeting-25/
LOCATION:CE Bldg Rm 200 & 201
CATEGORIES:Youth Ministry
END:VEVENT
BEGIN:VEVENT
DTSTART;TZID=America/Chicago:20260329T163000
DTEND;TZID=America/Chicago:20260329T180000
DTSTAMP:20260423T142956
CREATED:20260312T153627Z
LAST-MODIFIED:20260312T153627Z
UID:31811-1774801800-1774807200@www.tnpc.org
SUMMARY:Covenant Clubhouse
DESCRIPTION:Join us for catechism\, singing\, and prayer. \nFor children ages 4 – 6th grade
URL:https://www.tnpc.org/event/covenant-clubhouse-15/
LOCATION:Fellowship Hall
CATEGORIES:Children's Ministry
END:VEVENT
BEGIN:VEVENT
DTSTART;TZID=America/Chicago:20260329T103000
DTEND;TZID=America/Chicago:20260329T120000
DTSTAMP:20260423T142956
CREATED:20251203T205527Z
LAST-MODIFIED:20260303T205246Z
UID:31127-1774780200-1774785600@www.tnpc.org
SUMMARY:Palm Sunday Worship Service
DESCRIPTION:Worship with the procession of palms
URL:https://www.tnpc.org/event/worship-service-38/
LOCATION:Worship Center
CATEGORIES:Service
END:VEVENT
BEGIN:VEVENT
DTSTART;TZID=America/Chicago:20260329T100500
DTEND;TZID=America/Chicago:20260329T102000
DTSTAMP:20260423T142956
CREATED:20251203T201537Z
LAST-MODIFIED:20260217T181839Z
UID:31071-1774778700-1774779600@www.tnpc.org
SUMMARY:Prayer for Worship
DESCRIPTION:Please join us to call on the Lord together asking Him to work powerfully among us in worship by His Spirit.
URL:https://www.tnpc.org/event/prayer-for-worship-46/
LOCATION:CE Room 202
CATEGORIES:Prayer
END:VEVENT
BEGIN:VEVENT
DTSTART;TZID=America/Chicago:20260329T090000
DTEND;TZID=America/Chicago:20260329T100000
DTSTAMP:20260423T142956
CREATED:20251203T204704Z
LAST-MODIFIED:20251203T204704Z
UID:31097-1774774800-1774778400@www.tnpc.org
SUMMARY:Sunday School
DESCRIPTION:For all ages! \nin the CE Building
URL:https://www.tnpc.org/event/sunday-school-32/
LOCATION:CE Bldg
CATEGORIES:Sunday School
END:VEVENT
BEGIN:VEVENT
DTSTART;VALUE=DATE:20260329
DTEND;VALUE=DATE:20260330
DTSTAMP:20260423T142956
CREATED:20260219T194004Z
LAST-MODIFIED:20260219T194004Z
UID:31756-1774742400-1774828799@www.tnpc.org
SUMMARY:Palm Sunday
DESCRIPTION:
URL:https://www.tnpc.org/event/palm-sunday-2/
END:VEVENT
BEGIN:VEVENT
DTSTART;TZID=America/Chicago:20260328T120000
DTEND;TZID=America/Chicago:20260328T140000
DTSTAMP:20260423T142956
CREATED:20260319T153009Z
LAST-MODIFIED:20260319T153047Z
UID:31881-1774699200-1774706400@www.tnpc.org
SUMMARY:Young Adult Escape Room Event
DESCRIPTION:Everyone from high school graduates to late twenties/early thirties is welcome.
URL:https://www.tnpc.org/event/young-adult-meeting/
LOCATION:Offsite
CATEGORIES:Young Adults
END:VEVENT
BEGIN:VEVENT
DTSTART;TZID=America/Chicago:20260327T170000
DTEND;TZID=America/Chicago:20260327T193000
DTSTAMP:20260423T142956
CREATED:20260120T183456Z
LAST-MODIFIED:20260120T183456Z
UID:31649-1774630800-1774639800@www.tnpc.org
SUMMARY:Youth Cookout
DESCRIPTION:
URL:https://www.tnpc.org/event/youth-cookout/
LOCATION:Offsite
CATEGORIES:Youth Ministry
END:VEVENT
BEGIN:VEVENT
DTSTART;TZID=America/Chicago:20260326T190000
DTEND;TZID=America/Chicago:20260326T200000
DTSTAMP:20260423T142956
CREATED:20260108T194038Z
LAST-MODIFIED:20260108T194038Z
UID:31586-1774551600-1774555200@www.tnpc.org
SUMMARY:Men's Bible Study
DESCRIPTION:
URL:https://www.tnpc.org/event/mens-bible-study-12/
LOCATION:CE Room 202
CATEGORIES:Men's
END:VEVENT
BEGIN:VEVENT
DTSTART;TZID=UTC:20260325T190000
DTEND;TZID=UTC:20260325T200000
DTSTAMP:20260423T142956
CREATED:20260318T185606Z
LAST-MODIFIED:20260318T185606Z
UID:31837-1774465200-1774468800@www.tnpc.org
SUMMARY:Wednesday Night Prayer
DESCRIPTION:Why do we pray? — We respond to God sending his Son to redeem and adopt us. What a privilege and joy to be regarded as sons and daughters of God and called to praise and worship him\, to confess to him\, to bring our needs\, sorrows\, and griefs to him! We meet in the CE Building\, Room 202 from 7:00-8:00pm. Please join us Wednesday nights! \n 
URL:https://www.tnpc.org/event/wednesday-night-prayer-33/
LOCATION:CE Room 202
CATEGORIES:Prayer
END:VEVENT
BEGIN:VEVENT
DTSTART;TZID=America/Chicago:20260324T183000
DTEND;TZID=America/Chicago:20260324T200000
DTSTAMP:20260423T142956
CREATED:20251205T201710Z
LAST-MODIFIED:20251205T201710Z
UID:31224-1774377000-1774382400@www.tnpc.org
SUMMARY:Ladies' Spring Bible Study - Evening
DESCRIPTION:Philippians: Living for Christ (Flourish Bible Study)
URL:https://www.tnpc.org/event/ladies-spring-bible-study-evening-11/
LOCATION:CE Building\, Rm 204
CATEGORIES:Bible Study,Women's Ministry
END:VEVENT
BEGIN:VEVENT
DTSTART;TZID=America/Chicago:20260324T093000
DTEND;TZID=America/Chicago:20260324T110000
DTSTAMP:20260423T142956
CREATED:20251205T201032Z
LAST-MODIFIED:20251205T201032Z
UID:31200-1774344600-1774350000@www.tnpc.org
SUMMARY:Ladies' Spring Bible Study - Morning
DESCRIPTION:Philippians: Living for Christ (Flourish Bible Study)
URL:https://www.tnpc.org/event/ladies-spring-bible-study-morning-11/
LOCATION:CE Building\, Rm 204
CATEGORIES:Bible Study,Women's Ministry
END:VEVENT
BEGIN:VEVENT
DTSTART;TZID=America/Chicago:20260322T163000
DTEND;TZID=America/Chicago:20260322T183000
DTSTAMP:20260423T142956
CREATED:20260120T182323Z
LAST-MODIFIED:20260120T182323Z
UID:31639-1774197000-1774204200@www.tnpc.org
SUMMARY:Youth Group Meeting
DESCRIPTION:
URL:https://www.tnpc.org/event/youth-group-meeting-24/
LOCATION:CE Bldg Rm 200 & 201
CATEGORIES:Youth Ministry
END:VEVENT
BEGIN:VEVENT
DTSTART;TZID=America/Chicago:20260322T163000
DTEND;TZID=America/Chicago:20260322T180000
DTSTAMP:20260423T142956
CREATED:20260312T153610Z
LAST-MODIFIED:20260312T153610Z
UID:31809-1774197000-1774202400@www.tnpc.org
SUMMARY:Covenant Clubhouse
DESCRIPTION:Join us for catechism\, singing\, and prayer. \nFor children ages 4 – 6th grade
URL:https://www.tnpc.org/event/covenant-clubhouse-14/
LOCATION:Fellowship Hall
CATEGORIES:Children's Ministry
END:VEVENT
BEGIN:VEVENT
DTSTART;TZID=America/Chicago:20260322T103000
DTEND;TZID=America/Chicago:20260322T120000
DTSTAMP:20260423T142956
CREATED:20251203T205419Z
LAST-MODIFIED:20251203T205419Z
UID:31125-1774175400-1774180800@www.tnpc.org
SUMMARY:Worship Service
DESCRIPTION:
URL:https://www.tnpc.org/event/worship-service-37/
LOCATION:Worship Center
CATEGORIES:Service
END:VEVENT
BEGIN:VEVENT
DTSTART;TZID=America/Chicago:20260322T100500
DTEND;TZID=America/Chicago:20260322T102000
DTSTAMP:20260423T142956
CREATED:20260217T182121Z
LAST-MODIFIED:20260217T182121Z
UID:31741-1774173900-1774174800@www.tnpc.org
SUMMARY:Prayer for Worship
DESCRIPTION:Please join us to call on the Lord together asking Him to work powerfully among us in worship by His Spirit.
URL:https://www.tnpc.org/event/prayer-for-worship-45/
LOCATION:CE Room 202
CATEGORIES:Prayer
END:VEVENT
BEGIN:VEVENT
DTSTART;TZID=America/Chicago:20260322T090000
DTEND;TZID=America/Chicago:20260322T100000
DTSTAMP:20260423T142956
CREATED:20251203T204647Z
LAST-MODIFIED:20251203T204647Z
UID:31095-1774170000-1774173600@www.tnpc.org
SUMMARY:Sunday School
DESCRIPTION:For all ages! \nin the CE Building
URL:https://www.tnpc.org/event/sunday-school-31/
LOCATION:CE Bldg
CATEGORIES:Sunday School
END:VEVENT
BEGIN:VEVENT
DTSTART;VALUE=DATE:20260322
DTEND;VALUE=DATE:20260323
DTSTAMP:20260423T142956
CREATED:20260128T155018Z
LAST-MODIFIED:20260128T155018Z
UID:31678-1774137600-1774223999@www.tnpc.org
SUMMARY:Communion
DESCRIPTION:Typically served on the second and fourth Sundays of the month.
URL:https://www.tnpc.org/event/communion-6/
LOCATION:Worship Center
END:VEVENT
END:VCALENDAR