BEGIN:VCALENDAR
VERSION:2.0
PRODID:-//Town North Presbyterian Church - ECPv6.15.20//NONSGML v1.0//EN
CALSCALE:GREGORIAN
METHOD:PUBLISH
X-WR-CALNAME:Town North Presbyterian Church
X-ORIGINAL-URL:https://www.tnpc.org
X-WR-CALDESC:Events for Town North Presbyterian Church
REFRESH-INTERVAL;VALUE=DURATION:PT1H
X-Robots-Tag:noindex
X-PUBLISHED-TTL:PT1H
BEGIN:VTIMEZONE
TZID:America/Chicago
BEGIN:DAYLIGHT
TZOFFSETFROM:-0600
TZOFFSETTO:-0500
TZNAME:CDT
DTSTART:20240310T080000
END:DAYLIGHT
BEGIN:STANDARD
TZOFFSETFROM:-0500
TZOFFSETTO:-0600
TZNAME:CST
DTSTART:20241103T070000
END:STANDARD
BEGIN:DAYLIGHT
TZOFFSETFROM:-0600
TZOFFSETTO:-0500
TZNAME:CDT
DTSTART:20250309T080000
END:DAYLIGHT
BEGIN:STANDARD
TZOFFSETFROM:-0500
TZOFFSETTO:-0600
TZNAME:CST
DTSTART:20251102T070000
END:STANDARD
BEGIN:DAYLIGHT
TZOFFSETFROM:-0600
TZOFFSETTO:-0500
TZNAME:CDT
DTSTART:20260308T080000
END:DAYLIGHT
BEGIN:STANDARD
TZOFFSETFROM:-0500
TZOFFSETTO:-0600
TZNAME:CST
DTSTART:20261101T070000
END:STANDARD
END:VTIMEZONE
BEGIN:VTIMEZONE
TZID:UTC
BEGIN:STANDARD
TZOFFSETFROM:+0000
TZOFFSETTO:+0000
TZNAME:UTC
DTSTART:20240101T000000
END:STANDARD
END:VTIMEZONE
BEGIN:VEVENT
DTSTART;TZID=America/Chicago:20250706T103000
DTEND;TZID=America/Chicago:20250706T120000
DTSTAMP:20260424T022206
CREATED:20241107T202430Z
LAST-MODIFIED:20241107T202430Z
UID:29703-1751797800-1751803200@www.tnpc.org
SUMMARY:Worship Service
DESCRIPTION:
URL:https://www.tnpc.org/event/worship-service-85/
LOCATION:Worship Center
CATEGORIES:Service
END:VEVENT
BEGIN:VEVENT
DTSTART;TZID=America/Chicago:20250706T093000
DTEND;TZID=America/Chicago:20250706T100000
DTSTAMP:20260424T022206
CREATED:20250617T172344Z
LAST-MODIFIED:20250617T172344Z
UID:30538-1751794200-1751796000@www.tnpc.org
SUMMARY:Prayer for Worship
DESCRIPTION:Please join us to call on the Lord together asking Him to work powerfully among us in worship by His Spirit.
URL:https://www.tnpc.org/event/prayer-for-worship-10/
LOCATION:CE Room 202
CATEGORIES:Prayer
END:VEVENT
BEGIN:VEVENT
DTSTART;TZID=UTC:20250702T190000
DTEND;TZID=UTC:20250702T200000
DTSTAMP:20260424T022206
CREATED:20241107T203415Z
LAST-MODIFIED:20250617T173302Z
UID:29755-1751482800-1751486400@www.tnpc.org
SUMMARY:Wednesday Night Prayer
DESCRIPTION:Why do we pray? — We respond to God sending his Son to redeem and adopt us. What a privilege and joy to be regarded as sons and daughters of God and called to praise and worship him\, to confess to him\, to bring our needs\, sorrows\, and griefs to him! We meet in the CE Building\, Room 202 from 7:00-8:00pm. Please join us on any Wednesday night! \n 
URL:https://www.tnpc.org/event/prayer-45/
LOCATION:CE Room 202
CATEGORIES:Prayer
END:VEVENT
BEGIN:VEVENT
DTSTART;TZID=America/Chicago:20250701T183000
DTEND;TZID=America/Chicago:20250701T200000
DTSTAMP:20260424T022206
CREATED:20250506T181008Z
LAST-MODIFIED:20250529T172232Z
UID:30384-1751394600-1751400000@www.tnpc.org
SUMMARY:Ladies' Summer Bible Study
DESCRIPTION:Matthew 5:6 – Those Who Hunger for Righteousness \nWomen’s summer Bible study on the Beatitudes starts June 3 at 6:30 pm in the CE Building\, Room 204.  The Beatitudes show the beginning of the road in following Jesus.  This doesn’t come from saying the right words – it starts in the heart. These are the road signs letting us know that we are on the right path and increasingly becoming like Him.  There is no registration. Each week one Beatitude will be discussed.  Come when you can.
URL:https://www.tnpc.org/event/ladies-summer-bible-study-4/
LOCATION:CE Building\, Rm 204
CATEGORIES:Bible Study,Women's Ministry
ORGANIZER;CN="Bonlee Rawley":MAILTO:bonlee_rawley@hotmail.com
END:VEVENT
BEGIN:VEVENT
DTSTART;TZID=America/Chicago:20250629T170000
DTEND;TZID=America/Chicago:20250629T190000
DTSTAMP:20260424T022206
CREATED:20250617T161059Z
LAST-MODIFIED:20250617T161059Z
UID:30526-1751216400-1751223600@www.tnpc.org
SUMMARY:Youth Group Meeting
DESCRIPTION:
URL:https://www.tnpc.org/event/youth-group-meeting-2/
LOCATION:CE Bldg Rm 200 & 201
CATEGORIES:Youth Ministry
END:VEVENT
BEGIN:VEVENT
DTSTART;TZID=America/Chicago:20250629T120000
DTEND;TZID=America/Chicago:20250629T150000
DTSTAMP:20260424T022206
CREATED:20250501T144340Z
LAST-MODIFIED:20250501T144340Z
UID:30372-1751198400-1751209200@www.tnpc.org
SUMMARY:Congregational Lunch for the Rogers
DESCRIPTION:
URL:https://www.tnpc.org/event/congregational-lunch-for-the-rogers/
LOCATION:Fellowship Hall & Courtyard
CATEGORIES:Special Event
END:VEVENT
BEGIN:VEVENT
DTSTART;TZID=America/Chicago:20250629T103000
DTEND;TZID=America/Chicago:20250629T120000
DTSTAMP:20260424T022206
CREATED:20241107T202414Z
LAST-MODIFIED:20241107T202414Z
UID:29701-1751193000-1751198400@www.tnpc.org
SUMMARY:Worship Service
DESCRIPTION:
URL:https://www.tnpc.org/event/worship-service-84/
LOCATION:Worship Center
CATEGORIES:Service
END:VEVENT
BEGIN:VEVENT
DTSTART;TZID=America/Chicago:20250629T093000
DTEND;TZID=America/Chicago:20250629T100000
DTSTAMP:20260424T022206
CREATED:20250617T172332Z
LAST-MODIFIED:20250617T172332Z
UID:30536-1751189400-1751191200@www.tnpc.org
SUMMARY:Prayer for Worship
DESCRIPTION:Please join us to call on the Lord together asking Him to work powerfully among us in worship by His Spirit.
URL:https://www.tnpc.org/event/prayer-for-worship-9/
LOCATION:CE Room 202
CATEGORIES:Prayer
END:VEVENT
BEGIN:VEVENT
DTSTART;TZID=America/Chicago:20250626T190000
DTEND;TZID=America/Chicago:20250626T200000
DTSTAMP:20260424T022206
CREATED:20250319T201228Z
LAST-MODIFIED:20250319T201228Z
UID:30283-1750964400-1750968000@www.tnpc.org
SUMMARY:Men's Bible Study
DESCRIPTION:
URL:https://www.tnpc.org/event/mens-bible-study-42/
CATEGORIES:Men's
END:VEVENT
BEGIN:VEVENT
DTSTART;TZID=UTC:20250625T190000
DTEND;TZID=UTC:20250625T200000
DTSTAMP:20260424T022206
CREATED:20241107T203358Z
LAST-MODIFIED:20241107T203358Z
UID:29753-1750878000-1750881600@www.tnpc.org
SUMMARY:Prayer
DESCRIPTION:
URL:https://www.tnpc.org/event/prayer-44/
CATEGORIES:Prayer
END:VEVENT
BEGIN:VEVENT
DTSTART;TZID=America/Chicago:20250624T183000
DTEND;TZID=America/Chicago:20250624T200000
DTSTAMP:20260424T022206
CREATED:20250506T180919Z
LAST-MODIFIED:20250529T172254Z
UID:30382-1750789800-1750795200@www.tnpc.org
SUMMARY:Ladies' Summer Bible Study
DESCRIPTION:Matthew 5:5 – The Meek \nWomen’s summer Bible study on the Beatitudes starts June 3 at 6:30 pm in the CE Building.  The Beatitudes show the beginning of the road in following Jesus.  This doesn’t come from saying the right words – it starts in the heart. These are the road signs letting us know that we are on the right path and increasingly becoming like Him.  There is no registration. Each week one Beatitude will be discussed.  Come when you can.
URL:https://www.tnpc.org/event/ladies-summer-bible-study-3/
LOCATION:CE Building\, Rm 204
CATEGORIES:Bible Study,Women's Ministry
ORGANIZER;CN="Bonlee Rawley":MAILTO:bonlee_rawley@hotmail.com
END:VEVENT
BEGIN:VEVENT
DTSTART;TZID=America/Chicago:20250622T170000
DTEND;TZID=America/Chicago:20250622T190000
DTSTAMP:20260424T022206
CREATED:20250617T161025Z
LAST-MODIFIED:20250617T161025Z
UID:30524-1750611600-1750618800@www.tnpc.org
SUMMARY:Youth Group Meeting
DESCRIPTION:
URL:https://www.tnpc.org/event/youth-group-meeting/
LOCATION:CE Bldg Rm 200 & 201
CATEGORIES:Youth Ministry
END:VEVENT
BEGIN:VEVENT
DTSTART;TZID=America/Chicago:20250622T103000
DTEND;TZID=America/Chicago:20250622T120000
DTSTAMP:20260424T022206
CREATED:20241107T202356Z
LAST-MODIFIED:20241107T202356Z
UID:29699-1750588200-1750593600@www.tnpc.org
SUMMARY:Worship Service
DESCRIPTION:
URL:https://www.tnpc.org/event/worship-service-83/
LOCATION:Worship Center
CATEGORIES:Service
END:VEVENT
BEGIN:VEVENT
DTSTART;TZID=America/Chicago:20250622T093000
DTEND;TZID=America/Chicago:20250622T100000
DTSTAMP:20260424T022206
CREATED:20250617T172318Z
LAST-MODIFIED:20250617T172318Z
UID:30532-1750584600-1750586400@www.tnpc.org
SUMMARY:Prayer for Worship
DESCRIPTION:Please join us to call on the Lord together asking Him to work powerfully among us in worship by His Spirit.
URL:https://www.tnpc.org/event/prayer-for-worship-8/
LOCATION:CE Room 202
CATEGORIES:Prayer
END:VEVENT
BEGIN:VEVENT
DTSTART;VALUE=DATE:20250622
DTEND;VALUE=DATE:20250623
DTSTAMP:20260424T022206
CREATED:20241219T194225Z
LAST-MODIFIED:20241219T194319Z
UID:29987-1750550400-1750636799@www.tnpc.org
SUMMARY:Communion
DESCRIPTION:Typically celebrated the second and fourth Sundays of the month
URL:https://www.tnpc.org/event/communion-36/
END:VEVENT
BEGIN:VEVENT
DTSTART;TZID=America/Chicago:20250619T190000
DTEND;TZID=America/Chicago:20250619T200000
DTSTAMP:20260424T022206
CREATED:20250319T201213Z
LAST-MODIFIED:20250319T201213Z
UID:30281-1750359600-1750363200@www.tnpc.org
SUMMARY:Men's Bible Study
DESCRIPTION:
URL:https://www.tnpc.org/event/mens-bible-study-41/
CATEGORIES:Men's
END:VEVENT
BEGIN:VEVENT
DTSTART;TZID=UTC:20250618T190000
DTEND;TZID=UTC:20250618T200000
DTSTAMP:20260424T022206
CREATED:20241107T203340Z
LAST-MODIFIED:20241107T203340Z
UID:29751-1750273200-1750276800@www.tnpc.org
SUMMARY:Prayer
DESCRIPTION:
URL:https://www.tnpc.org/event/prayer-43/
CATEGORIES:Prayer
END:VEVENT
BEGIN:VEVENT
DTSTART;TZID=America/Chicago:20250617T183000
DTEND;TZID=America/Chicago:20250617T200000
DTSTAMP:20260424T022206
CREATED:20250506T180819Z
LAST-MODIFIED:20250529T172311Z
UID:30379-1750185000-1750190400@www.tnpc.org
SUMMARY:Ladies' Summer Bible Study
DESCRIPTION:Matthew 5:4 – Those Who Mourn \nWomen’s summer Bible study on the Beatitudes starts June 3 at 6:30 pm in the CE Building.  The Beatitudes show the beginning of the road in following Jesus.  This doesn’t come from saying the right words – it starts in the heart. These are the road signs letting us know that we are on the right path and increasingly becoming like Him.  There is no registration. Each week one Beatitude will be discussed.  Come when you can.
URL:https://www.tnpc.org/event/ladies-summer-bible-study-2/
LOCATION:CE Building\, Rm 204
CATEGORIES:Bible Study,Women's Ministry
ORGANIZER;CN="Bonlee Rawley":MAILTO:bonlee_rawley@hotmail.com
END:VEVENT
BEGIN:VEVENT
DTSTART;TZID=America/Chicago:20250615T103000
DTEND;TZID=America/Chicago:20250615T120000
DTSTAMP:20260424T022206
CREATED:20241107T202340Z
LAST-MODIFIED:20241107T202340Z
UID:29697-1749983400-1749988800@www.tnpc.org
SUMMARY:Worship Service
DESCRIPTION:
URL:https://www.tnpc.org/event/worship-service-82/
LOCATION:Worship Center
CATEGORIES:Service
END:VEVENT
BEGIN:VEVENT
DTSTART;TZID=America/Chicago:20250614T100000
DTEND;TZID=America/Chicago:20250614T113000
DTSTAMP:20260424T022206
CREATED:20250307T190435Z
LAST-MODIFIED:20250307T190435Z
UID:30237-1749895200-1749900600@www.tnpc.org
SUMMARY:Women's Prayer Brunch
DESCRIPTION:
URL:https://www.tnpc.org/event/womens-prayer-brunch-4/
LOCATION:Fellowship Hall
CATEGORIES:Prayer,Women's Ministry
END:VEVENT
BEGIN:VEVENT
DTSTART;TZID=America/Chicago:20250612T190000
DTEND;TZID=America/Chicago:20250612T200000
DTSTAMP:20260424T022206
CREATED:20250319T201156Z
LAST-MODIFIED:20250319T201156Z
UID:30279-1749754800-1749758400@www.tnpc.org
SUMMARY:Men's Bible Study
DESCRIPTION:
URL:https://www.tnpc.org/event/mens-bible-study-40/
CATEGORIES:Men's
END:VEVENT
BEGIN:VEVENT
DTSTART;TZID=UTC:20250611T190000
DTEND;TZID=UTC:20250611T200000
DTSTAMP:20260424T022206
CREATED:20241107T203320Z
LAST-MODIFIED:20241107T203320Z
UID:29749-1749668400-1749672000@www.tnpc.org
SUMMARY:Prayer
DESCRIPTION:
URL:https://www.tnpc.org/event/prayer-42/
CATEGORIES:Prayer
END:VEVENT
BEGIN:VEVENT
DTSTART;TZID=America/Chicago:20250608T103000
DTEND;TZID=America/Chicago:20250608T120000
DTSTAMP:20260424T022206
CREATED:20241107T202313Z
LAST-MODIFIED:20241107T202313Z
UID:29695-1749378600-1749384000@www.tnpc.org
SUMMARY:Worship Service
DESCRIPTION:
URL:https://www.tnpc.org/event/worship-service-81/
LOCATION:Worship Center
CATEGORIES:Service
END:VEVENT
BEGIN:VEVENT
DTSTART;TZID=America/Chicago:20250608T090000
DTEND;TZID=America/Chicago:20250608T100000
DTSTAMP:20260424T022206
CREATED:20241107T204729Z
LAST-MODIFIED:20241107T204729Z
UID:29795-1749373200-1749376800@www.tnpc.org
SUMMARY:Sunday School
DESCRIPTION:For all ages! \nin the CE Building
URL:https://www.tnpc.org/event/sunday-school-55/
LOCATION:CE Bldg
CATEGORIES:Sunday School
END:VEVENT
BEGIN:VEVENT
DTSTART;TZID=America/Chicago:20250608T081500
DTEND;TZID=America/Chicago:20250608T084500
DTSTAMP:20260424T022206
CREATED:20250520T194304Z
LAST-MODIFIED:20250520T194304Z
UID:30430-1749370500-1749372300@www.tnpc.org
SUMMARY:Prayer for Worship
DESCRIPTION:
URL:https://www.tnpc.org/event/prayer-for-worship-7/
LOCATION:Worship Center
CATEGORIES:Prayer
END:VEVENT
BEGIN:VEVENT
DTSTART;VALUE=DATE:20250608
DTEND;VALUE=DATE:20250609
DTSTAMP:20260424T022206
CREATED:20241219T194211Z
LAST-MODIFIED:20241219T194211Z
UID:29985-1749340800-1749427199@www.tnpc.org
SUMMARY:Communion
DESCRIPTION:Typically celebrated the second and fourth Sundays of the month
URL:https://www.tnpc.org/event/communion-35/
END:VEVENT
BEGIN:VEVENT
DTSTART;TZID=America/Chicago:20250605T190000
DTEND;TZID=America/Chicago:20250605T200000
DTSTAMP:20260424T022206
CREATED:20250319T201136Z
LAST-MODIFIED:20250319T201136Z
UID:30277-1749150000-1749153600@www.tnpc.org
SUMMARY:Men's Bible Study
DESCRIPTION:
URL:https://www.tnpc.org/event/mens-bible-study-39/
CATEGORIES:Men's
END:VEVENT
BEGIN:VEVENT
DTSTART;TZID=UTC:20250604T190000
DTEND;TZID=UTC:20250604T200000
DTSTAMP:20260424T022206
CREATED:20241107T203303Z
LAST-MODIFIED:20241107T203303Z
UID:29747-1749063600-1749067200@www.tnpc.org
SUMMARY:Prayer
DESCRIPTION:
URL:https://www.tnpc.org/event/prayer-41/
CATEGORIES:Prayer
END:VEVENT
BEGIN:VEVENT
DTSTART;TZID=America/Chicago:20250603T183000
DTEND;TZID=America/Chicago:20250603T200000
DTSTAMP:20260424T022206
CREATED:20250506T180759Z
LAST-MODIFIED:20250506T183005Z
UID:30377-1748975400-1748980800@www.tnpc.org
SUMMARY:Ladies' Summer Bible Study
DESCRIPTION:Matthew 5:3 – The Poor in Spirit \nWomen’s summer Bible study on the Beatitudes starts June 3 at 6:30 pm in the CE Building.  The Beatitudes show the beginning of the road in following Jesus.  This doesn’t come from saying the right words – it starts in the heart. These are the road signs letting us know that we are on the right path and increasingly becoming like Him.  There is no registration. Each week one Beatitude will be discussed.  Come when you can.
URL:https://www.tnpc.org/event/ladies-summer-bible-study/
LOCATION:CE Building\, Rm 204
CATEGORIES:Bible Study,Women's Ministry
ORGANIZER;CN="Bonlee Rawley":MAILTO:bonlee_rawley@hotmail.com
END:VEVENT
BEGIN:VEVENT
DTSTART;TZID=America/Chicago:20250601T120000
DTEND;TZID=America/Chicago:20250601T133000
DTSTAMP:20260424T022206
CREATED:20250103T172139Z
LAST-MODIFIED:20250103T172139Z
UID:30102-1748779200-1748784600@www.tnpc.org
SUMMARY:Visitor Lunch
DESCRIPTION:
URL:https://www.tnpc.org/event/visitor-lunch-7/
LOCATION:Fellowship Hall & Kitchen
CATEGORIES:Fellowship Meal
END:VEVENT
END:VCALENDAR