BEGIN:VCALENDAR
VERSION:2.0
PRODID:-//Town North Presbyterian Church - ECPv6.15.20//NONSGML v1.0//EN
CALSCALE:GREGORIAN
METHOD:PUBLISH
X-WR-CALNAME:Town North Presbyterian Church
X-ORIGINAL-URL:https://www.tnpc.org
X-WR-CALDESC:Events for Town North Presbyterian Church
REFRESH-INTERVAL;VALUE=DURATION:PT1H
X-Robots-Tag:noindex
X-PUBLISHED-TTL:PT1H
BEGIN:VTIMEZONE
TZID:America/Chicago
BEGIN:DAYLIGHT
TZOFFSETFROM:-0600
TZOFFSETTO:-0500
TZNAME:CDT
DTSTART:20240310T080000
END:DAYLIGHT
BEGIN:STANDARD
TZOFFSETFROM:-0500
TZOFFSETTO:-0600
TZNAME:CST
DTSTART:20241103T070000
END:STANDARD
BEGIN:DAYLIGHT
TZOFFSETFROM:-0600
TZOFFSETTO:-0500
TZNAME:CDT
DTSTART:20250309T080000
END:DAYLIGHT
BEGIN:STANDARD
TZOFFSETFROM:-0500
TZOFFSETTO:-0600
TZNAME:CST
DTSTART:20251102T070000
END:STANDARD
BEGIN:DAYLIGHT
TZOFFSETFROM:-0600
TZOFFSETTO:-0500
TZNAME:CDT
DTSTART:20260308T080000
END:DAYLIGHT
BEGIN:STANDARD
TZOFFSETFROM:-0500
TZOFFSETTO:-0600
TZNAME:CST
DTSTART:20261101T070000
END:STANDARD
END:VTIMEZONE
BEGIN:VEVENT
DTSTART;TZID=America/Chicago:20250823T110000
DTEND;TZID=America/Chicago:20250823T130000
DTSTAMP:20260423T132857
CREATED:20250813T192851Z
LAST-MODIFIED:20250813T192851Z
UID:30736-1755946800-1755954000@www.tnpc.org
SUMMARY:Women's Fall Kick-Off Luncheon
DESCRIPTION:
URL:https://www.tnpc.org/event/womens-fall-kick-off-luncheon/
LOCATION:Fellowship Hall
CATEGORIES:Women's Ministry
END:VEVENT
BEGIN:VEVENT
DTSTART;TZID=America/Chicago:20250816T110000
DTEND;TZID=America/Chicago:20250816T130000
DTSTAMP:20260423T132857
CREATED:20250813T192145Z
LAST-MODIFIED:20250813T192145Z
UID:30734-1755342000-1755349200@www.tnpc.org
SUMMARY:Bridal Shower
DESCRIPTION:
URL:https://www.tnpc.org/event/bridal-shower/
LOCATION:Fellowship Hall
CATEGORIES:Shower,Women's Ministry
END:VEVENT
BEGIN:VEVENT
DTSTART;TZID=America/Chicago:20250809T100000
DTEND;TZID=America/Chicago:20250809T113000
DTSTAMP:20260423T132857
CREATED:20250307T190510Z
LAST-MODIFIED:20250307T190510Z
UID:30239-1754733600-1754739000@www.tnpc.org
SUMMARY:Women's Prayer Brunch
DESCRIPTION:
URL:https://www.tnpc.org/event/womens-prayer-brunch-5/
LOCATION:Fellowship Hall
CATEGORIES:Prayer,Women's Ministry
END:VEVENT
BEGIN:VEVENT
DTSTART;TZID=America/Chicago:20250802T130000
DTEND;TZID=America/Chicago:20250802T150000
DTSTAMP:20260423T132857
CREATED:20250730T160142Z
LAST-MODIFIED:20250730T160142Z
UID:30677-1754139600-1754146800@www.tnpc.org
SUMMARY:Baby Shower
DESCRIPTION:
URL:https://www.tnpc.org/event/baby-shower-3/
LOCATION:Offsite
CATEGORIES:Shower,Women's Ministry
END:VEVENT
BEGIN:VEVENT
DTSTART;TZID=America/Chicago:20250729T183000
DTEND;TZID=America/Chicago:20250729T200000
DTSTAMP:20260423T132857
CREATED:20250506T181200Z
LAST-MODIFIED:20250529T172053Z
UID:30392-1753813800-1753819200@www.tnpc.org
SUMMARY:Ladies' Summer Bible Study
DESCRIPTION:Matthew 5:10-12 – Those Who are Persecuted \nWomen’s summer Bible study on the Beatitudes starts June 3 at 6:30 pm in the CE Building\, Room 204.  The Beatitudes show the beginning of the road in following Jesus.  This doesn’t come from saying the right words – it starts in the heart. These are the road signs letting us know that we are on the right path and increasingly becoming like Him.  There is no registration. Each week one Beatitude will be discussed.  Come when you can.
URL:https://www.tnpc.org/event/ladies-summer-bible-study-8/
LOCATION:CE Building\, Rm 204
CATEGORIES:Bible Study,Women's Ministry
ORGANIZER;CN="Bonlee Rawley":MAILTO:bonlee_rawley@hotmail.com
END:VEVENT
BEGIN:VEVENT
DTSTART;TZID=America/Chicago:20250722T183000
DTEND;TZID=America/Chicago:20250722T200000
DTSTAMP:20260423T132857
CREATED:20250506T181129Z
LAST-MODIFIED:20250529T172121Z
UID:30390-1753209000-1753214400@www.tnpc.org
SUMMARY:Ladies' Summer Bible Study
DESCRIPTION:Matthew 5:9 – The Peacemakers \nWomen’s summer Bible study on the Beatitudes starts June 3 at 6:30 pm in the CE Building\, Room 204.  The Beatitudes show the beginning of the road in following Jesus.  This doesn’t come from saying the right words – it starts in the heart. These are the road signs letting us know that we are on the right path and increasingly becoming like Him.  There is no registration. Each week one Beatitude will be discussed.  Come when you can.
URL:https://www.tnpc.org/event/ladies-summer-bible-study-7/
LOCATION:CE Building\, Rm 204
CATEGORIES:Bible Study,Women's Ministry
ORGANIZER;CN="Bonlee Rawley":MAILTO:bonlee_rawley@hotmail.com
END:VEVENT
BEGIN:VEVENT
DTSTART;TZID=America/Chicago:20250720T140000
DTEND;TZID=America/Chicago:20250720T160000
DTSTAMP:20260423T132857
CREATED:20250514T144729Z
LAST-MODIFIED:20250514T144729Z
UID:30411-1753020000-1753027200@www.tnpc.org
SUMMARY:Baby Shower
DESCRIPTION:Held offsite
URL:https://www.tnpc.org/event/baby-shower-2/
LOCATION:Off campus
CATEGORIES:Shower,Women's Ministry
END:VEVENT
BEGIN:VEVENT
DTSTART;TZID=America/Chicago:20250715T183000
DTEND;TZID=America/Chicago:20250715T200000
DTSTAMP:20260423T132857
CREATED:20250506T181104Z
LAST-MODIFIED:20250529T172154Z
UID:30388-1752604200-1752609600@www.tnpc.org
SUMMARY:Ladies' Summer Bible Study
DESCRIPTION:Matthew 5:8 – The Pure in Heart \nWomen’s summer Bible study on the Beatitudes starts June 3 at 6:30 pm in the CE Building\, Room 204.  The Beatitudes show the beginning of the road in following Jesus.  This doesn’t come from saying the right words – it starts in the heart. These are the road signs letting us know that we are on the right path and increasingly becoming like Him.  There is no registration. Each week one Beatitude will be discussed.  Come when you can.
URL:https://www.tnpc.org/event/ladies-summer-bible-study-6/
LOCATION:CE Building\, Rm 204
CATEGORIES:Bible Study,Women's Ministry
ORGANIZER;CN="Bonlee Rawley":MAILTO:bonlee_rawley@hotmail.com
END:VEVENT
BEGIN:VEVENT
DTSTART;TZID=America/Chicago:20250708T183000
DTEND;TZID=America/Chicago:20250708T200000
DTSTAMP:20260423T132857
CREATED:20250506T181035Z
LAST-MODIFIED:20250529T172210Z
UID:30386-1751999400-1752004800@www.tnpc.org
SUMMARY:Ladies' Summer Bible Study
DESCRIPTION:Matthew 5:7 – The Merciful \nWomen’s summer Bible study on the Beatitudes starts June 3 at 6:30 pm in the CE Building\, Room 204.  The Beatitudes show the beginning of the road in following Jesus.  This doesn’t come from saying the right words – it starts in the heart. These are the road signs letting us know that we are on the right path and increasingly becoming like Him.  There is no registration. Each week one Beatitude will be discussed.  Come when you can.
URL:https://www.tnpc.org/event/ladies-summer-bible-study-5/
LOCATION:CE Building\, Rm 204
CATEGORIES:Bible Study,Women's Ministry
ORGANIZER;CN="Bonlee Rawley":MAILTO:bonlee_rawley@hotmail.com
END:VEVENT
BEGIN:VEVENT
DTSTART;TZID=America/Chicago:20250701T183000
DTEND;TZID=America/Chicago:20250701T200000
DTSTAMP:20260423T132857
CREATED:20250506T181008Z
LAST-MODIFIED:20250529T172232Z
UID:30384-1751394600-1751400000@www.tnpc.org
SUMMARY:Ladies' Summer Bible Study
DESCRIPTION:Matthew 5:6 – Those Who Hunger for Righteousness \nWomen’s summer Bible study on the Beatitudes starts June 3 at 6:30 pm in the CE Building\, Room 204.  The Beatitudes show the beginning of the road in following Jesus.  This doesn’t come from saying the right words – it starts in the heart. These are the road signs letting us know that we are on the right path and increasingly becoming like Him.  There is no registration. Each week one Beatitude will be discussed.  Come when you can.
URL:https://www.tnpc.org/event/ladies-summer-bible-study-4/
LOCATION:CE Building\, Rm 204
CATEGORIES:Bible Study,Women's Ministry
ORGANIZER;CN="Bonlee Rawley":MAILTO:bonlee_rawley@hotmail.com
END:VEVENT
BEGIN:VEVENT
DTSTART;TZID=America/Chicago:20250624T183000
DTEND;TZID=America/Chicago:20250624T200000
DTSTAMP:20260423T132857
CREATED:20250506T180919Z
LAST-MODIFIED:20250529T172254Z
UID:30382-1750789800-1750795200@www.tnpc.org
SUMMARY:Ladies' Summer Bible Study
DESCRIPTION:Matthew 5:5 – The Meek \nWomen’s summer Bible study on the Beatitudes starts June 3 at 6:30 pm in the CE Building.  The Beatitudes show the beginning of the road in following Jesus.  This doesn’t come from saying the right words – it starts in the heart. These are the road signs letting us know that we are on the right path and increasingly becoming like Him.  There is no registration. Each week one Beatitude will be discussed.  Come when you can.
URL:https://www.tnpc.org/event/ladies-summer-bible-study-3/
LOCATION:CE Building\, Rm 204
CATEGORIES:Bible Study,Women's Ministry
ORGANIZER;CN="Bonlee Rawley":MAILTO:bonlee_rawley@hotmail.com
END:VEVENT
BEGIN:VEVENT
DTSTART;TZID=America/Chicago:20250617T183000
DTEND;TZID=America/Chicago:20250617T200000
DTSTAMP:20260423T132857
CREATED:20250506T180819Z
LAST-MODIFIED:20250529T172311Z
UID:30379-1750185000-1750190400@www.tnpc.org
SUMMARY:Ladies' Summer Bible Study
DESCRIPTION:Matthew 5:4 – Those Who Mourn \nWomen’s summer Bible study on the Beatitudes starts June 3 at 6:30 pm in the CE Building.  The Beatitudes show the beginning of the road in following Jesus.  This doesn’t come from saying the right words – it starts in the heart. These are the road signs letting us know that we are on the right path and increasingly becoming like Him.  There is no registration. Each week one Beatitude will be discussed.  Come when you can.
URL:https://www.tnpc.org/event/ladies-summer-bible-study-2/
LOCATION:CE Building\, Rm 204
CATEGORIES:Bible Study,Women's Ministry
ORGANIZER;CN="Bonlee Rawley":MAILTO:bonlee_rawley@hotmail.com
END:VEVENT
BEGIN:VEVENT
DTSTART;TZID=America/Chicago:20250614T100000
DTEND;TZID=America/Chicago:20250614T113000
DTSTAMP:20260423T132857
CREATED:20250307T190435Z
LAST-MODIFIED:20250307T190435Z
UID:30237-1749895200-1749900600@www.tnpc.org
SUMMARY:Women's Prayer Brunch
DESCRIPTION:
URL:https://www.tnpc.org/event/womens-prayer-brunch-4/
LOCATION:Fellowship Hall
CATEGORIES:Prayer,Women's Ministry
END:VEVENT
BEGIN:VEVENT
DTSTART;TZID=America/Chicago:20250603T183000
DTEND;TZID=America/Chicago:20250603T200000
DTSTAMP:20260423T132857
CREATED:20250506T180759Z
LAST-MODIFIED:20250506T183005Z
UID:30377-1748975400-1748980800@www.tnpc.org
SUMMARY:Ladies' Summer Bible Study
DESCRIPTION:Matthew 5:3 – The Poor in Spirit \nWomen’s summer Bible study on the Beatitudes starts June 3 at 6:30 pm in the CE Building.  The Beatitudes show the beginning of the road in following Jesus.  This doesn’t come from saying the right words – it starts in the heart. These are the road signs letting us know that we are on the right path and increasingly becoming like Him.  There is no registration. Each week one Beatitude will be discussed.  Come when you can.
URL:https://www.tnpc.org/event/ladies-summer-bible-study/
LOCATION:CE Building\, Rm 204
CATEGORIES:Bible Study,Women's Ministry
ORGANIZER;CN="Bonlee Rawley":MAILTO:bonlee_rawley@hotmail.com
END:VEVENT
BEGIN:VEVENT
DTSTART;TZID=America/Chicago:20250426T100000
DTEND;TZID=America/Chicago:20250426T113000
DTSTAMP:20260423T132857
CREATED:20250307T190344Z
LAST-MODIFIED:20250307T190344Z
UID:30235-1745661600-1745667000@www.tnpc.org
SUMMARY:Women's Prayer Brunch
DESCRIPTION:
URL:https://www.tnpc.org/event/womens-prayer-brunch/
LOCATION:Fellowship Hall
CATEGORIES:Prayer,Women's Ministry
END:VEVENT
BEGIN:VEVENT
DTSTART;TZID=America/Chicago:20250422T183000
DTEND;TZID=America/Chicago:20250422T203000
DTSTAMP:20260423T132857
CREATED:20241230T221857Z
LAST-MODIFIED:20241230T221857Z
UID:30061-1745346600-1745353800@www.tnpc.org
SUMMARY:Ladies Evening Bible Study
DESCRIPTION:Colossians: Fullness of Life in Christ By Lydia Brownback \n  \n 
URL:https://www.tnpc.org/event/ladies-evening-bible-study-36/
LOCATION:CE Rm 205-206
CATEGORIES:Bible Study,Women's Ministry
ORGANIZER;CN="Bonlee Rawley":MAILTO:bonlee_rawley@hotmail.com
END:VEVENT
BEGIN:VEVENT
DTSTART;TZID=America/Chicago:20250422T093000
DTEND;TZID=America/Chicago:20250422T113000
DTSTAMP:20260423T132857
CREATED:20241230T222153Z
LAST-MODIFIED:20241230T222153Z
UID:30083-1745314200-1745321400@www.tnpc.org
SUMMARY:Ladies Morning Bible Study
DESCRIPTION:Colossians: Fullness of Life in Christ by Lydia Brownback \n  \n 
URL:https://www.tnpc.org/event/ladies-morning-bible-study-35/
LOCATION:CE Rm 205-206
CATEGORIES:Bible Study,Women's Ministry
ORGANIZER;CN="Bonlee Rawley":MAILTO:bonlee_rawley@hotmail.com
END:VEVENT
END:VCALENDAR