BEGIN:VCALENDAR
VERSION:2.0
PRODID:-//Town North Presbyterian Church - ECPv6.15.20//NONSGML v1.0//EN
CALSCALE:GREGORIAN
METHOD:PUBLISH
X-ORIGINAL-URL:https://www.tnpc.org
X-WR-CALDESC:Events for Town North Presbyterian Church
REFRESH-INTERVAL;VALUE=DURATION:PT1H
X-Robots-Tag:noindex
X-PUBLISHED-TTL:PT1H
BEGIN:VTIMEZONE
TZID:America/Chicago
BEGIN:DAYLIGHT
TZOFFSETFROM:-0600
TZOFFSETTO:-0500
TZNAME:CDT
DTSTART:20250309T080000
END:DAYLIGHT
BEGIN:STANDARD
TZOFFSETFROM:-0500
TZOFFSETTO:-0600
TZNAME:CST
DTSTART:20251102T070000
END:STANDARD
BEGIN:DAYLIGHT
TZOFFSETFROM:-0600
TZOFFSETTO:-0500
TZNAME:CDT
DTSTART:20260308T080000
END:DAYLIGHT
BEGIN:STANDARD
TZOFFSETFROM:-0500
TZOFFSETTO:-0600
TZNAME:CST
DTSTART:20261101T070000
END:STANDARD
BEGIN:DAYLIGHT
TZOFFSETFROM:-0600
TZOFFSETTO:-0500
TZNAME:CDT
DTSTART:20270314T080000
END:DAYLIGHT
BEGIN:STANDARD
TZOFFSETFROM:-0500
TZOFFSETTO:-0600
TZNAME:CST
DTSTART:20271107T070000
END:STANDARD
END:VTIMEZONE
BEGIN:VEVENT
DTSTART;TZID=America/Chicago:20260503T120000
DTEND;TZID=America/Chicago:20260503T133000
DTSTAMP:20260423T140722
CREATED:20260102T162855Z
LAST-MODIFIED:20260102T162855Z
UID:31552-1777809600-1777815000@www.tnpc.org
SUMMARY:Visitor Lunch
DESCRIPTION:Visitors are very welcome!
URL:https://www.tnpc.org/event/visitor-lunch-9/
LOCATION:Fellowship Hall & Kitchen
CATEGORIES:Visitor Lunch
END:VEVENT
BEGIN:VEVENT
DTSTART;TZID=America/Chicago:20260607T120000
DTEND;TZID=America/Chicago:20260607T133000
DTSTAMP:20260423T140722
CREATED:20260102T162909Z
LAST-MODIFIED:20260102T162909Z
UID:31554-1780833600-1780839000@www.tnpc.org
SUMMARY:Visitor Lunch
DESCRIPTION:Visitors are very welcome!
URL:https://www.tnpc.org/event/visitor-lunch-11/
LOCATION:Fellowship Hall & Kitchen
CATEGORIES:Visitor Lunch
END:VEVENT
BEGIN:VEVENT
DTSTART;TZID=America/Chicago:20260802T120000
DTEND;TZID=America/Chicago:20260802T133000
DTSTAMP:20260423T140722
CREATED:20260113T202131Z
LAST-MODIFIED:20260113T202131Z
UID:31609-1785672000-1785677400@www.tnpc.org
SUMMARY:Visitor Lunch
DESCRIPTION:Visitors are very welcome!
URL:https://www.tnpc.org/event/visitor-lunch-8/
LOCATION:Fellowship Hall & Kitchen
CATEGORIES:Visitor Lunch
END:VEVENT
BEGIN:VEVENT
DTSTART;TZID=America/Chicago:20260906T120000
DTEND;TZID=America/Chicago:20260906T133000
DTSTAMP:20260423T140722
CREATED:20260113T202143Z
LAST-MODIFIED:20260113T202143Z
UID:31611-1788696000-1788701400@www.tnpc.org
SUMMARY:Visitor Lunch
DESCRIPTION:Visitors are very welcome!
URL:https://www.tnpc.org/event/visitor-lunch-12/
LOCATION:Fellowship Hall & Kitchen
CATEGORIES:Visitor Lunch
END:VEVENT
BEGIN:VEVENT
DTSTART;TZID=America/Chicago:20261004T120000
DTEND;TZID=America/Chicago:20261004T133000
DTSTAMP:20260423T140722
CREATED:20260113T202158Z
LAST-MODIFIED:20260113T202158Z
UID:31613-1791115200-1791120600@www.tnpc.org
SUMMARY:Visitor Lunch
DESCRIPTION:Visitors are very welcome!
URL:https://www.tnpc.org/event/visitor-lunch-13/
LOCATION:Fellowship Hall & Kitchen
CATEGORIES:Visitor Lunch
END:VEVENT
BEGIN:VEVENT
DTSTART;TZID=America/Chicago:20261101T120000
DTEND;TZID=America/Chicago:20261101T133000
DTSTAMP:20260423T140722
CREATED:20260113T202722Z
LAST-MODIFIED:20260113T202722Z
UID:31615-1793534400-1793539800@www.tnpc.org
SUMMARY:Visitor Lunch
DESCRIPTION:Visitors are very welcome!
URL:https://www.tnpc.org/event/visitor-lunch-17/
LOCATION:Fellowship Hall & Kitchen
CATEGORIES:Visitor Lunch
END:VEVENT
END:VCALENDAR