BEGIN:VCALENDAR
VERSION:2.0
PRODID:-//Town North Presbyterian Church - ECPv6.15.20//NONSGML v1.0//EN
CALSCALE:GREGORIAN
METHOD:PUBLISH
X-WR-CALNAME:Town North Presbyterian Church
X-ORIGINAL-URL:https://www.tnpc.org
X-WR-CALDESC:Events for Town North Presbyterian Church
REFRESH-INTERVAL;VALUE=DURATION:PT1H
X-Robots-Tag:noindex
X-PUBLISHED-TTL:PT1H
BEGIN:VTIMEZONE
TZID:America/Chicago
BEGIN:DAYLIGHT
TZOFFSETFROM:-0600
TZOFFSETTO:-0500
TZNAME:CDT
DTSTART:20240310T080000
END:DAYLIGHT
BEGIN:STANDARD
TZOFFSETFROM:-0500
TZOFFSETTO:-0600
TZNAME:CST
DTSTART:20241103T070000
END:STANDARD
BEGIN:DAYLIGHT
TZOFFSETFROM:-0600
TZOFFSETTO:-0500
TZNAME:CDT
DTSTART:20250309T080000
END:DAYLIGHT
BEGIN:STANDARD
TZOFFSETFROM:-0500
TZOFFSETTO:-0600
TZNAME:CST
DTSTART:20251102T070000
END:STANDARD
BEGIN:DAYLIGHT
TZOFFSETFROM:-0600
TZOFFSETTO:-0500
TZNAME:CDT
DTSTART:20260308T080000
END:DAYLIGHT
BEGIN:STANDARD
TZOFFSETFROM:-0500
TZOFFSETTO:-0600
TZNAME:CST
DTSTART:20261101T070000
END:STANDARD
BEGIN:DAYLIGHT
TZOFFSETFROM:-0600
TZOFFSETTO:-0500
TZNAME:CDT
DTSTART:20270314T080000
END:DAYLIGHT
BEGIN:STANDARD
TZOFFSETFROM:-0500
TZOFFSETTO:-0600
TZNAME:CST
DTSTART:20271107T070000
END:STANDARD
END:VTIMEZONE
BEGIN:VEVENT
DTSTART;TZID=America/Chicago:20260418T110000
DTEND;TZID=America/Chicago:20260418T130000
DTSTAMP:20260423T142522
CREATED:20260319T153811Z
LAST-MODIFIED:20260408T171023Z
UID:31889-1776510000-1776517200@www.tnpc.org
SUMMARY:Women's Spring Luncheon
DESCRIPTION:Guest Speaker: Debbie Gibson
URL:https://www.tnpc.org/event/womens-spring-luncheon/
LOCATION:Fellowship Hall
CATEGORIES:Special Event,Women's Ministry
END:VEVENT
BEGIN:VEVENT
DTSTART;TZID=America/Chicago:20260411T140000
DTEND;TZID=America/Chicago:20260411T160000
DTSTAMP:20260423T142522
CREATED:20260319T154025Z
LAST-MODIFIED:20260319T154025Z
UID:31891-1775916000-1775923200@www.tnpc.org
SUMMARY:Men's Book Discussion: Part 2
DESCRIPTION:Book: The True Bounds of Christian Freedom by Samuel Bolton
URL:https://www.tnpc.org/event/mens-book-discussion-part-2/
LOCATION:Fellowship Hall
CATEGORIES:Men's Event,Special Event
END:VEVENT
BEGIN:VEVENT
DTSTART;TZID=America/Chicago:20260405T090000
DTEND;TZID=America/Chicago:20260405T220000
DTSTAMP:20260423T142522
CREATED:20260303T204326Z
LAST-MODIFIED:20260303T204326Z
UID:31766-1775379600-1775426400@www.tnpc.org
SUMMARY:Easter Fellowship
DESCRIPTION:Please bring a brunch-type food to share!
URL:https://www.tnpc.org/event/easter-fellowship/
LOCATION:Fellowship Hall & Kitchen
CATEGORIES:Holiday,Special Event
END:VEVENT
BEGIN:VEVENT
DTSTART;TZID=America/Chicago:20260403T180000
DTEND;TZID=America/Chicago:20260403T190000
DTSTAMP:20260423T142522
CREATED:20260303T204157Z
LAST-MODIFIED:20260320T171654Z
UID:31764-1775239200-1775242800@www.tnpc.org
SUMMARY:Good Friday Worship
DESCRIPTION:
URL:https://www.tnpc.org/event/good-friday-worship/
LOCATION:Worship Center
CATEGORIES:Holiday,Special Event
END:VEVENT
BEGIN:VEVENT
DTSTART;TZID=America/Chicago:20260314T140000
DTEND;TZID=America/Chicago:20260314T160000
DTSTAMP:20260423T142522
CREATED:20260319T154124Z
LAST-MODIFIED:20260319T154124Z
UID:31893-1773496800-1773504000@www.tnpc.org
SUMMARY:Men's Book Discussion
DESCRIPTION:Book: The True Bounds of Christian Freedom by Samuel Bolton
URL:https://www.tnpc.org/event/mens-book-discussion/
LOCATION:Fellowship Hall
CATEGORIES:Men's Event,Special Event
END:VEVENT
BEGIN:VEVENT
DTSTART;TZID=America/Chicago:20251224T173000
DTEND;TZID=America/Chicago:20251224T183000
DTSTAMP:20260423T142522
CREATED:20251030T145749Z
LAST-MODIFIED:20251030T145749Z
UID:31000-1766597400-1766601000@www.tnpc.org
SUMMARY:Christmas Eve Service
DESCRIPTION:
URL:https://www.tnpc.org/event/christmas-eve-service-2/
LOCATION:Worship Center
CATEGORIES:Holiday,Special Event
END:VEVENT
BEGIN:VEVENT
DTSTART;TZID=America/Chicago:20251207T170000
DTEND;TZID=America/Chicago:20251207T183000
DTSTAMP:20260423T142522
CREATED:20251030T145702Z
LAST-MODIFIED:20251202T184320Z
UID:30998-1765126800-1765132200@www.tnpc.org
SUMMARY:Lessons & Carols
DESCRIPTION:Join us as we celebrate Christ’s birth through Scripture reading and song. Please bring an appetizer or dessert to share for the reception that will follow!
URL:https://www.tnpc.org/event/lessons-carols/
LOCATION:Worship Center
CATEGORIES:Holiday,Special Event
END:VEVENT
BEGIN:VEVENT
DTSTART;TZID=America/Chicago:20251126T183000
DTEND;TZID=America/Chicago:20251126T193000
DTSTAMP:20260423T142522
CREATED:20251030T145620Z
LAST-MODIFIED:20251030T145620Z
UID:30996-1764181800-1764185400@www.tnpc.org
SUMMARY:Thanksgiving Eve Service
DESCRIPTION:
URL:https://www.tnpc.org/event/thanksgiving-eve-service-2/
LOCATION:Worship Center
CATEGORIES:Holiday,Special Event
END:VEVENT
BEGIN:VEVENT
DTSTART;TZID=America/Chicago:20250629T120000
DTEND;TZID=America/Chicago:20250629T150000
DTSTAMP:20260423T142522
CREATED:20250501T144340Z
LAST-MODIFIED:20250501T144340Z
UID:30372-1751198400-1751209200@www.tnpc.org
SUMMARY:Congregational Lunch for the Rogers
DESCRIPTION:
URL:https://www.tnpc.org/event/congregational-lunch-for-the-rogers/
LOCATION:Fellowship Hall & Courtyard
CATEGORIES:Special Event
END:VEVENT
BEGIN:VEVENT
DTSTART;TZID=America/Chicago:20250525T160000
DTEND;TZID=America/Chicago:20250525T190000
DTSTAMP:20260423T142522
CREATED:20250428T195538Z
LAST-MODIFIED:20250428T195538Z
UID:30370-1748188800-1748199600@www.tnpc.org
SUMMARY:TNPC Church Picnic
DESCRIPTION:We will have traditional picnic games\, inflatables for the kids\, food\, and fellowship. \nPlease bring a side or dessert.
URL:https://www.tnpc.org/event/tnpc-church-picnic/
LOCATION:TNPC Courtyard
CATEGORIES:Special Event
END:VEVENT
BEGIN:VEVENT
DTSTART;TZID=America/Chicago:20250420T090000
DTEND;TZID=America/Chicago:20250420T100000
DTSTAMP:20260423T142522
CREATED:20241107T204022Z
LAST-MODIFIED:20250402T151929Z
UID:29783-1745139600-1745143200@www.tnpc.org
SUMMARY:Easter Fellowship
DESCRIPTION:Please bring a brunch-type food to share!
URL:https://www.tnpc.org/event/sunday-school-49/
LOCATION:Fellowship Hall & Kitchen
CATEGORIES:Holiday,Special Event
END:VEVENT
BEGIN:VEVENT
DTSTART;TZID=America/Chicago:20250418T183000
DTEND;TZID=America/Chicago:20250418T200000
DTSTAMP:20260423T142522
CREATED:20250218T174846Z
LAST-MODIFIED:20250402T151406Z
UID:30219-1745001000-1745006400@www.tnpc.org
SUMMARY:Good Friday Service
DESCRIPTION:Good Friday worship with extended time for prayer and meditation on the Word \n  \n 
URL:https://www.tnpc.org/event/good-friday/
LOCATION:Worship Center
CATEGORIES:Holiday,Special Event
END:VEVENT
BEGIN:VEVENT
DTSTART;TZID=America/Chicago:20250417T063000
DTEND;TZID=America/Chicago:20250417T200000
DTSTAMP:20260423T142522
CREATED:20250218T174908Z
LAST-MODIFIED:20250402T151438Z
UID:30221-1744871400-1744920000@www.tnpc.org
SUMMARY:Maundy Thursday Service
DESCRIPTION:Maundy Thursday worship – including the Lord’s Supper \n  \n 
URL:https://www.tnpc.org/event/maundy-thursday/
LOCATION:Worship Center
CATEGORIES:Holiday,Special Event
END:VEVENT
END:VCALENDAR