BEGIN:VCALENDAR
VERSION:2.0
PRODID:-//Town North Presbyterian Church - ECPv6.15.20//NONSGML v1.0//EN
CALSCALE:GREGORIAN
METHOD:PUBLISH
X-WR-CALNAME:Town North Presbyterian Church
X-ORIGINAL-URL:https://www.tnpc.org
X-WR-CALDESC:Events for Town North Presbyterian Church
REFRESH-INTERVAL;VALUE=DURATION:PT1H
X-Robots-Tag:noindex
X-PUBLISHED-TTL:PT1H
BEGIN:VTIMEZONE
TZID:America/Chicago
BEGIN:DAYLIGHT
TZOFFSETFROM:-0600
TZOFFSETTO:-0500
TZNAME:CDT
DTSTART:20250309T080000
END:DAYLIGHT
BEGIN:STANDARD
TZOFFSETFROM:-0500
TZOFFSETTO:-0600
TZNAME:CST
DTSTART:20251102T070000
END:STANDARD
BEGIN:DAYLIGHT
TZOFFSETFROM:-0600
TZOFFSETTO:-0500
TZNAME:CDT
DTSTART:20260308T080000
END:DAYLIGHT
BEGIN:STANDARD
TZOFFSETFROM:-0500
TZOFFSETTO:-0600
TZNAME:CST
DTSTART:20261101T070000
END:STANDARD
BEGIN:DAYLIGHT
TZOFFSETFROM:-0600
TZOFFSETTO:-0500
TZNAME:CDT
DTSTART:20270314T080000
END:DAYLIGHT
BEGIN:STANDARD
TZOFFSETFROM:-0500
TZOFFSETTO:-0600
TZNAME:CST
DTSTART:20271107T070000
END:STANDARD
END:VTIMEZONE
BEGIN:VTIMEZONE
TZID:UTC
BEGIN:STANDARD
TZOFFSETFROM:+0000
TZOFFSETTO:+0000
TZNAME:UTC
DTSTART:20250101T000000
END:STANDARD
END:VTIMEZONE
BEGIN:VEVENT
DTSTART;TZID=America/Chicago:20260301T100500
DTEND;TZID=America/Chicago:20260301T102000
DTSTAMP:20260423T165312
CREATED:20260217T182019Z
LAST-MODIFIED:20260217T182019Z
UID:31735-1772359500-1772360400@www.tnpc.org
SUMMARY:Prayer for Worship
DESCRIPTION:Please join us to call on the Lord together asking Him to work powerfully among us in worship by His Spirit.
URL:https://www.tnpc.org/event/prayer-for-worship-42/
LOCATION:CE Room 202
CATEGORIES:Prayer
END:VEVENT
BEGIN:VEVENT
DTSTART;TZID=UTC:20260304T190000
DTEND;TZID=UTC:20260304T200000
DTSTAMP:20260423T165312
CREATED:20251204T153424Z
LAST-MODIFIED:20251204T153424Z
UID:31168-1772650800-1772654400@www.tnpc.org
SUMMARY:Wednesday Night Prayer
DESCRIPTION:Why do we pray? — We respond to God sending his Son to redeem and adopt us. What a privilege and joy to be regarded as sons and daughters of God and called to praise and worship him\, to confess to him\, to bring our needs\, sorrows\, and griefs to him! We meet in the CE Building\, Room 202 from 7:00-8:00pm. Please join us Wednesday nights! \n 
URL:https://www.tnpc.org/event/wednesday-night-prayer-30/
LOCATION:CE Room 202
CATEGORIES:Prayer
END:VEVENT
BEGIN:VEVENT
DTSTART;TZID=America/Chicago:20260308T100500
DTEND;TZID=America/Chicago:20260308T102000
DTSTAMP:20260423T165312
CREATED:20260217T182034Z
LAST-MODIFIED:20260217T182034Z
UID:31737-1772964300-1772965200@www.tnpc.org
SUMMARY:Prayer for Worship
DESCRIPTION:Please join us to call on the Lord together asking Him to work powerfully among us in worship by His Spirit.
URL:https://www.tnpc.org/event/prayer-for-worship-43/
LOCATION:CE Room 202
CATEGORIES:Prayer
END:VEVENT
BEGIN:VEVENT
DTSTART;TZID=UTC:20260311T190000
DTEND;TZID=UTC:20260311T200000
DTSTAMP:20260423T165312
CREATED:20260318T185535Z
LAST-MODIFIED:20260318T185535Z
UID:31833-1773255600-1773259200@www.tnpc.org
SUMMARY:Wednesday Night Prayer
DESCRIPTION:Why do we pray? — We respond to God sending his Son to redeem and adopt us. What a privilege and joy to be regarded as sons and daughters of God and called to praise and worship him\, to confess to him\, to bring our needs\, sorrows\, and griefs to him! We meet in the CE Building\, Room 202 from 7:00-8:00pm. Please join us Wednesday nights! \n 
URL:https://www.tnpc.org/event/wednesday-night-prayer-31/
LOCATION:CE Room 202
CATEGORIES:Prayer
END:VEVENT
BEGIN:VEVENT
DTSTART;TZID=America/Chicago:20260315T100500
DTEND;TZID=America/Chicago:20260315T102000
DTSTAMP:20260423T165312
CREATED:20260217T182049Z
LAST-MODIFIED:20260217T182049Z
UID:31739-1773569100-1773570000@www.tnpc.org
SUMMARY:Prayer for Worship
DESCRIPTION:Please join us to call on the Lord together asking Him to work powerfully among us in worship by His Spirit.
URL:https://www.tnpc.org/event/prayer-for-worship-44/
LOCATION:CE Room 202
CATEGORIES:Prayer
END:VEVENT
BEGIN:VEVENT
DTSTART;TZID=UTC:20260318T190000
DTEND;TZID=UTC:20260318T200000
DTSTAMP:20260423T165312
CREATED:20260318T185548Z
LAST-MODIFIED:20260318T185548Z
UID:31835-1773860400-1773864000@www.tnpc.org
SUMMARY:Wednesday Night Prayer
DESCRIPTION:Why do we pray? — We respond to God sending his Son to redeem and adopt us. What a privilege and joy to be regarded as sons and daughters of God and called to praise and worship him\, to confess to him\, to bring our needs\, sorrows\, and griefs to him! We meet in the CE Building\, Room 202 from 7:00-8:00pm. Please join us Wednesday nights! \n 
URL:https://www.tnpc.org/event/wednesday-night-prayer-32/
LOCATION:CE Room 202
CATEGORIES:Prayer
END:VEVENT
BEGIN:VEVENT
DTSTART;TZID=America/Chicago:20260322T100500
DTEND;TZID=America/Chicago:20260322T102000
DTSTAMP:20260423T165312
CREATED:20260217T182121Z
LAST-MODIFIED:20260217T182121Z
UID:31741-1774173900-1774174800@www.tnpc.org
SUMMARY:Prayer for Worship
DESCRIPTION:Please join us to call on the Lord together asking Him to work powerfully among us in worship by His Spirit.
URL:https://www.tnpc.org/event/prayer-for-worship-45/
LOCATION:CE Room 202
CATEGORIES:Prayer
END:VEVENT
BEGIN:VEVENT
DTSTART;TZID=UTC:20260325T190000
DTEND;TZID=UTC:20260325T200000
DTSTAMP:20260423T165312
CREATED:20260318T185606Z
LAST-MODIFIED:20260318T185606Z
UID:31837-1774465200-1774468800@www.tnpc.org
SUMMARY:Wednesday Night Prayer
DESCRIPTION:Why do we pray? — We respond to God sending his Son to redeem and adopt us. What a privilege and joy to be regarded as sons and daughters of God and called to praise and worship him\, to confess to him\, to bring our needs\, sorrows\, and griefs to him! We meet in the CE Building\, Room 202 from 7:00-8:00pm. Please join us Wednesday nights! \n 
URL:https://www.tnpc.org/event/wednesday-night-prayer-33/
LOCATION:CE Room 202
CATEGORIES:Prayer
END:VEVENT
BEGIN:VEVENT
DTSTART;TZID=America/Chicago:20260329T100500
DTEND;TZID=America/Chicago:20260329T102000
DTSTAMP:20260423T165312
CREATED:20251203T201537Z
LAST-MODIFIED:20260217T181839Z
UID:31071-1774778700-1774779600@www.tnpc.org
SUMMARY:Prayer for Worship
DESCRIPTION:Please join us to call on the Lord together asking Him to work powerfully among us in worship by His Spirit.
URL:https://www.tnpc.org/event/prayer-for-worship-46/
LOCATION:CE Room 202
CATEGORIES:Prayer
END:VEVENT
END:VCALENDAR