BEGIN:VCALENDAR
VERSION:2.0
PRODID:-//Town North Presbyterian Church - ECPv6.15.20//NONSGML v1.0//EN
CALSCALE:GREGORIAN
METHOD:PUBLISH
X-WR-CALNAME:Town North Presbyterian Church
X-ORIGINAL-URL:https://www.tnpc.org
X-WR-CALDESC:Events for Town North Presbyterian Church
REFRESH-INTERVAL;VALUE=DURATION:PT1H
X-Robots-Tag:noindex
X-PUBLISHED-TTL:PT1H
BEGIN:VTIMEZONE
TZID:UTC
BEGIN:STANDARD
TZOFFSETFROM:+0000
TZOFFSETTO:+0000
TZNAME:UTC
DTSTART:20240101T000000
END:STANDARD
END:VTIMEZONE
BEGIN:VTIMEZONE
TZID:America/Chicago
BEGIN:DAYLIGHT
TZOFFSETFROM:-0600
TZOFFSETTO:-0500
TZNAME:CDT
DTSTART:20240310T080000
END:DAYLIGHT
BEGIN:STANDARD
TZOFFSETFROM:-0500
TZOFFSETTO:-0600
TZNAME:CST
DTSTART:20241103T070000
END:STANDARD
BEGIN:DAYLIGHT
TZOFFSETFROM:-0600
TZOFFSETTO:-0500
TZNAME:CDT
DTSTART:20250309T080000
END:DAYLIGHT
BEGIN:STANDARD
TZOFFSETFROM:-0500
TZOFFSETTO:-0600
TZNAME:CST
DTSTART:20251102T070000
END:STANDARD
BEGIN:DAYLIGHT
TZOFFSETFROM:-0600
TZOFFSETTO:-0500
TZNAME:CDT
DTSTART:20260308T080000
END:DAYLIGHT
BEGIN:STANDARD
TZOFFSETFROM:-0500
TZOFFSETTO:-0600
TZNAME:CST
DTSTART:20261101T070000
END:STANDARD
END:VTIMEZONE
BEGIN:VEVENT
DTSTART;TZID=UTC:20251203T190000
DTEND;TZID=UTC:20251203T200000
DTSTAMP:20260423T233524
CREATED:20250828T171800Z
LAST-MODIFIED:20250828T171800Z
UID:30865-1764788400-1764792000@www.tnpc.org
SUMMARY:Wednesday Night Prayer
DESCRIPTION:Why do we pray? — We respond to God sending his Son to redeem and adopt us. What a privilege and joy to be regarded as sons and daughters of God and called to praise and worship him\, to confess to him\, to bring our needs\, sorrows\, and griefs to him! We meet in the CE Building\, Room 202 from 7:00-8:00pm. Please join us on any Wednesday night! \n 
URL:https://www.tnpc.org/event/wednesday-night-prayer-21/
LOCATION:CE Room 202
CATEGORIES:Prayer
END:VEVENT
BEGIN:VEVENT
DTSTART;TZID=America/Chicago:20251207T081500
DTEND;TZID=America/Chicago:20251207T084500
DTSTAMP:20260423T233524
CREATED:20250828T172316Z
LAST-MODIFIED:20250828T172316Z
UID:30896-1765095300-1765097100@www.tnpc.org
SUMMARY:Prayer for Worship
DESCRIPTION:Please join us to call on the Lord together asking Him to work powerfully among us in worship by His Spirit.
URL:https://www.tnpc.org/event/prayer-for-worship-31/
LOCATION:Worship Center
CATEGORIES:Prayer
END:VEVENT
BEGIN:VEVENT
DTSTART;TZID=America/Chicago:20251213T140000
DTEND;TZID=America/Chicago:20251213T153000
DTSTAMP:20260423T233524
CREATED:20251202T160045Z
LAST-MODIFIED:20251202T160045Z
UID:31040-1765634400-1765639800@www.tnpc.org
SUMMARY:Women's Christmas Prayer Tea
DESCRIPTION:RSVP in the Narthex or to Susan Jeffery \nRegister for Childcare by Sunday\, December 7th
URL:https://www.tnpc.org/event/womens-christmas-prayer-tea/
LOCATION:Fellowship Hall & Kitchen
CATEGORIES:Holiday,Prayer,Women's Ministry
END:VEVENT
BEGIN:VEVENT
DTSTART;TZID=America/Chicago:20251214T081500
DTEND;TZID=America/Chicago:20251214T084500
DTSTAMP:20260423T233524
CREATED:20250828T172326Z
LAST-MODIFIED:20250828T172326Z
UID:30898-1765700100-1765701900@www.tnpc.org
SUMMARY:Prayer for Worship
DESCRIPTION:Please join us to call on the Lord together asking Him to work powerfully among us in worship by His Spirit.
URL:https://www.tnpc.org/event/prayer-for-worship-32/
LOCATION:Worship Center
CATEGORIES:Prayer
END:VEVENT
BEGIN:VEVENT
DTSTART;TZID=America/Chicago:20251221T093000
DTEND;TZID=America/Chicago:20251221T100000
DTSTAMP:20260423T233524
CREATED:20250828T172338Z
LAST-MODIFIED:20251204T173317Z
UID:30900-1766309400-1766311200@www.tnpc.org
SUMMARY:Prayer for Worship - temporarily meeting in CE Room 205-206
DESCRIPTION:Temporary Location: Adult Sunday School Room\, upstairs CE Building \nPlease join us to call on the Lord together asking Him to work powerfully among us in worship by His Spirit.
URL:https://www.tnpc.org/event/prayer-for-worship-33/
LOCATION:CE Bldg Room 205-206
CATEGORIES:Prayer
END:VEVENT
BEGIN:VEVENT
DTSTART;TZID=America/Chicago:20251228T093000
DTEND;TZID=America/Chicago:20251228T100000
DTSTAMP:20260423T233524
CREATED:20250828T172350Z
LAST-MODIFIED:20251204T173349Z
UID:30902-1766914200-1766916000@www.tnpc.org
SUMMARY:Prayer for Worship - temporarily meeting in CE Room 205-206
DESCRIPTION:Temporary Location: Adult Sunday School Room\, upstairs CE Building \nPlease join us to call on the Lord together asking Him to work powerfully among us in worship by His Spirit.
URL:https://www.tnpc.org/event/prayer-for-worship-57/
LOCATION:CE Bldg Room 205-206
CATEGORIES:Prayer
END:VEVENT
END:VCALENDAR