BEGIN:VCALENDAR
VERSION:2.0
PRODID:-//Town North Presbyterian Church - ECPv6.15.20//NONSGML v1.0//EN
CALSCALE:GREGORIAN
METHOD:PUBLISH
X-WR-CALNAME:Town North Presbyterian Church
X-ORIGINAL-URL:https://www.tnpc.org
X-WR-CALDESC:Events for Town North Presbyterian Church
REFRESH-INTERVAL;VALUE=DURATION:PT1H
X-Robots-Tag:noindex
X-PUBLISHED-TTL:PT1H
BEGIN:VTIMEZONE
TZID:America/Chicago
BEGIN:DAYLIGHT
TZOFFSETFROM:-0600
TZOFFSETTO:-0500
TZNAME:CDT
DTSTART:20240310T080000
END:DAYLIGHT
BEGIN:STANDARD
TZOFFSETFROM:-0500
TZOFFSETTO:-0600
TZNAME:CST
DTSTART:20241103T070000
END:STANDARD
BEGIN:DAYLIGHT
TZOFFSETFROM:-0600
TZOFFSETTO:-0500
TZNAME:CDT
DTSTART:20250309T080000
END:DAYLIGHT
BEGIN:STANDARD
TZOFFSETFROM:-0500
TZOFFSETTO:-0600
TZNAME:CST
DTSTART:20251102T070000
END:STANDARD
BEGIN:DAYLIGHT
TZOFFSETFROM:-0600
TZOFFSETTO:-0500
TZNAME:CDT
DTSTART:20260308T080000
END:DAYLIGHT
BEGIN:STANDARD
TZOFFSETFROM:-0500
TZOFFSETTO:-0600
TZNAME:CST
DTSTART:20261101T070000
END:STANDARD
END:VTIMEZONE
BEGIN:VTIMEZONE
TZID:UTC
BEGIN:STANDARD
TZOFFSETFROM:+0000
TZOFFSETTO:+0000
TZNAME:UTC
DTSTART:20240101T000000
END:STANDARD
END:VTIMEZONE
BEGIN:VEVENT
DTSTART;TZID=America/Chicago:20250803T081500
DTEND;TZID=America/Chicago:20250803T084500
DTSTAMP:20260424T050035
CREATED:20250617T172428Z
LAST-MODIFIED:20250617T172703Z
UID:30546-1754208900-1754210700@www.tnpc.org
SUMMARY:Prayer for Worship
DESCRIPTION:Please join us to call on the Lord together asking Him to work powerfully among us in worship by His Spirit.
URL:https://www.tnpc.org/event/prayer-for-worship-14/
LOCATION:Worship Center
CATEGORIES:Prayer
END:VEVENT
BEGIN:VEVENT
DTSTART;TZID=UTC:20250806T190000
DTEND;TZID=UTC:20250806T200000
DTSTAMP:20260424T050035
CREATED:20250617T173818Z
LAST-MODIFIED:20250617T173818Z
UID:30581-1754506800-1754510400@www.tnpc.org
SUMMARY:Wednesday Night Prayer
DESCRIPTION:Why do we pray? — We respond to God sending his Son to redeem and adopt us. What a privilege and joy to be regarded as sons and daughters of God and called to praise and worship him\, to confess to him\, to bring our needs\, sorrows\, and griefs to him! We meet in the CE Building\, Room 202 from 7:00-8:00pm. Please join us on any Wednesday night! \n 
URL:https://www.tnpc.org/event/wednesday-night-prayer-5/
LOCATION:CE Room 202
CATEGORIES:Prayer
END:VEVENT
BEGIN:VEVENT
DTSTART;TZID=America/Chicago:20250809T100000
DTEND;TZID=America/Chicago:20250809T113000
DTSTAMP:20260424T050035
CREATED:20250307T190510Z
LAST-MODIFIED:20250307T190510Z
UID:30239-1754733600-1754739000@www.tnpc.org
SUMMARY:Women's Prayer Brunch
DESCRIPTION:
URL:https://www.tnpc.org/event/womens-prayer-brunch-5/
LOCATION:Fellowship Hall
CATEGORIES:Prayer,Women's Ministry
END:VEVENT
BEGIN:VEVENT
DTSTART;TZID=America/Chicago:20250810T081500
DTEND;TZID=America/Chicago:20250810T084500
DTSTAMP:20260424T050035
CREATED:20250617T172717Z
LAST-MODIFIED:20250617T172717Z
UID:30552-1754813700-1754815500@www.tnpc.org
SUMMARY:Prayer for Worship
DESCRIPTION:Please join us to call on the Lord together asking Him to work powerfully among us in worship by His Spirit.
URL:https://www.tnpc.org/event/prayer-for-worship-15/
LOCATION:Worship Center
CATEGORIES:Prayer
END:VEVENT
BEGIN:VEVENT
DTSTART;TZID=UTC:20250813T190000
DTEND;TZID=UTC:20250813T200000
DTSTAMP:20260424T050035
CREATED:20250617T173835Z
LAST-MODIFIED:20250617T173835Z
UID:30583-1755111600-1755115200@www.tnpc.org
SUMMARY:Wednesday Night Prayer
DESCRIPTION:Why do we pray? — We respond to God sending his Son to redeem and adopt us. What a privilege and joy to be regarded as sons and daughters of God and called to praise and worship him\, to confess to him\, to bring our needs\, sorrows\, and griefs to him! We meet in the CE Building\, Room 202 from 7:00-8:00pm. Please join us on any Wednesday night! \n 
URL:https://www.tnpc.org/event/wednesday-night-prayer-6/
LOCATION:CE Room 202
CATEGORIES:Prayer
END:VEVENT
BEGIN:VEVENT
DTSTART;TZID=America/Chicago:20250817T081500
DTEND;TZID=America/Chicago:20250817T084500
DTSTAMP:20260424T050035
CREATED:20250617T172728Z
LAST-MODIFIED:20250617T172728Z
UID:30554-1755418500-1755420300@www.tnpc.org
SUMMARY:Prayer for Worship
DESCRIPTION:Please join us to call on the Lord together asking Him to work powerfully among us in worship by His Spirit.
URL:https://www.tnpc.org/event/prayer-for-worship-16/
LOCATION:Worship Center
CATEGORIES:Prayer
END:VEVENT
BEGIN:VEVENT
DTSTART;TZID=UTC:20250820T190000
DTEND;TZID=UTC:20250820T200000
DTSTAMP:20260424T050035
CREATED:20250617T173853Z
LAST-MODIFIED:20250617T173853Z
UID:30585-1755716400-1755720000@www.tnpc.org
SUMMARY:Wednesday Night Prayer
DESCRIPTION:Why do we pray? — We respond to God sending his Son to redeem and adopt us. What a privilege and joy to be regarded as sons and daughters of God and called to praise and worship him\, to confess to him\, to bring our needs\, sorrows\, and griefs to him! We meet in the CE Building\, Room 202 from 7:00-8:00pm. Please join us on any Wednesday night! \n 
URL:https://www.tnpc.org/event/wednesday-night-prayer-7/
LOCATION:CE Room 202
CATEGORIES:Prayer
END:VEVENT
BEGIN:VEVENT
DTSTART;TZID=America/Chicago:20250824T081500
DTEND;TZID=America/Chicago:20250824T084500
DTSTAMP:20260424T050035
CREATED:20250617T172739Z
LAST-MODIFIED:20250617T172739Z
UID:30556-1756023300-1756025100@www.tnpc.org
SUMMARY:Prayer for Worship
DESCRIPTION:Please join us to call on the Lord together asking Him to work powerfully among us in worship by His Spirit.
URL:https://www.tnpc.org/event/prayer-for-worship-17/
LOCATION:Worship Center
CATEGORIES:Prayer
END:VEVENT
BEGIN:VEVENT
DTSTART;TZID=UTC:20250827T190000
DTEND;TZID=UTC:20250827T200000
DTSTAMP:20260424T050035
CREATED:20250617T173911Z
LAST-MODIFIED:20250617T173911Z
UID:30587-1756321200-1756324800@www.tnpc.org
SUMMARY:Wednesday Night Prayer
DESCRIPTION:Why do we pray? — We respond to God sending his Son to redeem and adopt us. What a privilege and joy to be regarded as sons and daughters of God and called to praise and worship him\, to confess to him\, to bring our needs\, sorrows\, and griefs to him! We meet in the CE Building\, Room 202 from 7:00-8:00pm. Please join us on any Wednesday night! \n 
URL:https://www.tnpc.org/event/wednesday-night-prayer-8/
LOCATION:CE Room 202
CATEGORIES:Prayer
END:VEVENT
BEGIN:VEVENT
DTSTART;TZID=America/Chicago:20250831T081500
DTEND;TZID=America/Chicago:20250831T084500
DTSTAMP:20260424T050035
CREATED:20250617T172749Z
LAST-MODIFIED:20250617T172749Z
UID:30558-1756628100-1756629900@www.tnpc.org
SUMMARY:Prayer for Worship
DESCRIPTION:Please join us to call on the Lord together asking Him to work powerfully among us in worship by His Spirit.
URL:https://www.tnpc.org/event/prayer-for-worship-18/
LOCATION:Worship Center
CATEGORIES:Prayer
END:VEVENT
END:VCALENDAR