BEGIN:VCALENDAR
VERSION:2.0
PRODID:-//Town North Presbyterian Church - ECPv6.15.20//NONSGML v1.0//EN
CALSCALE:GREGORIAN
METHOD:PUBLISH
X-WR-CALNAME:Town North Presbyterian Church
X-ORIGINAL-URL:https://www.tnpc.org
X-WR-CALDESC:Events for Town North Presbyterian Church
REFRESH-INTERVAL;VALUE=DURATION:PT1H
X-Robots-Tag:noindex
X-PUBLISHED-TTL:PT1H
BEGIN:VTIMEZONE
TZID:UTC
BEGIN:STANDARD
TZOFFSETFROM:+0000
TZOFFSETTO:+0000
TZNAME:UTC
DTSTART:20240101T000000
END:STANDARD
END:VTIMEZONE
BEGIN:VTIMEZONE
TZID:America/Chicago
BEGIN:DAYLIGHT
TZOFFSETFROM:-0600
TZOFFSETTO:-0500
TZNAME:CDT
DTSTART:20240310T080000
END:DAYLIGHT
BEGIN:STANDARD
TZOFFSETFROM:-0500
TZOFFSETTO:-0600
TZNAME:CST
DTSTART:20241103T070000
END:STANDARD
BEGIN:DAYLIGHT
TZOFFSETFROM:-0600
TZOFFSETTO:-0500
TZNAME:CDT
DTSTART:20250309T080000
END:DAYLIGHT
BEGIN:STANDARD
TZOFFSETFROM:-0500
TZOFFSETTO:-0600
TZNAME:CST
DTSTART:20251102T070000
END:STANDARD
BEGIN:DAYLIGHT
TZOFFSETFROM:-0600
TZOFFSETTO:-0500
TZNAME:CDT
DTSTART:20260308T080000
END:DAYLIGHT
BEGIN:STANDARD
TZOFFSETFROM:-0500
TZOFFSETTO:-0600
TZNAME:CST
DTSTART:20261101T070000
END:STANDARD
END:VTIMEZONE
BEGIN:VEVENT
DTSTART;TZID=UTC:20250702T190000
DTEND;TZID=UTC:20250702T200000
DTSTAMP:20260424T062344
CREATED:20241107T203415Z
LAST-MODIFIED:20250617T173302Z
UID:29755-1751482800-1751486400@www.tnpc.org
SUMMARY:Wednesday Night Prayer
DESCRIPTION:Why do we pray? — We respond to God sending his Son to redeem and adopt us. What a privilege and joy to be regarded as sons and daughters of God and called to praise and worship him\, to confess to him\, to bring our needs\, sorrows\, and griefs to him! We meet in the CE Building\, Room 202 from 7:00-8:00pm. Please join us on any Wednesday night! \n 
URL:https://www.tnpc.org/event/prayer-45/
LOCATION:CE Room 202
CATEGORIES:Prayer
END:VEVENT
BEGIN:VEVENT
DTSTART;TZID=America/Chicago:20250706T093000
DTEND;TZID=America/Chicago:20250706T100000
DTSTAMP:20260424T062344
CREATED:20250617T172344Z
LAST-MODIFIED:20250617T172344Z
UID:30538-1751794200-1751796000@www.tnpc.org
SUMMARY:Prayer for Worship
DESCRIPTION:Please join us to call on the Lord together asking Him to work powerfully among us in worship by His Spirit.
URL:https://www.tnpc.org/event/prayer-for-worship-10/
LOCATION:CE Room 202
CATEGORIES:Prayer
END:VEVENT
BEGIN:VEVENT
DTSTART;TZID=UTC:20250709T190000
DTEND;TZID=UTC:20250709T200000
DTSTAMP:20260424T062344
CREATED:20250617T173318Z
LAST-MODIFIED:20250617T173318Z
UID:30573-1752087600-1752091200@www.tnpc.org
SUMMARY:Wednesday Night Prayer
DESCRIPTION:Why do we pray? — We respond to God sending his Son to redeem and adopt us. What a privilege and joy to be regarded as sons and daughters of God and called to praise and worship him\, to confess to him\, to bring our needs\, sorrows\, and griefs to him! We meet in the CE Building\, Room 202 from 7:00-8:00pm. Please join us on any Wednesday night! \n 
URL:https://www.tnpc.org/event/wednesday-night-prayer/
LOCATION:CE Room 202
CATEGORIES:Prayer
END:VEVENT
BEGIN:VEVENT
DTSTART;TZID=America/Chicago:20250713T093000
DTEND;TZID=America/Chicago:20250713T100000
DTSTAMP:20260424T062344
CREATED:20250617T172354Z
LAST-MODIFIED:20250617T172354Z
UID:30540-1752399000-1752400800@www.tnpc.org
SUMMARY:Prayer for Worship
DESCRIPTION:Please join us to call on the Lord together asking Him to work powerfully among us in worship by His Spirit.
URL:https://www.tnpc.org/event/prayer-for-worship-11/
LOCATION:CE Room 202
CATEGORIES:Prayer
END:VEVENT
BEGIN:VEVENT
DTSTART;TZID=UTC:20250716T190000
DTEND;TZID=UTC:20250716T200000
DTSTAMP:20260424T062344
CREATED:20250617T173333Z
LAST-MODIFIED:20250617T173333Z
UID:30575-1752692400-1752696000@www.tnpc.org
SUMMARY:Wednesday Night Prayer
DESCRIPTION:Why do we pray? — We respond to God sending his Son to redeem and adopt us. What a privilege and joy to be regarded as sons and daughters of God and called to praise and worship him\, to confess to him\, to bring our needs\, sorrows\, and griefs to him! We meet in the CE Building\, Room 202 from 7:00-8:00pm. Please join us on any Wednesday night! \n 
URL:https://www.tnpc.org/event/wednesday-night-prayer-2/
LOCATION:CE Room 202
CATEGORIES:Prayer
END:VEVENT
BEGIN:VEVENT
DTSTART;TZID=America/Chicago:20250720T093000
DTEND;TZID=America/Chicago:20250720T100000
DTSTAMP:20260424T062344
CREATED:20250617T172405Z
LAST-MODIFIED:20250617T172405Z
UID:30542-1753003800-1753005600@www.tnpc.org
SUMMARY:Prayer for Worship
DESCRIPTION:Please join us to call on the Lord together asking Him to work powerfully among us in worship by His Spirit.
URL:https://www.tnpc.org/event/prayer-for-worship-12/
LOCATION:CE Room 202
CATEGORIES:Prayer
END:VEVENT
BEGIN:VEVENT
DTSTART;TZID=UTC:20250723T190000
DTEND;TZID=UTC:20250723T200000
DTSTAMP:20260424T062344
CREATED:20250617T173715Z
LAST-MODIFIED:20250617T173715Z
UID:30577-1753297200-1753300800@www.tnpc.org
SUMMARY:Wednesday Night Prayer
DESCRIPTION:Why do we pray? — We respond to God sending his Son to redeem and adopt us. What a privilege and joy to be regarded as sons and daughters of God and called to praise and worship him\, to confess to him\, to bring our needs\, sorrows\, and griefs to him! We meet in the CE Building\, Room 202 from 7:00-8:00pm. Please join us on any Wednesday night! \n 
URL:https://www.tnpc.org/event/wednesday-night-prayer-3/
LOCATION:CE Room 202
CATEGORIES:Prayer
END:VEVENT
BEGIN:VEVENT
DTSTART;TZID=America/Chicago:20250727T093000
DTEND;TZID=America/Chicago:20250727T100000
DTSTAMP:20260424T062344
CREATED:20250617T172416Z
LAST-MODIFIED:20250617T172416Z
UID:30544-1753608600-1753610400@www.tnpc.org
SUMMARY:Prayer for Worship
DESCRIPTION:Please join us to call on the Lord together asking Him to work powerfully among us in worship by His Spirit.
URL:https://www.tnpc.org/event/prayer-for-worship-13/
LOCATION:CE Room 202
CATEGORIES:Prayer
END:VEVENT
BEGIN:VEVENT
DTSTART;TZID=UTC:20250730T190000
DTEND;TZID=UTC:20250730T200000
DTSTAMP:20260424T062344
CREATED:20250617T173736Z
LAST-MODIFIED:20250617T173736Z
UID:30579-1753902000-1753905600@www.tnpc.org
SUMMARY:Wednesday Night Prayer
DESCRIPTION:Why do we pray? — We respond to God sending his Son to redeem and adopt us. What a privilege and joy to be regarded as sons and daughters of God and called to praise and worship him\, to confess to him\, to bring our needs\, sorrows\, and griefs to him! We meet in the CE Building\, Room 202 from 7:00-8:00pm. Please join us on any Wednesday night! \n 
URL:https://www.tnpc.org/event/wednesday-night-prayer-4/
LOCATION:CE Room 202
CATEGORIES:Prayer
END:VEVENT
END:VCALENDAR