BEGIN:VCALENDAR
VERSION:2.0
PRODID:-//Town North Presbyterian Church - ECPv6.15.20//NONSGML v1.0//EN
CALSCALE:GREGORIAN
METHOD:PUBLISH
X-ORIGINAL-URL:https://www.tnpc.org
X-WR-CALDESC:Events for Town North Presbyterian Church
REFRESH-INTERVAL;VALUE=DURATION:PT1H
X-Robots-Tag:noindex
X-PUBLISHED-TTL:PT1H
BEGIN:VTIMEZONE
TZID:America/Chicago
BEGIN:DAYLIGHT
TZOFFSETFROM:-0600
TZOFFSETTO:-0500
TZNAME:CDT
DTSTART:20240310T080000
END:DAYLIGHT
BEGIN:STANDARD
TZOFFSETFROM:-0500
TZOFFSETTO:-0600
TZNAME:CST
DTSTART:20241103T070000
END:STANDARD
BEGIN:DAYLIGHT
TZOFFSETFROM:-0600
TZOFFSETTO:-0500
TZNAME:CDT
DTSTART:20250309T080000
END:DAYLIGHT
BEGIN:STANDARD
TZOFFSETFROM:-0500
TZOFFSETTO:-0600
TZNAME:CST
DTSTART:20251102T070000
END:STANDARD
BEGIN:DAYLIGHT
TZOFFSETFROM:-0600
TZOFFSETTO:-0500
TZNAME:CDT
DTSTART:20260308T080000
END:DAYLIGHT
BEGIN:STANDARD
TZOFFSETFROM:-0500
TZOFFSETTO:-0600
TZNAME:CST
DTSTART:20261101T070000
END:STANDARD
END:VTIMEZONE
BEGIN:VTIMEZONE
TZID:UTC
BEGIN:STANDARD
TZOFFSETFROM:+0000
TZOFFSETTO:+0000
TZNAME:UTC
DTSTART:20240101T000000
END:STANDARD
END:VTIMEZONE
BEGIN:VEVENT
DTSTART;TZID=America/Chicago:20250504T081500
DTEND;TZID=America/Chicago:20250504T084500
DTSTAMP:20260424T093134
CREATED:20250520T191511Z
LAST-MODIFIED:20250520T191511Z
UID:30420-1746346500-1746348300@www.tnpc.org
SUMMARY:Prayer for Worship
DESCRIPTION:
URL:https://www.tnpc.org/event/prayer-for-worship/
LOCATION:Worship Center
CATEGORIES:Prayer
END:VEVENT
BEGIN:VEVENT
DTSTART;TZID=UTC:20250507T190000
DTEND;TZID=UTC:20250507T200000
DTSTAMP:20260424T093134
CREATED:20241107T203041Z
LAST-MODIFIED:20241107T203041Z
UID:29739-1746644400-1746648000@www.tnpc.org
SUMMARY:Prayer
DESCRIPTION:
URL:https://www.tnpc.org/event/prayer-37/
CATEGORIES:Prayer
END:VEVENT
BEGIN:VEVENT
DTSTART;TZID=America/Chicago:20250511T081500
DTEND;TZID=America/Chicago:20250511T084500
DTSTAMP:20260424T093134
CREATED:20250520T191526Z
LAST-MODIFIED:20250520T191526Z
UID:30422-1746951300-1746953100@www.tnpc.org
SUMMARY:Prayer for Worship
DESCRIPTION:
URL:https://www.tnpc.org/event/prayer-for-worship-3/
LOCATION:Worship Center
CATEGORIES:Prayer
END:VEVENT
BEGIN:VEVENT
DTSTART;TZID=UTC:20250514T190000
DTEND;TZID=UTC:20250514T200000
DTSTAMP:20260424T093134
CREATED:20241107T203057Z
LAST-MODIFIED:20241107T203057Z
UID:29741-1747249200-1747252800@www.tnpc.org
SUMMARY:Prayer
DESCRIPTION:
URL:https://www.tnpc.org/event/prayer-38/
CATEGORIES:Prayer
END:VEVENT
BEGIN:VEVENT
DTSTART;TZID=America/Chicago:20250518T081500
DTEND;TZID=America/Chicago:20250518T084500
DTSTAMP:20260424T093134
CREATED:20250520T191542Z
LAST-MODIFIED:20250520T191542Z
UID:30424-1747556100-1747557900@www.tnpc.org
SUMMARY:Prayer for Worship
DESCRIPTION:
URL:https://www.tnpc.org/event/prayer-for-worship-4/
LOCATION:Worship Center
CATEGORIES:Prayer
END:VEVENT
BEGIN:VEVENT
DTSTART;TZID=UTC:20250521T190000
DTEND;TZID=UTC:20250521T200000
DTSTAMP:20260424T093134
CREATED:20241107T203117Z
LAST-MODIFIED:20241107T203117Z
UID:29743-1747854000-1747857600@www.tnpc.org
SUMMARY:Prayer
DESCRIPTION:
URL:https://www.tnpc.org/event/prayer-39/
CATEGORIES:Prayer
END:VEVENT
BEGIN:VEVENT
DTSTART;TZID=America/Chicago:20250525T081500
DTEND;TZID=America/Chicago:20250525T084500
DTSTAMP:20260424T093134
CREATED:20250520T191556Z
LAST-MODIFIED:20250520T191556Z
UID:30426-1748160900-1748162700@www.tnpc.org
SUMMARY:Prayer for Worship
DESCRIPTION:
URL:https://www.tnpc.org/event/prayer-for-worship-5/
LOCATION:Worship Center
CATEGORIES:Prayer
END:VEVENT
BEGIN:VEVENT
DTSTART;TZID=UTC:20250528T190000
DTEND;TZID=UTC:20250528T200000
DTSTAMP:20260424T093134
CREATED:20241107T203141Z
LAST-MODIFIED:20241107T203141Z
UID:29745-1748458800-1748462400@www.tnpc.org
SUMMARY:Prayer
DESCRIPTION:
URL:https://www.tnpc.org/event/prayer-40/
CATEGORIES:Prayer
END:VEVENT
END:VCALENDAR