BEGIN:VCALENDAR
VERSION:2.0
PRODID:-//Town North Presbyterian Church - ECPv6.15.20//NONSGML v1.0//EN
CALSCALE:GREGORIAN
METHOD:PUBLISH
X-ORIGINAL-URL:https://www.tnpc.org
X-WR-CALDESC:Events for Town North Presbyterian Church
REFRESH-INTERVAL;VALUE=DURATION:PT1H
X-Robots-Tag:noindex
X-PUBLISHED-TTL:PT1H
BEGIN:VTIMEZONE
TZID:UTC
BEGIN:STANDARD
TZOFFSETFROM:+0000
TZOFFSETTO:+0000
TZNAME:UTC
DTSTART:20240101T000000
END:STANDARD
END:VTIMEZONE
BEGIN:VTIMEZONE
TZID:America/Chicago
BEGIN:DAYLIGHT
TZOFFSETFROM:-0600
TZOFFSETTO:-0500
TZNAME:CDT
DTSTART:20240310T080000
END:DAYLIGHT
BEGIN:STANDARD
TZOFFSETFROM:-0500
TZOFFSETTO:-0600
TZNAME:CST
DTSTART:20241103T070000
END:STANDARD
BEGIN:DAYLIGHT
TZOFFSETFROM:-0600
TZOFFSETTO:-0500
TZNAME:CDT
DTSTART:20250309T080000
END:DAYLIGHT
BEGIN:STANDARD
TZOFFSETFROM:-0500
TZOFFSETTO:-0600
TZNAME:CST
DTSTART:20251102T070000
END:STANDARD
BEGIN:DAYLIGHT
TZOFFSETFROM:-0600
TZOFFSETTO:-0500
TZNAME:CDT
DTSTART:20260308T080000
END:DAYLIGHT
BEGIN:STANDARD
TZOFFSETFROM:-0500
TZOFFSETTO:-0600
TZNAME:CST
DTSTART:20261101T070000
END:STANDARD
END:VTIMEZONE
BEGIN:VEVENT
DTSTART;TZID=UTC:20250423T190000
DTEND;TZID=UTC:20250423T200000
DTSTAMP:20260424T110529
CREATED:20241107T203003Z
LAST-MODIFIED:20241107T203003Z
UID:29735-1745434800-1745438400@www.tnpc.org
SUMMARY:Prayer
DESCRIPTION:
URL:https://www.tnpc.org/event/prayer-35/
CATEGORIES:Prayer
END:VEVENT
BEGIN:VEVENT
DTSTART;TZID=America/Chicago:20250426T100000
DTEND;TZID=America/Chicago:20250426T113000
DTSTAMP:20260424T110529
CREATED:20250307T190344Z
LAST-MODIFIED:20250307T190344Z
UID:30235-1745661600-1745667000@www.tnpc.org
SUMMARY:Women's Prayer Brunch
DESCRIPTION:
URL:https://www.tnpc.org/event/womens-prayer-brunch/
LOCATION:Fellowship Hall
CATEGORIES:Prayer,Women's Ministry
END:VEVENT
BEGIN:VEVENT
DTSTART;TZID=America/Chicago:20250427T081500
DTEND;TZID=America/Chicago:20250427T084500
DTSTAMP:20260424T110529
CREATED:20250520T191418Z
LAST-MODIFIED:20250520T191418Z
UID:30418-1745741700-1745743500@www.tnpc.org
SUMMARY:Prayer for Worship
DESCRIPTION:
URL:https://www.tnpc.org/event/prayer-for-worship-2/
LOCATION:Worship Center
CATEGORIES:Prayer
END:VEVENT
BEGIN:VEVENT
DTSTART;TZID=UTC:20250430T190000
DTEND;TZID=UTC:20250430T200000
DTSTAMP:20260424T110529
CREATED:20241107T203022Z
LAST-MODIFIED:20241107T203022Z
UID:29737-1746039600-1746043200@www.tnpc.org
SUMMARY:Prayer
DESCRIPTION:
URL:https://www.tnpc.org/event/prayer-36/
CATEGORIES:Prayer
END:VEVENT
END:VCALENDAR