BEGIN:VCALENDAR
VERSION:2.0
PRODID:-//Town North Presbyterian Church - ECPv6.15.20//NONSGML v1.0//EN
CALSCALE:GREGORIAN
METHOD:PUBLISH
X-ORIGINAL-URL:https://www.tnpc.org
X-WR-CALDESC:Events for Town North Presbyterian Church
REFRESH-INTERVAL;VALUE=DURATION:PT1H
X-Robots-Tag:noindex
X-PUBLISHED-TTL:PT1H
BEGIN:VTIMEZONE
TZID:America/Chicago
BEGIN:DAYLIGHT
TZOFFSETFROM:-0600
TZOFFSETTO:-0500
TZNAME:CDT
DTSTART:20240310T080000
END:DAYLIGHT
BEGIN:STANDARD
TZOFFSETFROM:-0500
TZOFFSETTO:-0600
TZNAME:CST
DTSTART:20241103T070000
END:STANDARD
BEGIN:DAYLIGHT
TZOFFSETFROM:-0600
TZOFFSETTO:-0500
TZNAME:CDT
DTSTART:20250309T080000
END:DAYLIGHT
BEGIN:STANDARD
TZOFFSETFROM:-0500
TZOFFSETTO:-0600
TZNAME:CST
DTSTART:20251102T070000
END:STANDARD
BEGIN:DAYLIGHT
TZOFFSETFROM:-0600
TZOFFSETTO:-0500
TZNAME:CDT
DTSTART:20260308T080000
END:DAYLIGHT
BEGIN:STANDARD
TZOFFSETFROM:-0500
TZOFFSETTO:-0600
TZNAME:CST
DTSTART:20261101T070000
END:STANDARD
BEGIN:DAYLIGHT
TZOFFSETFROM:-0600
TZOFFSETTO:-0500
TZNAME:CDT
DTSTART:20270314T080000
END:DAYLIGHT
BEGIN:STANDARD
TZOFFSETFROM:-0500
TZOFFSETTO:-0600
TZNAME:CST
DTSTART:20271107T070000
END:STANDARD
END:VTIMEZONE
BEGIN:VEVENT
DTSTART;TZID=America/Chicago:20251113T190000
DTEND;TZID=America/Chicago:20251113T200000
DTSTAMP:20260425T232408
CREATED:20250731T171534Z
LAST-MODIFIED:20250731T171534Z
UID:30707-1763060400-1763064000@www.tnpc.org
SUMMARY:Men's Bible Study
DESCRIPTION:
URL:https://www.tnpc.org/event/mens-bible-study-61/
LOCATION:CE Room 202
CATEGORIES:Men's
END:VEVENT
BEGIN:VEVENT
DTSTART;TZID=America/Chicago:20251118T093000
DTEND;TZID=America/Chicago:20251118T110000
DTSTAMP:20260425T232408
CREATED:20250827T195009Z
LAST-MODIFIED:20250827T195009Z
UID:30813-1763458200-1763463600@www.tnpc.org
SUMMARY:Ladies' Fall Bible Study - Morning
DESCRIPTION:Judges: The Path from Chaos to Kingship by Lydia Brownback \nJudges 21:1-25 \nRock Bottom
URL:https://www.tnpc.org/event/ladies-fall-bible-study-morning-11/
LOCATION:CE Building\, Rm 204
CATEGORIES:Bible Study,Women's Ministry
END:VEVENT
BEGIN:VEVENT
DTSTART;TZID=America/Chicago:20251118T183000
DTEND;TZID=America/Chicago:20251118T200000
DTSTAMP:20260425T232408
CREATED:20250827T194948Z
LAST-MODIFIED:20250827T194948Z
UID:30811-1763490600-1763496000@www.tnpc.org
SUMMARY:Ladies' Fall Bible Study - Evening
DESCRIPTION:Judges: The Path from Chaos to Kingship by Lydia Brownback \nJudges 21:1-25 \nRock Bottom
URL:https://www.tnpc.org/event/ladies-fall-bible-study-evening-11/
LOCATION:CE Building\, Rm 204
CATEGORIES:Bible Study,Women's Ministry
END:VEVENT
BEGIN:VEVENT
DTSTART;TZID=America/Chicago:20251120T190000
DTEND;TZID=America/Chicago:20251120T200000
DTSTAMP:20260425T232408
CREATED:20250731T171549Z
LAST-MODIFIED:20250731T171549Z
UID:30709-1763665200-1763668800@www.tnpc.org
SUMMARY:Men's Bible Study
DESCRIPTION:
URL:https://www.tnpc.org/event/mens-bible-study-62/
LOCATION:CE Room 202
CATEGORIES:Men's
END:VEVENT
BEGIN:VEVENT
DTSTART;TZID=America/Chicago:20251204T190000
DTEND;TZID=America/Chicago:20251204T200000
DTSTAMP:20260425T232408
CREATED:20250731T171606Z
LAST-MODIFIED:20250731T171606Z
UID:30711-1764874800-1764878400@www.tnpc.org
SUMMARY:Men's Bible Study
DESCRIPTION:
URL:https://www.tnpc.org/event/mens-bible-study-63/
LOCATION:CE Room 202
CATEGORIES:Men's
END:VEVENT
BEGIN:VEVENT
DTSTART;TZID=America/Chicago:20251211T190000
DTEND;TZID=America/Chicago:20251211T200000
DTSTAMP:20260425T232408
CREATED:20250731T171620Z
LAST-MODIFIED:20250731T171620Z
UID:30713-1765479600-1765483200@www.tnpc.org
SUMMARY:Men's Bible Study
DESCRIPTION:
URL:https://www.tnpc.org/event/mens-bible-study-64/
LOCATION:CE Room 202
CATEGORIES:Men's
END:VEVENT
BEGIN:VEVENT
DTSTART;TZID=America/Chicago:20251218T190000
DTEND;TZID=America/Chicago:20251218T200000
DTSTAMP:20260425T232408
CREATED:20250731T171636Z
LAST-MODIFIED:20250731T171636Z
UID:30715-1766084400-1766088000@www.tnpc.org
SUMMARY:Men's Bible Study
DESCRIPTION:
URL:https://www.tnpc.org/event/mens-bible-study-65/
LOCATION:CE Room 202
CATEGORIES:Men's
END:VEVENT
BEGIN:VEVENT
DTSTART;TZID=America/Chicago:20260108T190000
DTEND;TZID=America/Chicago:20260108T200000
DTSTAMP:20260425T232408
CREATED:20260108T193807Z
LAST-MODIFIED:20260108T193807Z
UID:31564-1767898800-1767902400@www.tnpc.org
SUMMARY:Men's Bible Study
DESCRIPTION:
URL:https://www.tnpc.org/event/mens-bible-study/
LOCATION:CE Room 202
CATEGORIES:Men's
END:VEVENT
BEGIN:VEVENT
DTSTART;TZID=America/Chicago:20260113T093000
DTEND;TZID=America/Chicago:20260113T110000
DTSTAMP:20260425T232408
CREATED:20251205T200701Z
LAST-MODIFIED:20251205T200701Z
UID:31180-1768296600-1768302000@www.tnpc.org
SUMMARY:Ladies' Spring Bible Study - Morning
DESCRIPTION:Philippians: Living for Christ (Flourish Bible Study)
URL:https://www.tnpc.org/event/ladies-spring-bible-study-morning/
LOCATION:CE Building\, Rm 204
CATEGORIES:Bible Study,Women's Ministry
END:VEVENT
BEGIN:VEVENT
DTSTART;TZID=America/Chicago:20260113T183000
DTEND;TZID=America/Chicago:20260113T200000
DTSTAMP:20260425T232408
CREATED:20251205T201215Z
LAST-MODIFIED:20251205T201215Z
UID:31204-1768329000-1768334400@www.tnpc.org
SUMMARY:Ladies' Spring Bible Study - Evening
DESCRIPTION:Philippians: Living for Christ (Flourish Bible Study)
URL:https://www.tnpc.org/event/ladies-spring-bible-study-evening/
LOCATION:CE Building\, Rm 204
CATEGORIES:Bible Study,Women's Ministry
END:VEVENT
BEGIN:VEVENT
DTSTART;TZID=America/Chicago:20260115T190000
DTEND;TZID=America/Chicago:20260115T200000
DTSTAMP:20260425T232408
CREATED:20260108T193825Z
LAST-MODIFIED:20260108T193825Z
UID:31566-1768503600-1768507200@www.tnpc.org
SUMMARY:Men's Bible Study
DESCRIPTION:
URL:https://www.tnpc.org/event/mens-bible-study-2/
LOCATION:CE Room 202
CATEGORIES:Men's
END:VEVENT
BEGIN:VEVENT
DTSTART;TZID=America/Chicago:20260120T093000
DTEND;TZID=America/Chicago:20260120T110000
DTSTAMP:20260425T232408
CREATED:20251205T200726Z
LAST-MODIFIED:20251205T200726Z
UID:31182-1768901400-1768906800@www.tnpc.org
SUMMARY:Ladies' Spring Bible Study - Morning
DESCRIPTION:Philippians: Living for Christ (Flourish Bible Study)
URL:https://www.tnpc.org/event/ladies-spring-bible-study-morning-2/
LOCATION:CE Building\, Rm 204
CATEGORIES:Bible Study,Women's Ministry
END:VEVENT
BEGIN:VEVENT
DTSTART;TZID=America/Chicago:20260120T183000
DTEND;TZID=America/Chicago:20260120T200000
DTSTAMP:20260425T232408
CREATED:20251205T201239Z
LAST-MODIFIED:20251205T201239Z
UID:31206-1768933800-1768939200@www.tnpc.org
SUMMARY:Ladies' Spring Bible Study - Evening
DESCRIPTION:Philippians: Living for Christ (Flourish Bible Study)
URL:https://www.tnpc.org/event/ladies-spring-bible-study-evening-2/
LOCATION:CE Building\, Rm 204
CATEGORIES:Bible Study,Women's Ministry
END:VEVENT
BEGIN:VEVENT
DTSTART;TZID=America/Chicago:20260122T190000
DTEND;TZID=America/Chicago:20260122T200000
DTSTAMP:20260425T232408
CREATED:20260108T193837Z
LAST-MODIFIED:20260108T193837Z
UID:31568-1769108400-1769112000@www.tnpc.org
SUMMARY:Men's Bible Study
DESCRIPTION:
URL:https://www.tnpc.org/event/mens-bible-study-3/
LOCATION:CE Room 202
CATEGORIES:Men's
END:VEVENT
BEGIN:VEVENT
DTSTART;TZID=America/Chicago:20260127T093000
DTEND;TZID=America/Chicago:20260127T110000
DTSTAMP:20260425T232408
CREATED:20251205T200805Z
LAST-MODIFIED:20251205T200805Z
UID:31184-1769506200-1769511600@www.tnpc.org
SUMMARY:Ladies' Spring Bible Study - Morning
DESCRIPTION:Philippians: Living for Christ (Flourish Bible Study)
URL:https://www.tnpc.org/event/ladies-spring-bible-study-morning-3/
LOCATION:CE Building\, Rm 204
CATEGORIES:Bible Study,Women's Ministry
END:VEVENT
BEGIN:VEVENT
DTSTART;TZID=America/Chicago:20260127T183000
DTEND;TZID=America/Chicago:20260127T200000
DTSTAMP:20260425T232408
CREATED:20251205T201256Z
LAST-MODIFIED:20251205T201256Z
UID:31208-1769538600-1769544000@www.tnpc.org
SUMMARY:Ladies' Spring Bible Study - Evening
DESCRIPTION:Philippians: Living for Christ (Flourish Bible Study)
URL:https://www.tnpc.org/event/ladies-spring-bible-study-evening-3/
LOCATION:CE Building\, Rm 204
CATEGORIES:Bible Study,Women's Ministry
END:VEVENT
BEGIN:VEVENT
DTSTART;TZID=America/Chicago:20260129T190000
DTEND;TZID=America/Chicago:20260129T200000
DTSTAMP:20260425T232408
CREATED:20260108T193850Z
LAST-MODIFIED:20260108T193850Z
UID:31570-1769713200-1769716800@www.tnpc.org
SUMMARY:Men's Bible Study
DESCRIPTION:
URL:https://www.tnpc.org/event/mens-bible-study-4/
LOCATION:CE Room 202
CATEGORIES:Men's
END:VEVENT
BEGIN:VEVENT
DTSTART;TZID=America/Chicago:20260203T093000
DTEND;TZID=America/Chicago:20260203T110000
DTSTAMP:20260425T232408
CREATED:20251205T200823Z
LAST-MODIFIED:20251205T200823Z
UID:31186-1770111000-1770116400@www.tnpc.org
SUMMARY:Ladies' Spring Bible Study - Morning
DESCRIPTION:Philippians: Living for Christ (Flourish Bible Study)
URL:https://www.tnpc.org/event/ladies-spring-bible-study-morning-4/
LOCATION:CE Building\, Rm 204
CATEGORIES:Bible Study,Women's Ministry
END:VEVENT
BEGIN:VEVENT
DTSTART;TZID=America/Chicago:20260203T183000
DTEND;TZID=America/Chicago:20260203T200000
DTSTAMP:20260425T232408
CREATED:20251205T201436Z
LAST-MODIFIED:20251205T201436Z
UID:31210-1770143400-1770148800@www.tnpc.org
SUMMARY:Ladies' Spring Bible Study - Evening
DESCRIPTION:Philippians: Living for Christ (Flourish Bible Study)
URL:https://www.tnpc.org/event/ladies-spring-bible-study-evening-4/
LOCATION:CE Building\, Rm 204
CATEGORIES:Bible Study,Women's Ministry
END:VEVENT
BEGIN:VEVENT
DTSTART;TZID=America/Chicago:20260205T190000
DTEND;TZID=America/Chicago:20260205T200000
DTSTAMP:20260425T232408
CREATED:20260108T193903Z
LAST-MODIFIED:20260108T193903Z
UID:31572-1770318000-1770321600@www.tnpc.org
SUMMARY:Men's Bible Study
DESCRIPTION:
URL:https://www.tnpc.org/event/mens-bible-study-5/
LOCATION:CE Room 202
CATEGORIES:Men's
END:VEVENT
BEGIN:VEVENT
DTSTART;TZID=America/Chicago:20260210T093000
DTEND;TZID=America/Chicago:20260210T110000
DTSTAMP:20260425T232408
CREATED:20251205T200854Z
LAST-MODIFIED:20251205T200854Z
UID:31188-1770715800-1770721200@www.tnpc.org
SUMMARY:Ladies' Spring Bible Study - Morning
DESCRIPTION:Philippians: Living for Christ (Flourish Bible Study)
URL:https://www.tnpc.org/event/ladies-spring-bible-study-morning-5/
LOCATION:CE Building\, Rm 204
CATEGORIES:Bible Study,Women's Ministry
END:VEVENT
BEGIN:VEVENT
DTSTART;TZID=America/Chicago:20260210T183000
DTEND;TZID=America/Chicago:20260210T200000
DTSTAMP:20260425T232408
CREATED:20251205T201458Z
LAST-MODIFIED:20251205T201458Z
UID:31212-1770748200-1770753600@www.tnpc.org
SUMMARY:Ladies' Spring Bible Study - Evening
DESCRIPTION:Philippians: Living for Christ (Flourish Bible Study)
URL:https://www.tnpc.org/event/ladies-spring-bible-study-evening-5/
LOCATION:CE Building\, Rm 204
CATEGORIES:Bible Study,Women's Ministry
END:VEVENT
BEGIN:VEVENT
DTSTART;TZID=America/Chicago:20260212T190000
DTEND;TZID=America/Chicago:20260212T200000
DTSTAMP:20260425T232408
CREATED:20260108T193915Z
LAST-MODIFIED:20260108T193915Z
UID:31574-1770922800-1770926400@www.tnpc.org
SUMMARY:Men's Bible Study
DESCRIPTION:
URL:https://www.tnpc.org/event/mens-bible-study-6/
LOCATION:CE Room 202
CATEGORIES:Men's
END:VEVENT
BEGIN:VEVENT
DTSTART;TZID=America/Chicago:20260217T093000
DTEND;TZID=America/Chicago:20260217T110000
DTSTAMP:20260425T232408
CREATED:20251205T200910Z
LAST-MODIFIED:20251205T200910Z
UID:31190-1771320600-1771326000@www.tnpc.org
SUMMARY:Ladies' Spring Bible Study - Morning
DESCRIPTION:Philippians: Living for Christ (Flourish Bible Study)
URL:https://www.tnpc.org/event/ladies-spring-bible-study-morning-6/
LOCATION:CE Building\, Rm 204
CATEGORIES:Bible Study,Women's Ministry
END:VEVENT
BEGIN:VEVENT
DTSTART;TZID=America/Chicago:20260217T183000
DTEND;TZID=America/Chicago:20260217T200000
DTSTAMP:20260425T232408
CREATED:20251205T201514Z
LAST-MODIFIED:20251205T201514Z
UID:31214-1771353000-1771358400@www.tnpc.org
SUMMARY:Ladies' Spring Bible Study - Evening
DESCRIPTION:Philippians: Living for Christ (Flourish Bible Study)
URL:https://www.tnpc.org/event/ladies-spring-bible-study-evening-6/
LOCATION:CE Building\, Rm 204
CATEGORIES:Bible Study,Women's Ministry
END:VEVENT
BEGIN:VEVENT
DTSTART;TZID=America/Chicago:20260219T190000
DTEND;TZID=America/Chicago:20260219T200000
DTSTAMP:20260425T232408
CREATED:20260108T193929Z
LAST-MODIFIED:20260108T193929Z
UID:31576-1771527600-1771531200@www.tnpc.org
SUMMARY:Men's Bible Study
DESCRIPTION:
URL:https://www.tnpc.org/event/mens-bible-study-7/
LOCATION:CE Room 202
CATEGORIES:Men's
END:VEVENT
BEGIN:VEVENT
DTSTART;TZID=America/Chicago:20260224T093000
DTEND;TZID=America/Chicago:20260224T110000
DTSTAMP:20260425T232408
CREATED:20251205T200925Z
LAST-MODIFIED:20251205T200925Z
UID:31192-1771925400-1771930800@www.tnpc.org
SUMMARY:Ladies' Spring Bible Study - Morning
DESCRIPTION:Philippians: Living for Christ (Flourish Bible Study)
URL:https://www.tnpc.org/event/ladies-spring-bible-study-morning-7/
LOCATION:CE Building\, Rm 204
CATEGORIES:Bible Study,Women's Ministry
END:VEVENT
BEGIN:VEVENT
DTSTART;TZID=America/Chicago:20260224T183000
DTEND;TZID=America/Chicago:20260224T200000
DTSTAMP:20260425T232408
CREATED:20251205T201535Z
LAST-MODIFIED:20251205T201535Z
UID:31216-1771957800-1771963200@www.tnpc.org
SUMMARY:Ladies' Spring Bible Study - Evening
DESCRIPTION:Philippians: Living for Christ (Flourish Bible Study)
URL:https://www.tnpc.org/event/ladies-spring-bible-study-evening-7/
LOCATION:CE Building\, Rm 204
CATEGORIES:Bible Study,Women's Ministry
END:VEVENT
BEGIN:VEVENT
DTSTART;TZID=America/Chicago:20260226T190000
DTEND;TZID=America/Chicago:20260226T200000
DTSTAMP:20260425T232408
CREATED:20260108T193946Z
LAST-MODIFIED:20260108T193946Z
UID:31578-1772132400-1772136000@www.tnpc.org
SUMMARY:Men's Bible Study
DESCRIPTION:
URL:https://www.tnpc.org/event/mens-bible-study-8/
LOCATION:CE Room 202
CATEGORIES:Men's
END:VEVENT
BEGIN:VEVENT
DTSTART;TZID=America/Chicago:20260303T093000
DTEND;TZID=America/Chicago:20260303T110000
DTSTAMP:20260425T232408
CREATED:20251205T200941Z
LAST-MODIFIED:20251205T200941Z
UID:31194-1772530200-1772535600@www.tnpc.org
SUMMARY:Ladies' Spring Bible Study - Morning
DESCRIPTION:Philippians: Living for Christ (Flourish Bible Study)
URL:https://www.tnpc.org/event/ladies-spring-bible-study-morning-8/
LOCATION:CE Building\, Rm 204
CATEGORIES:Bible Study,Women's Ministry
END:VEVENT
END:VCALENDAR