BEGIN:VCALENDAR
VERSION:2.0
PRODID:-//Town North Presbyterian Church - ECPv6.15.20//NONSGML v1.0//EN
CALSCALE:GREGORIAN
METHOD:PUBLISH
X-WR-CALNAME:Town North Presbyterian Church
X-ORIGINAL-URL:https://www.tnpc.org
X-WR-CALDESC:Events for Town North Presbyterian Church
REFRESH-INTERVAL;VALUE=DURATION:PT1H
X-Robots-Tag:noindex
X-PUBLISHED-TTL:PT1H
BEGIN:VTIMEZONE
TZID:America/Chicago
BEGIN:DAYLIGHT
TZOFFSETFROM:-0600
TZOFFSETTO:-0500
TZNAME:CDT
DTSTART:20250309T080000
END:DAYLIGHT
BEGIN:STANDARD
TZOFFSETFROM:-0500
TZOFFSETTO:-0600
TZNAME:CST
DTSTART:20251102T070000
END:STANDARD
BEGIN:DAYLIGHT
TZOFFSETFROM:-0600
TZOFFSETTO:-0500
TZNAME:CDT
DTSTART:20260308T080000
END:DAYLIGHT
BEGIN:STANDARD
TZOFFSETFROM:-0500
TZOFFSETTO:-0600
TZNAME:CST
DTSTART:20261101T070000
END:STANDARD
BEGIN:DAYLIGHT
TZOFFSETFROM:-0600
TZOFFSETTO:-0500
TZNAME:CDT
DTSTART:20270314T080000
END:DAYLIGHT
BEGIN:STANDARD
TZOFFSETFROM:-0500
TZOFFSETTO:-0600
TZNAME:CST
DTSTART:20271107T070000
END:STANDARD
END:VTIMEZONE
BEGIN:VEVENT
DTSTART;TZID=America/Chicago:20260317T183000
DTEND;TZID=America/Chicago:20260317T200000
DTSTAMP:20260424T065341
CREATED:20251205T201645Z
LAST-MODIFIED:20251205T201645Z
UID:31222-1773772200-1773777600@www.tnpc.org
SUMMARY:Ladies' Spring Bible Study - Evening
DESCRIPTION:Philippians: Living for Christ (Flourish Bible Study)
URL:https://www.tnpc.org/event/ladies-spring-bible-study-evening-10/
LOCATION:CE Building\, Rm 204
CATEGORIES:Bible Study,Women's Ministry
END:VEVENT
BEGIN:VEVENT
DTSTART;TZID=America/Chicago:20260319T190000
DTEND;TZID=America/Chicago:20260319T200000
DTSTAMP:20260424T065342
CREATED:20260108T194025Z
LAST-MODIFIED:20260108T194025Z
UID:31584-1773946800-1773950400@www.tnpc.org
SUMMARY:Men's Bible Study
DESCRIPTION:
URL:https://www.tnpc.org/event/mens-bible-study-11/
LOCATION:CE Room 202
CATEGORIES:Men's
END:VEVENT
BEGIN:VEVENT
DTSTART;TZID=America/Chicago:20260324T093000
DTEND;TZID=America/Chicago:20260324T110000
DTSTAMP:20260424T065342
CREATED:20251205T201032Z
LAST-MODIFIED:20251205T201032Z
UID:31200-1774344600-1774350000@www.tnpc.org
SUMMARY:Ladies' Spring Bible Study - Morning
DESCRIPTION:Philippians: Living for Christ (Flourish Bible Study)
URL:https://www.tnpc.org/event/ladies-spring-bible-study-morning-11/
LOCATION:CE Building\, Rm 204
CATEGORIES:Bible Study,Women's Ministry
END:VEVENT
BEGIN:VEVENT
DTSTART;TZID=America/Chicago:20260324T183000
DTEND;TZID=America/Chicago:20260324T200000
DTSTAMP:20260424T065342
CREATED:20251205T201710Z
LAST-MODIFIED:20251205T201710Z
UID:31224-1774377000-1774382400@www.tnpc.org
SUMMARY:Ladies' Spring Bible Study - Evening
DESCRIPTION:Philippians: Living for Christ (Flourish Bible Study)
URL:https://www.tnpc.org/event/ladies-spring-bible-study-evening-11/
LOCATION:CE Building\, Rm 204
CATEGORIES:Bible Study,Women's Ministry
END:VEVENT
BEGIN:VEVENT
DTSTART;TZID=America/Chicago:20260326T190000
DTEND;TZID=America/Chicago:20260326T200000
DTSTAMP:20260424T065342
CREATED:20260108T194038Z
LAST-MODIFIED:20260108T194038Z
UID:31586-1774551600-1774555200@www.tnpc.org
SUMMARY:Men's Bible Study
DESCRIPTION:
URL:https://www.tnpc.org/event/mens-bible-study-12/
LOCATION:CE Room 202
CATEGORIES:Men's
END:VEVENT
BEGIN:VEVENT
DTSTART;TZID=America/Chicago:20260331T093000
DTEND;TZID=America/Chicago:20260331T110000
DTSTAMP:20260424T065342
CREATED:20251205T201050Z
LAST-MODIFIED:20251205T201050Z
UID:31202-1774949400-1774954800@www.tnpc.org
SUMMARY:Ladies' Spring Bible Study - Morning
DESCRIPTION:Philippians: Living for Christ (Flourish Bible Study)
URL:https://www.tnpc.org/event/ladies-spring-bible-study-morning-12/
LOCATION:CE Building\, Rm 204
CATEGORIES:Bible Study,Women's Ministry
END:VEVENT
BEGIN:VEVENT
DTSTART;TZID=America/Chicago:20260331T183000
DTEND;TZID=America/Chicago:20260331T200000
DTSTAMP:20260424T065342
CREATED:20251205T201728Z
LAST-MODIFIED:20251205T201728Z
UID:31226-1774981800-1774987200@www.tnpc.org
SUMMARY:Ladies' Spring Bible Study - Evening
DESCRIPTION:Philippians: Living for Christ (Flourish Bible Study)
URL:https://www.tnpc.org/event/ladies-spring-bible-study-evening-12/
LOCATION:CE Building\, Rm 204
CATEGORIES:Bible Study,Women's Ministry
END:VEVENT
BEGIN:VEVENT
DTSTART;TZID=America/Chicago:20260402T190000
DTEND;TZID=America/Chicago:20260402T200000
DTSTAMP:20260424T065342
CREATED:20260108T194051Z
LAST-MODIFIED:20260108T194051Z
UID:31588-1775156400-1775160000@www.tnpc.org
SUMMARY:Men's Bible Study
DESCRIPTION:
URL:https://www.tnpc.org/event/mens-bible-study-13/
LOCATION:CE Room 202
CATEGORIES:Men's
END:VEVENT
BEGIN:VEVENT
DTSTART;TZID=America/Chicago:20260409T190000
DTEND;TZID=America/Chicago:20260409T200000
DTSTAMP:20260424T065342
CREATED:20260108T194104Z
LAST-MODIFIED:20260108T194104Z
UID:31590-1775761200-1775764800@www.tnpc.org
SUMMARY:Men's Bible Study
DESCRIPTION:
URL:https://www.tnpc.org/event/mens-bible-study-14/
LOCATION:CE Room 202
CATEGORIES:Men's
END:VEVENT
BEGIN:VEVENT
DTSTART;TZID=America/Chicago:20260416T190000
DTEND;TZID=America/Chicago:20260416T200000
DTSTAMP:20260424T065342
CREATED:20260108T194116Z
LAST-MODIFIED:20260108T194116Z
UID:31592-1776366000-1776369600@www.tnpc.org
SUMMARY:Men's Bible Study
DESCRIPTION:
URL:https://www.tnpc.org/event/mens-bible-study-15/
LOCATION:CE Room 202
CATEGORIES:Men's
END:VEVENT
BEGIN:VEVENT
DTSTART;TZID=America/Chicago:20260423T190000
DTEND;TZID=America/Chicago:20260423T200000
DTSTAMP:20260424T065342
CREATED:20260108T194129Z
LAST-MODIFIED:20260108T194129Z
UID:31594-1776970800-1776974400@www.tnpc.org
SUMMARY:Men's Bible Study
DESCRIPTION:
URL:https://www.tnpc.org/event/mens-bible-study-16/
LOCATION:CE Room 202
CATEGORIES:Men's
END:VEVENT
BEGIN:VEVENT
DTSTART;TZID=America/Chicago:20260430T190000
DTEND;TZID=America/Chicago:20260430T200000
DTSTAMP:20260424T065342
CREATED:20260108T194142Z
LAST-MODIFIED:20260108T194142Z
UID:31596-1777575600-1777579200@www.tnpc.org
SUMMARY:Men's Bible Study
DESCRIPTION:
URL:https://www.tnpc.org/event/mens-bible-study-18/
LOCATION:CE Room 202
CATEGORIES:Men's
END:VEVENT
BEGIN:VEVENT
DTSTART;TZID=America/Chicago:20260507T190000
DTEND;TZID=America/Chicago:20260507T200000
DTSTAMP:20260424T065342
CREATED:20260108T194155Z
LAST-MODIFIED:20260108T194155Z
UID:31598-1778180400-1778184000@www.tnpc.org
SUMMARY:Men's Bible Study
DESCRIPTION:
URL:https://www.tnpc.org/event/mens-bible-study-19/
LOCATION:CE Room 202
CATEGORIES:Men's
END:VEVENT
BEGIN:VEVENT
DTSTART;TZID=America/Chicago:20260514T190000
DTEND;TZID=America/Chicago:20260514T200000
DTSTAMP:20260424T065342
CREATED:20260108T194213Z
LAST-MODIFIED:20260108T194213Z
UID:31600-1778785200-1778788800@www.tnpc.org
SUMMARY:Men's Bible Study
DESCRIPTION:
URL:https://www.tnpc.org/event/mens-bible-study-66/
LOCATION:CE Room 202
CATEGORIES:Men's
END:VEVENT
BEGIN:VEVENT
DTSTART;TZID=America/Chicago:20260519T183000
DTEND;TZID=America/Chicago:20260519T213000
DTSTAMP:20260424T065342
CREATED:20260318T185451Z
LAST-MODIFIED:20260318T185451Z
UID:31831-1779215400-1779226200@www.tnpc.org
SUMMARY:Ladies Summer Bible Study
DESCRIPTION:Joy Beyond Agony by Jane Roach
URL:https://www.tnpc.org/event/ladies-summer-bible-study-9/
LOCATION:CE Building\, Rm 204
CATEGORIES:Bible Study,Women's Ministry
END:VEVENT
BEGIN:VEVENT
DTSTART;TZID=America/Chicago:20260521T190000
DTEND;TZID=America/Chicago:20260521T200000
DTSTAMP:20260424T065342
CREATED:20260108T194224Z
LAST-MODIFIED:20260108T194224Z
UID:31602-1779390000-1779393600@www.tnpc.org
SUMMARY:Men's Bible Study
DESCRIPTION:
URL:https://www.tnpc.org/event/mens-bible-study-67/
LOCATION:CE Room 202
CATEGORIES:Men's
END:VEVENT
BEGIN:VEVENT
DTSTART;TZID=America/Chicago:20260526T183000
DTEND;TZID=America/Chicago:20260526T213000
DTSTAMP:20260424T065342
CREATED:20260318T191913Z
LAST-MODIFIED:20260318T191913Z
UID:31857-1779820200-1779831000@www.tnpc.org
SUMMARY:Ladies Summer Bible Study
DESCRIPTION:Joy Beyond Agony by Jane Roach
URL:https://www.tnpc.org/event/ladies-summer-bible-study-10/
LOCATION:CE Building\, Rm 204
CATEGORIES:Bible Study,Women's Ministry
END:VEVENT
BEGIN:VEVENT
DTSTART;TZID=America/Chicago:20260528T190000
DTEND;TZID=America/Chicago:20260528T200000
DTSTAMP:20260424T065342
CREATED:20260108T194237Z
LAST-MODIFIED:20260108T194237Z
UID:31604-1779994800-1779998400@www.tnpc.org
SUMMARY:Men's Bible Study
DESCRIPTION:
URL:https://www.tnpc.org/event/mens-bible-study-68/
LOCATION:CE Room 202
CATEGORIES:Men's
END:VEVENT
BEGIN:VEVENT
DTSTART;TZID=America/Chicago:20260602T183000
DTEND;TZID=America/Chicago:20260602T213000
DTSTAMP:20260424T065342
CREATED:20260318T191932Z
LAST-MODIFIED:20260318T191932Z
UID:31859-1780425000-1780435800@www.tnpc.org
SUMMARY:Ladies Summer Bible Study
DESCRIPTION:Joy Beyond Agony by Jane Roach
URL:https://www.tnpc.org/event/ladies-summer-bible-study-11/
LOCATION:CE Building\, Rm 204
CATEGORIES:Bible Study,Women's Ministry
END:VEVENT
BEGIN:VEVENT
DTSTART;TZID=America/Chicago:20260609T183000
DTEND;TZID=America/Chicago:20260609T213000
DTSTAMP:20260424T065342
CREATED:20260318T191946Z
LAST-MODIFIED:20260318T191946Z
UID:31861-1781029800-1781040600@www.tnpc.org
SUMMARY:Ladies Summer Bible Study
DESCRIPTION:Joy Beyond Agony by Jane Roach
URL:https://www.tnpc.org/event/ladies-summer-bible-study-12/
LOCATION:CE Building\, Rm 204
CATEGORIES:Bible Study,Women's Ministry
END:VEVENT
BEGIN:VEVENT
DTSTART;TZID=America/Chicago:20260616T183000
DTEND;TZID=America/Chicago:20260616T213000
DTSTAMP:20260424T065342
CREATED:20260318T192003Z
LAST-MODIFIED:20260318T192003Z
UID:31863-1781634600-1781645400@www.tnpc.org
SUMMARY:Ladies Summer Bible Study
DESCRIPTION:Joy Beyond Agony by Jane Roach
URL:https://www.tnpc.org/event/ladies-summer-bible-study-13/
LOCATION:CE Building\, Rm 204
CATEGORIES:Bible Study,Women's Ministry
END:VEVENT
BEGIN:VEVENT
DTSTART;TZID=America/Chicago:20260623T183000
DTEND;TZID=America/Chicago:20260623T213000
DTSTAMP:20260424T065342
CREATED:20260318T192023Z
LAST-MODIFIED:20260318T192023Z
UID:31865-1782239400-1782250200@www.tnpc.org
SUMMARY:Ladies Summer Bible Study
DESCRIPTION:Joy Beyond Agony by Jane Roach
URL:https://www.tnpc.org/event/ladies-summer-bible-study-14/
LOCATION:CE Building\, Rm 204
CATEGORIES:Bible Study,Women's Ministry
END:VEVENT
BEGIN:VEVENT
DTSTART;TZID=America/Chicago:20260630T183000
DTEND;TZID=America/Chicago:20260630T213000
DTSTAMP:20260424T065342
CREATED:20260318T192038Z
LAST-MODIFIED:20260318T192038Z
UID:31867-1782844200-1782855000@www.tnpc.org
SUMMARY:Ladies Summer Bible Study
DESCRIPTION:Joy Beyond Agony by Jane Roach
URL:https://www.tnpc.org/event/ladies-summer-bible-study-15/
LOCATION:CE Building\, Rm 204
CATEGORIES:Bible Study,Women's Ministry
END:VEVENT
BEGIN:VEVENT
DTSTART;TZID=America/Chicago:20260707T183000
DTEND;TZID=America/Chicago:20260707T213000
DTSTAMP:20260424T065342
CREATED:20260318T192054Z
LAST-MODIFIED:20260318T192054Z
UID:31869-1783449000-1783459800@www.tnpc.org
SUMMARY:Ladies Summer Bible Study
DESCRIPTION:Joy Beyond Agony by Jane Roach
URL:https://www.tnpc.org/event/ladies-summer-bible-study-16/
LOCATION:CE Building\, Rm 204
CATEGORIES:Bible Study,Women's Ministry
END:VEVENT
BEGIN:VEVENT
DTSTART;TZID=America/Chicago:20260714T183000
DTEND;TZID=America/Chicago:20260714T213000
DTSTAMP:20260424T065342
CREATED:20260318T192108Z
LAST-MODIFIED:20260318T192108Z
UID:31871-1784053800-1784064600@www.tnpc.org
SUMMARY:Ladies Summer Bible Study
DESCRIPTION:Joy Beyond Agony by Jane Roach
URL:https://www.tnpc.org/event/ladies-summer-bible-study-17/
LOCATION:CE Building\, Rm 204
CATEGORIES:Bible Study,Women's Ministry
END:VEVENT
BEGIN:VEVENT
DTSTART;TZID=America/Chicago:20260721T183000
DTEND;TZID=America/Chicago:20260721T213000
DTSTAMP:20260424T065342
CREATED:20260318T192123Z
LAST-MODIFIED:20260318T192123Z
UID:31873-1784658600-1784669400@www.tnpc.org
SUMMARY:Ladies Summer Bible Study
DESCRIPTION:Joy Beyond Agony by Jane Roach
URL:https://www.tnpc.org/event/ladies-summer-bible-study-18/
LOCATION:CE Building\, Rm 204
CATEGORIES:Bible Study,Women's Ministry
END:VEVENT
BEGIN:VEVENT
DTSTART;TZID=America/Chicago:20260728T183000
DTEND;TZID=America/Chicago:20260728T213000
DTSTAMP:20260424T065342
CREATED:20260318T192136Z
LAST-MODIFIED:20260318T192136Z
UID:31875-1785263400-1785274200@www.tnpc.org
SUMMARY:Ladies Summer Bible Study
DESCRIPTION:Joy Beyond Agony by Jane Roach
URL:https://www.tnpc.org/event/ladies-summer-bible-study-19/
LOCATION:CE Building\, Rm 204
CATEGORIES:Bible Study,Women's Ministry
END:VEVENT
BEGIN:VEVENT
DTSTART;TZID=America/Chicago:20260804T183000
DTEND;TZID=America/Chicago:20260804T213000
DTSTAMP:20260424T065342
CREATED:20260318T192151Z
LAST-MODIFIED:20260318T192151Z
UID:31877-1785868200-1785879000@www.tnpc.org
SUMMARY:Ladies Summer Bible Study
DESCRIPTION:Joy Beyond Agony by Jane Roach
URL:https://www.tnpc.org/event/ladies-summer-bible-study-20/
LOCATION:CE Building\, Rm 204
CATEGORIES:Bible Study,Women's Ministry
END:VEVENT
END:VCALENDAR