BEGIN:VCALENDAR
VERSION:2.0
PRODID:-//Town North Presbyterian Church - ECPv6.15.20//NONSGML v1.0//EN
CALSCALE:GREGORIAN
METHOD:PUBLISH
X-ORIGINAL-URL:https://www.tnpc.org
X-WR-CALDESC:Events for Town North Presbyterian Church
REFRESH-INTERVAL;VALUE=DURATION:PT1H
X-Robots-Tag:noindex
X-PUBLISHED-TTL:PT1H
BEGIN:VTIMEZONE
TZID:America/Chicago
BEGIN:DAYLIGHT
TZOFFSETFROM:-0600
TZOFFSETTO:-0500
TZNAME:CDT
DTSTART:20250309T080000
END:DAYLIGHT
BEGIN:STANDARD
TZOFFSETFROM:-0500
TZOFFSETTO:-0600
TZNAME:CST
DTSTART:20251102T070000
END:STANDARD
BEGIN:DAYLIGHT
TZOFFSETFROM:-0600
TZOFFSETTO:-0500
TZNAME:CDT
DTSTART:20260308T080000
END:DAYLIGHT
BEGIN:STANDARD
TZOFFSETFROM:-0500
TZOFFSETTO:-0600
TZNAME:CST
DTSTART:20261101T070000
END:STANDARD
BEGIN:DAYLIGHT
TZOFFSETFROM:-0600
TZOFFSETTO:-0500
TZNAME:CDT
DTSTART:20270314T080000
END:DAYLIGHT
BEGIN:STANDARD
TZOFFSETFROM:-0500
TZOFFSETTO:-0600
TZNAME:CST
DTSTART:20271107T070000
END:STANDARD
END:VTIMEZONE
BEGIN:VEVENT
DTSTART;VALUE=DATE:20260111
DTEND;VALUE=DATE:20260112
DTSTAMP:20260423T142354
CREATED:20260128T154817Z
LAST-MODIFIED:20260128T154817Z
UID:31668-1768089600-1768175999@www.tnpc.org
SUMMARY:Communion
DESCRIPTION:Typically served on the second and fourth Sundays of the month.
URL:https://www.tnpc.org/event/communion/
LOCATION:Worship Center
END:VEVENT
BEGIN:VEVENT
DTSTART;TZID=America/Chicago:20260111T081500
DTEND;TZID=America/Chicago:20260111T084500
DTSTAMP:20260423T142354
CREATED:20251203T201232Z
LAST-MODIFIED:20251203T201232Z
UID:31049-1768119300-1768121100@www.tnpc.org
SUMMARY:Prayer for Worship
DESCRIPTION:Please join us to call on the Lord together asking Him to work powerfully among us in worship by His Spirit.
URL:https://www.tnpc.org/event/prayer-for-worship-35/
LOCATION:Worship Center
CATEGORIES:Prayer
END:VEVENT
BEGIN:VEVENT
DTSTART;TZID=America/Chicago:20260111T090000
DTEND;TZID=America/Chicago:20260111T100000
DTSTAMP:20260423T142354
CREATED:20251203T201648Z
LAST-MODIFIED:20251203T201648Z
UID:31075-1768122000-1768125600@www.tnpc.org
SUMMARY:Sunday School
DESCRIPTION:For all ages! \nin the CE Building
URL:https://www.tnpc.org/event/sunday-school-21/
LOCATION:CE Bldg
CATEGORIES:Sunday School
END:VEVENT
BEGIN:VEVENT
DTSTART;TZID=America/Chicago:20260111T103000
DTEND;TZID=America/Chicago:20260111T120000
DTSTAMP:20260423T142354
CREATED:20251203T205011Z
LAST-MODIFIED:20251203T205011Z
UID:31105-1768127400-1768132800@www.tnpc.org
SUMMARY:Worship Service
DESCRIPTION:
URL:https://www.tnpc.org/event/worship-service-27/
LOCATION:Worship Center
CATEGORIES:Service
END:VEVENT
END:VCALENDAR