BEGIN:VCALENDAR
VERSION:2.0
PRODID:-//Town North Presbyterian Church - ECPv6.15.20//NONSGML v1.0//EN
CALSCALE:GREGORIAN
METHOD:PUBLISH
X-ORIGINAL-URL:https://www.tnpc.org
X-WR-CALDESC:Events for Town North Presbyterian Church
REFRESH-INTERVAL;VALUE=DURATION:PT1H
X-Robots-Tag:noindex
X-PUBLISHED-TTL:PT1H
BEGIN:VTIMEZONE
TZID:America/Chicago
BEGIN:DAYLIGHT
TZOFFSETFROM:-0600
TZOFFSETTO:-0500
TZNAME:CDT
DTSTART:20240310T080000
END:DAYLIGHT
BEGIN:STANDARD
TZOFFSETFROM:-0500
TZOFFSETTO:-0600
TZNAME:CST
DTSTART:20241103T070000
END:STANDARD
BEGIN:DAYLIGHT
TZOFFSETFROM:-0600
TZOFFSETTO:-0500
TZNAME:CDT
DTSTART:20250309T080000
END:DAYLIGHT
BEGIN:STANDARD
TZOFFSETFROM:-0500
TZOFFSETTO:-0600
TZNAME:CST
DTSTART:20251102T070000
END:STANDARD
BEGIN:DAYLIGHT
TZOFFSETFROM:-0600
TZOFFSETTO:-0500
TZNAME:CDT
DTSTART:20260308T080000
END:DAYLIGHT
BEGIN:STANDARD
TZOFFSETFROM:-0500
TZOFFSETTO:-0600
TZNAME:CST
DTSTART:20261101T070000
END:STANDARD
END:VTIMEZONE
BEGIN:VEVENT
DTSTART;TZID=America/Chicago:20251021T093000
DTEND;TZID=America/Chicago:20251021T110000
DTSTAMP:20260423T180637
CREATED:20250827T194529Z
LAST-MODIFIED:20250827T194529Z
UID:30797-1761039000-1761044400@www.tnpc.org
SUMMARY:Ladies' Fall Bible Study - Morning
DESCRIPTION:Judges: The Path from Chaos to Kingship by Lydia Brownback \nJudges 10:6-12:15 \nFrom Bad to Worse
URL:https://www.tnpc.org/event/ladies-fall-bible-study-morning-7/
LOCATION:CE Building\, Rm 204
CATEGORIES:Bible Study,Women's Ministry
END:VEVENT
BEGIN:VEVENT
DTSTART;TZID=America/Chicago:20251021T183000
DTEND;TZID=America/Chicago:20251021T200000
DTSTAMP:20260423T180637
CREATED:20250827T194503Z
LAST-MODIFIED:20250827T194503Z
UID:30795-1761071400-1761076800@www.tnpc.org
SUMMARY:Ladies' Fall Bible Study - Evening
DESCRIPTION:Judges: The Path from Chaos to Kingship by Lydia Brownback \nJudges 10:6-12:15 \nFrom Bad to Worse
URL:https://www.tnpc.org/event/ladies-fall-bible-study-evening-7/
LOCATION:CE Building\, Rm 204
CATEGORIES:Bible Study,Women's Ministry
END:VEVENT
END:VCALENDAR