BEGIN:VCALENDAR
VERSION:2.0
PRODID:-//Town North Presbyterian Church - ECPv6.15.20//NONSGML v1.0//EN
CALSCALE:GREGORIAN
METHOD:PUBLISH
X-ORIGINAL-URL:https://www.tnpc.org
X-WR-CALDESC:Events for Town North Presbyterian Church
REFRESH-INTERVAL;VALUE=DURATION:PT1H
X-Robots-Tag:noindex
X-PUBLISHED-TTL:PT1H
BEGIN:VTIMEZONE
TZID:America/Chicago
BEGIN:DAYLIGHT
TZOFFSETFROM:-0600
TZOFFSETTO:-0500
TZNAME:CDT
DTSTART:20240310T080000
END:DAYLIGHT
BEGIN:STANDARD
TZOFFSETFROM:-0500
TZOFFSETTO:-0600
TZNAME:CST
DTSTART:20241103T070000
END:STANDARD
BEGIN:DAYLIGHT
TZOFFSETFROM:-0600
TZOFFSETTO:-0500
TZNAME:CDT
DTSTART:20250309T080000
END:DAYLIGHT
BEGIN:STANDARD
TZOFFSETFROM:-0500
TZOFFSETTO:-0600
TZNAME:CST
DTSTART:20251102T070000
END:STANDARD
BEGIN:DAYLIGHT
TZOFFSETFROM:-0600
TZOFFSETTO:-0500
TZNAME:CDT
DTSTART:20260308T080000
END:DAYLIGHT
BEGIN:STANDARD
TZOFFSETFROM:-0500
TZOFFSETTO:-0600
TZNAME:CST
DTSTART:20261101T070000
END:STANDARD
END:VTIMEZONE
BEGIN:VEVENT
DTSTART;TZID=America/Chicago:20251019T081500
DTEND;TZID=America/Chicago:20251019T084500
DTSTAMP:20260423T180636
CREATED:20250828T172132Z
LAST-MODIFIED:20250828T172132Z
UID:30882-1760861700-1760863500@www.tnpc.org
SUMMARY:Prayer for Worship
DESCRIPTION:Please join us to call on the Lord together asking Him to work powerfully among us in worship by His Spirit.
URL:https://www.tnpc.org/event/prayer-for-worship-24/
LOCATION:Worship Center
CATEGORIES:Prayer
END:VEVENT
BEGIN:VEVENT
DTSTART;TZID=America/Chicago:20251019T090000
DTEND;TZID=America/Chicago:20251019T100000
DTSTAMP:20260423T180636
CREATED:20250730T155730Z
LAST-MODIFIED:20250730T155730Z
UID:30659-1760864400-1760868000@www.tnpc.org
SUMMARY:Sunday School
DESCRIPTION:For all ages! \nin the CE Building
URL:https://www.tnpc.org/event/sunday-school-14/
LOCATION:CE Bldg
CATEGORIES:Sunday School
END:VEVENT
BEGIN:VEVENT
DTSTART;TZID=America/Chicago:20251019T103000
DTEND;TZID=America/Chicago:20251019T120000
DTSTAMP:20260423T180636
CREATED:20250522T165708Z
LAST-MODIFIED:20250522T165708Z
UID:30466-1760869800-1760875200@www.tnpc.org
SUMMARY:Worship Service
DESCRIPTION:
URL:https://www.tnpc.org/event/worship-service-15/
LOCATION:Worship Center
CATEGORIES:Service
END:VEVENT
BEGIN:VEVENT
DTSTART;TZID=America/Chicago:20251019T163000
DTEND;TZID=America/Chicago:20251019T180000
DTSTAMP:20260423T180636
CREATED:20250827T192042Z
LAST-MODIFIED:20250827T192042Z
UID:30758-1760891400-1760896800@www.tnpc.org
SUMMARY:Covenant Clubhouse
DESCRIPTION:Join us for catechism\, singing\, and prayer. \nFor children ages 4 – 6th grade
URL:https://www.tnpc.org/event/covenant-clubhouse-7/
LOCATION:Fellowship Hall
CATEGORIES:Children's Ministry
END:VEVENT
END:VCALENDAR