BEGIN:VCALENDAR
VERSION:2.0
PRODID:-//Town North Presbyterian Church - ECPv6.15.20//NONSGML v1.0//EN
CALSCALE:GREGORIAN
METHOD:PUBLISH
X-ORIGINAL-URL:https://www.tnpc.org
X-WR-CALDESC:Events for Town North Presbyterian Church
REFRESH-INTERVAL;VALUE=DURATION:PT1H
X-Robots-Tag:noindex
X-PUBLISHED-TTL:PT1H
BEGIN:VTIMEZONE
TZID:America/Chicago
BEGIN:DAYLIGHT
TZOFFSETFROM:-0600
TZOFFSETTO:-0500
TZNAME:CDT
DTSTART:20240310T080000
END:DAYLIGHT
BEGIN:STANDARD
TZOFFSETFROM:-0500
TZOFFSETTO:-0600
TZNAME:CST
DTSTART:20241103T070000
END:STANDARD
BEGIN:DAYLIGHT
TZOFFSETFROM:-0600
TZOFFSETTO:-0500
TZNAME:CDT
DTSTART:20250309T080000
END:DAYLIGHT
BEGIN:STANDARD
TZOFFSETFROM:-0500
TZOFFSETTO:-0600
TZNAME:CST
DTSTART:20251102T070000
END:STANDARD
BEGIN:DAYLIGHT
TZOFFSETFROM:-0600
TZOFFSETTO:-0500
TZNAME:CDT
DTSTART:20260308T080000
END:DAYLIGHT
BEGIN:STANDARD
TZOFFSETFROM:-0500
TZOFFSETTO:-0600
TZNAME:CST
DTSTART:20261101T070000
END:STANDARD
END:VTIMEZONE
BEGIN:VEVENT
DTSTART;VALUE=DATE:20250427
DTEND;VALUE=DATE:20250428
DTSTAMP:20260424T021536
CREATED:20241219T194122Z
LAST-MODIFIED:20241219T194122Z
UID:29979-1745712000-1745798399@www.tnpc.org
SUMMARY:Communion
DESCRIPTION:Typically celebrated the second and fourth Sundays of the month
URL:https://www.tnpc.org/event/communion-32/
END:VEVENT
BEGIN:VEVENT
DTSTART;TZID=America/Chicago:20250427T081500
DTEND;TZID=America/Chicago:20250427T084500
DTSTAMP:20260424T021536
CREATED:20250520T191418Z
LAST-MODIFIED:20250520T191418Z
UID:30418-1745741700-1745743500@www.tnpc.org
SUMMARY:Prayer for Worship
DESCRIPTION:
URL:https://www.tnpc.org/event/prayer-for-worship-2/
LOCATION:Worship Center
CATEGORIES:Prayer
END:VEVENT
BEGIN:VEVENT
DTSTART;TZID=America/Chicago:20250427T090000
DTEND;TZID=America/Chicago:20250427T100000
DTSTAMP:20260424T021536
CREATED:20241107T204219Z
LAST-MODIFIED:20241107T204219Z
UID:29785-1745744400-1745748000@www.tnpc.org
SUMMARY:Sunday School
DESCRIPTION:For all ages! \nin the CE Building
URL:https://www.tnpc.org/event/sunday-school-50/
LOCATION:CE Bldg
CATEGORIES:Sunday School
END:VEVENT
BEGIN:VEVENT
DTSTART;TZID=America/Chicago:20250427T103000
DTEND;TZID=America/Chicago:20250427T120000
DTSTAMP:20260424T021536
CREATED:20241107T202127Z
LAST-MODIFIED:20241107T202127Z
UID:29683-1745749800-1745755200@www.tnpc.org
SUMMARY:Worship Service
DESCRIPTION:
URL:https://www.tnpc.org/event/worship-service-75/
LOCATION:Worship Center
CATEGORIES:Service
END:VEVENT
BEGIN:VEVENT
DTSTART;TZID=America/Chicago:20250427T170000
DTEND;TZID=America/Chicago:20250427T183000
DTSTAMP:20260424T021536
CREATED:20250123T182020Z
LAST-MODIFIED:20250123T182020Z
UID:30158-1745773200-1745778600@www.tnpc.org
SUMMARY:Covenant Clubhouse
DESCRIPTION:Join us for catechism\, singing\, and prayer. \nFor children ages 4 – 6th grade
URL:https://www.tnpc.org/event/covenant-clubhouse-28/
LOCATION:Fellowship Hall
CATEGORIES:Children's Ministry
END:VEVENT
BEGIN:VEVENT
DTSTART;TZID=America/Chicago:20250427T170000
DTEND;TZID=America/Chicago:20250427T190000
DTSTAMP:20260424T021536
CREATED:20250123T182724Z
LAST-MODIFIED:20250123T182724Z
UID:30185-1745773200-1745780400@www.tnpc.org
SUMMARY:TNPC Youth Group
DESCRIPTION:
URL:https://www.tnpc.org/event/tnpc-youth-group-42/
LOCATION:CE Bldg Rm 200 & 201
CATEGORIES:Youth Ministry
END:VEVENT
END:VCALENDAR